BEGIN:VCALENDAR
VERSION:2.0
PRODID:-//New Jerusalem Missionary Baptist Church | Greenville, Mississippi - - ECPv6.15.20//NONSGML v1.0//EN
CALSCALE:GREGORIAN
METHOD:PUBLISH
X-WR-CALNAME:New Jerusalem Missionary Baptist Church | Greenville, Mississippi -
X-ORIGINAL-URL:https://njmbc1906.org
X-WR-CALDESC:Events for New Jerusalem Missionary Baptist Church | Greenville, Mississippi -
REFRESH-INTERVAL;VALUE=DURATION:PT1H
X-Robots-Tag:noindex
X-PUBLISHED-TTL:PT1H
BEGIN:VTIMEZONE
TZID:America/Chicago
BEGIN:DAYLIGHT
TZOFFSETFROM:-0600
TZOFFSETTO:-0500
TZNAME:CDT
DTSTART:20280312T080000
END:DAYLIGHT
BEGIN:STANDARD
TZOFFSETFROM:-0500
TZOFFSETTO:-0600
TZNAME:CST
DTSTART:20281105T070000
END:STANDARD
BEGIN:DAYLIGHT
TZOFFSETFROM:-0600
TZOFFSETTO:-0500
TZNAME:CDT
DTSTART:20290311T080000
END:DAYLIGHT
BEGIN:STANDARD
TZOFFSETFROM:-0500
TZOFFSETTO:-0600
TZNAME:CST
DTSTART:20291104T070000
END:STANDARD
BEGIN:DAYLIGHT
TZOFFSETFROM:-0600
TZOFFSETTO:-0500
TZNAME:CDT
DTSTART:20300310T080000
END:DAYLIGHT
BEGIN:STANDARD
TZOFFSETFROM:-0500
TZOFFSETTO:-0600
TZNAME:CST
DTSTART:20301103T070000
END:STANDARD
END:VTIMEZONE
BEGIN:VEVENT
DTSTART;TZID=America/Chicago:20290401T083000
DTEND;TZID=America/Chicago:20290401T093000
DTSTAMP:20260420T232748
CREATED:20260107T155825Z
LAST-MODIFIED:20260107T171411Z
UID:10002985-1869726600-1869730200@njmbc1906.org
SUMMARY:In-Person Sunday School
DESCRIPTION:In-person Sunday School is held every Sunday. To learn more about the Sunday School\, visit this link – https://njmbc1906.org/sunday-school/. Also\, if you’re a New Jerusalem member\, and haven’t signed up to receive text messages\, you can sign-up at this link – https://njmbc1906.org/contact/#receivetextmessages. This will help keep you in the overall loop of ministry updates / changes\, events and other things going on at NJMBC.
URL:https://njmbc1906.org/event/in-person-sunday-school/2029-04-01/
LOCATION:MS
CATEGORIES:Sunday School
ATTACH;FMTTYPE=image/png:https://njmbc1906.org/wp-content/uploads/2026/01/In-Person_Sunday_School_Square_NJMBC_Social_Media_Graphic_2026.png
END:VEVENT
BEGIN:VEVENT
DTSTART;TZID=America/Chicago:20290402T180000
DTEND;TZID=America/Chicago:20290402T190000
DTSTAMP:20260420T232748
CREATED:20241008T012725Z
LAST-MODIFIED:20241008T012725Z
UID:10002164-1869847200-1869850800@njmbc1906.org
SUMMARY:Signing & Deaf Ministry Meeting & ASL Practice
DESCRIPTION:The Signing & Deaf Ministry meets and practices ASL on the first Monday of each month from 6 to 7 pm.
URL:https://njmbc1906.org/event/signing-deaf-ministry-meeting-asl-practice/2029-04-02/
LOCATION:MS
END:VEVENT
BEGIN:VEVENT
DTSTART;TZID=America/Chicago:20290402T180000
DTEND;TZID=America/Chicago:20290402T190000
DTSTAMP:20260420T232748
CREATED:20251217T190131Z
LAST-MODIFIED:20251217T190131Z
UID:10002370-1869847200-1869850800@njmbc1906.org
SUMMARY:Men's Ministry Mondays
DESCRIPTION:
URL:https://njmbc1906.org/event/mens-ministry-mondays/2029-04-02/
LOCATION:MS
CATEGORIES:Men's Ministry
ATTACH;FMTTYPE=image/jpeg:https://njmbc1906.org/wp-content/uploads/2023/02/Mens_Ministryl_Mondays_Graphic_New_Jerusalem_Church_Calendar_Thumbnails.jpg
ORGANIZER;CN="Bro. Dewon Hall":MAILTO:mensministry@njmbc1906.org
END:VEVENT
BEGIN:VEVENT
DTSTART;TZID=America/Chicago:20290408T083000
DTEND;TZID=America/Chicago:20290408T093000
DTSTAMP:20260420T232748
CREATED:20260107T155825Z
LAST-MODIFIED:20260107T171411Z
UID:10002986-1870331400-1870335000@njmbc1906.org
SUMMARY:In-Person Sunday School
DESCRIPTION:In-person Sunday School is held every Sunday. To learn more about the Sunday School\, visit this link – https://njmbc1906.org/sunday-school/. Also\, if you’re a New Jerusalem member\, and haven’t signed up to receive text messages\, you can sign-up at this link – https://njmbc1906.org/contact/#receivetextmessages. This will help keep you in the overall loop of ministry updates / changes\, events and other things going on at NJMBC.
URL:https://njmbc1906.org/event/in-person-sunday-school/2029-04-08/
LOCATION:MS
CATEGORIES:Sunday School
ATTACH;FMTTYPE=image/png:https://njmbc1906.org/wp-content/uploads/2026/01/In-Person_Sunday_School_Square_NJMBC_Social_Media_Graphic_2026.png
END:VEVENT
BEGIN:VEVENT
DTSTART;TZID=America/Chicago:20290408T094500
DTEND;TZID=America/Chicago:20290408T110000
DTSTAMP:20260420T232748
CREATED:20240226T044840Z
LAST-MODIFIED:20260113T033055Z
UID:10003159-1870335900-1870340400@njmbc1906.org
SUMMARY:Youth Sunday
DESCRIPTION:
URL:https://njmbc1906.org/event/youth-sunday-2/2029-04-08/
LOCATION:MS
CATEGORIES:Youth Ministry
ATTACH;FMTTYPE=image/png:https://njmbc1906.org/wp-content/uploads/2024/02/Youth_Ministry_Graphic_for_NJMBC_CalendarSquare_NJMBC_Social_Media_Graphic_2023.png
END:VEVENT
BEGIN:VEVENT
DTSTART;TZID=America/Chicago:20290415T083000
DTEND;TZID=America/Chicago:20290415T093000
DTSTAMP:20260420T232748
CREATED:20260107T155825Z
LAST-MODIFIED:20260107T171411Z
UID:10002987-1870936200-1870939800@njmbc1906.org
SUMMARY:In-Person Sunday School
DESCRIPTION:In-person Sunday School is held every Sunday. To learn more about the Sunday School\, visit this link – https://njmbc1906.org/sunday-school/. Also\, if you’re a New Jerusalem member\, and haven’t signed up to receive text messages\, you can sign-up at this link – https://njmbc1906.org/contact/#receivetextmessages. This will help keep you in the overall loop of ministry updates / changes\, events and other things going on at NJMBC.
URL:https://njmbc1906.org/event/in-person-sunday-school/2029-04-15/
LOCATION:MS
CATEGORIES:Sunday School
ATTACH;FMTTYPE=image/png:https://njmbc1906.org/wp-content/uploads/2026/01/In-Person_Sunday_School_Square_NJMBC_Social_Media_Graphic_2026.png
END:VEVENT
BEGIN:VEVENT
DTSTART;TZID=America/Chicago:20290416T180000
DTEND;TZID=America/Chicago:20290416T190000
DTSTAMP:20260420T232748
CREATED:20251217T190131Z
LAST-MODIFIED:20251217T190131Z
UID:10002371-1871056800-1871060400@njmbc1906.org
SUMMARY:Men's Ministry Mondays
DESCRIPTION:
URL:https://njmbc1906.org/event/mens-ministry-mondays/2029-04-16/
LOCATION:MS
CATEGORIES:Men's Ministry
ATTACH;FMTTYPE=image/jpeg:https://njmbc1906.org/wp-content/uploads/2023/02/Mens_Ministryl_Mondays_Graphic_New_Jerusalem_Church_Calendar_Thumbnails.jpg
ORGANIZER;CN="Bro. Dewon Hall":MAILTO:mensministry@njmbc1906.org
END:VEVENT
BEGIN:VEVENT
DTSTART;TZID=America/Chicago:20290422T083000
DTEND;TZID=America/Chicago:20290422T093000
DTSTAMP:20260420T232748
CREATED:20260107T155825Z
LAST-MODIFIED:20260107T171411Z
UID:10002988-1871541000-1871544600@njmbc1906.org
SUMMARY:In-Person Sunday School
DESCRIPTION:In-person Sunday School is held every Sunday. To learn more about the Sunday School\, visit this link – https://njmbc1906.org/sunday-school/. Also\, if you’re a New Jerusalem member\, and haven’t signed up to receive text messages\, you can sign-up at this link – https://njmbc1906.org/contact/#receivetextmessages. This will help keep you in the overall loop of ministry updates / changes\, events and other things going on at NJMBC.
URL:https://njmbc1906.org/event/in-person-sunday-school/2029-04-22/
LOCATION:MS
CATEGORIES:Sunday School
ATTACH;FMTTYPE=image/png:https://njmbc1906.org/wp-content/uploads/2026/01/In-Person_Sunday_School_Square_NJMBC_Social_Media_Graphic_2026.png
END:VEVENT
BEGIN:VEVENT
DTSTART;TZID=America/Chicago:20290429T083000
DTEND;TZID=America/Chicago:20290429T093000
DTSTAMP:20260420T232748
CREATED:20260107T155825Z
LAST-MODIFIED:20260107T171411Z
UID:10002989-1872145800-1872149400@njmbc1906.org
SUMMARY:In-Person Sunday School
DESCRIPTION:In-person Sunday School is held every Sunday. To learn more about the Sunday School\, visit this link – https://njmbc1906.org/sunday-school/. Also\, if you’re a New Jerusalem member\, and haven’t signed up to receive text messages\, you can sign-up at this link – https://njmbc1906.org/contact/#receivetextmessages. This will help keep you in the overall loop of ministry updates / changes\, events and other things going on at NJMBC.
URL:https://njmbc1906.org/event/in-person-sunday-school/2029-04-29/
LOCATION:MS
CATEGORIES:Sunday School
ATTACH;FMTTYPE=image/png:https://njmbc1906.org/wp-content/uploads/2026/01/In-Person_Sunday_School_Square_NJMBC_Social_Media_Graphic_2026.png
END:VEVENT
BEGIN:VEVENT
DTSTART;TZID=America/Chicago:20290430T180000
DTEND;TZID=America/Chicago:20290430T190000
DTSTAMP:20260420T232748
CREATED:20251217T190131Z
LAST-MODIFIED:20251217T190131Z
UID:10002372-1872266400-1872270000@njmbc1906.org
SUMMARY:Men's Ministry Mondays
DESCRIPTION:
URL:https://njmbc1906.org/event/mens-ministry-mondays/2029-04-30/
LOCATION:MS
CATEGORIES:Men's Ministry
ATTACH;FMTTYPE=image/jpeg:https://njmbc1906.org/wp-content/uploads/2023/02/Mens_Ministryl_Mondays_Graphic_New_Jerusalem_Church_Calendar_Thumbnails.jpg
ORGANIZER;CN="Bro. Dewon Hall":MAILTO:mensministry@njmbc1906.org
END:VEVENT
END:VCALENDAR