BEGIN:VCALENDAR
VERSION:2.0
PRODID:-//New Jerusalem Missionary Baptist Church | Greenville, Mississippi - - ECPv6.15.20//NONSGML v1.0//EN
CALSCALE:GREGORIAN
METHOD:PUBLISH
X-ORIGINAL-URL:https://njmbc1906.org
X-WR-CALDESC:Events for New Jerusalem Missionary Baptist Church | Greenville, Mississippi -
REFRESH-INTERVAL;VALUE=DURATION:PT1H
X-Robots-Tag:noindex
X-PUBLISHED-TTL:PT1H
BEGIN:VTIMEZONE
TZID:America/Chicago
BEGIN:DAYLIGHT
TZOFFSETFROM:-0600
TZOFFSETTO:-0500
TZNAME:CDT
DTSTART:20290311T080000
END:DAYLIGHT
BEGIN:STANDARD
TZOFFSETFROM:-0500
TZOFFSETTO:-0600
TZNAME:CST
DTSTART:20291104T070000
END:STANDARD
BEGIN:DAYLIGHT
TZOFFSETFROM:-0600
TZOFFSETTO:-0500
TZNAME:CDT
DTSTART:20300310T080000
END:DAYLIGHT
BEGIN:STANDARD
TZOFFSETFROM:-0500
TZOFFSETTO:-0600
TZNAME:CST
DTSTART:20301103T070000
END:STANDARD
BEGIN:DAYLIGHT
TZOFFSETFROM:-0600
TZOFFSETTO:-0500
TZNAME:CDT
DTSTART:20310309T080000
END:DAYLIGHT
BEGIN:STANDARD
TZOFFSETFROM:-0500
TZOFFSETTO:-0600
TZNAME:CST
DTSTART:20311102T070000
END:STANDARD
END:VTIMEZONE
BEGIN:VEVENT
DTSTART;TZID=America/Chicago:20300309T110000
DTEND;TZID=America/Chicago:20300309T130000
DTSTAMP:20260421T185938
CREATED:20251217T190437Z
LAST-MODIFIED:20251217T191958Z
UID:10002431-1899284400-1899291600@njmbc1906.org
SUMMARY:Boys to Men Workshop
DESCRIPTION:
URL:https://njmbc1906.org/event/boys-to-men-session/2030-03-09/
CATEGORIES:Boys to Men
ATTACH;FMTTYPE=image/png:https://njmbc1906.org/wp-content/uploads/2025/12/Boys_to_Men_Workshop_Square_NJMBC_Social_Media_Graphic_202522.png
END:VEVENT
BEGIN:VEVENT
DTSTART;TZID=America/Chicago:20300310T083000
DTEND;TZID=America/Chicago:20300310T093000
DTSTAMP:20260421T185938
CREATED:20260107T155825Z
LAST-MODIFIED:20260107T171411Z
UID:10003034-1899361800-1899365400@njmbc1906.org
SUMMARY:In-Person Sunday School
DESCRIPTION:In-person Sunday School is held every Sunday. To learn more about the Sunday School\, visit this link – https://njmbc1906.org/sunday-school/. Also\, if you’re a New Jerusalem member\, and haven’t signed up to receive text messages\, you can sign-up at this link – https://njmbc1906.org/contact/#receivetextmessages. This will help keep you in the overall loop of ministry updates / changes\, events and other things going on at NJMBC.
URL:https://njmbc1906.org/event/in-person-sunday-school/2030-03-10/
CATEGORIES:Sunday School
ATTACH;FMTTYPE=image/png:https://njmbc1906.org/wp-content/uploads/2026/01/In-Person_Sunday_School_Square_NJMBC_Social_Media_Graphic_2026.png
END:VEVENT
BEGIN:VEVENT
DTSTART;TZID=America/Chicago:20300310T094500
DTEND;TZID=America/Chicago:20300310T110000
DTSTAMP:20260421T185938
CREATED:20240226T044840Z
LAST-MODIFIED:20260113T033055Z
UID:10003170-1899366300-1899370800@njmbc1906.org
SUMMARY:Youth Sunday
DESCRIPTION:
URL:https://njmbc1906.org/event/youth-sunday-2/2030-03-10/
CATEGORIES:Youth Ministry
ATTACH;FMTTYPE=image/png:https://njmbc1906.org/wp-content/uploads/2024/02/Youth_Ministry_Graphic_for_NJMBC_CalendarSquare_NJMBC_Social_Media_Graphic_2023.png
END:VEVENT
BEGIN:VEVENT
DTSTART;TZID=America/Chicago:20300317T083000
DTEND;TZID=America/Chicago:20300317T093000
DTSTAMP:20260421T185938
CREATED:20260107T155825Z
LAST-MODIFIED:20260107T171411Z
UID:10003035-1899966600-1899970200@njmbc1906.org
SUMMARY:In-Person Sunday School
DESCRIPTION:In-person Sunday School is held every Sunday. To learn more about the Sunday School\, visit this link – https://njmbc1906.org/sunday-school/. Also\, if you’re a New Jerusalem member\, and haven’t signed up to receive text messages\, you can sign-up at this link – https://njmbc1906.org/contact/#receivetextmessages. This will help keep you in the overall loop of ministry updates / changes\, events and other things going on at NJMBC.
URL:https://njmbc1906.org/event/in-person-sunday-school/2030-03-17/
CATEGORIES:Sunday School
ATTACH;FMTTYPE=image/png:https://njmbc1906.org/wp-content/uploads/2026/01/In-Person_Sunday_School_Square_NJMBC_Social_Media_Graphic_2026.png
END:VEVENT
BEGIN:VEVENT
DTSTART;TZID=America/Chicago:20300318T180000
DTEND;TZID=America/Chicago:20300318T190000
DTSTAMP:20260421T185938
CREATED:20251217T190131Z
LAST-MODIFIED:20251217T190131Z
UID:10002395-1900087200-1900090800@njmbc1906.org
SUMMARY:Men's Ministry Mondays
DESCRIPTION:
URL:https://njmbc1906.org/event/mens-ministry-mondays/2030-03-18/
CATEGORIES:Men's Ministry
ATTACH;FMTTYPE=image/jpeg:https://njmbc1906.org/wp-content/uploads/2023/02/Mens_Ministryl_Mondays_Graphic_New_Jerusalem_Church_Calendar_Thumbnails.jpg
ORGANIZER;CN="Bro. Dewon Hall":MAILTO:mensministry@njmbc1906.org
END:VEVENT
BEGIN:VEVENT
DTSTART;TZID=America/Chicago:20300324T083000
DTEND;TZID=America/Chicago:20300324T093000
DTSTAMP:20260421T185938
CREATED:20260107T155825Z
LAST-MODIFIED:20260107T171411Z
UID:10003036-1900571400-1900575000@njmbc1906.org
SUMMARY:In-Person Sunday School
DESCRIPTION:In-person Sunday School is held every Sunday. To learn more about the Sunday School\, visit this link – https://njmbc1906.org/sunday-school/. Also\, if you’re a New Jerusalem member\, and haven’t signed up to receive text messages\, you can sign-up at this link – https://njmbc1906.org/contact/#receivetextmessages. This will help keep you in the overall loop of ministry updates / changes\, events and other things going on at NJMBC.
URL:https://njmbc1906.org/event/in-person-sunday-school/2030-03-24/
CATEGORIES:Sunday School
ATTACH;FMTTYPE=image/png:https://njmbc1906.org/wp-content/uploads/2026/01/In-Person_Sunday_School_Square_NJMBC_Social_Media_Graphic_2026.png
END:VEVENT
BEGIN:VEVENT
DTSTART;TZID=America/Chicago:20300331T083000
DTEND;TZID=America/Chicago:20300331T093000
DTSTAMP:20260421T185938
CREATED:20260107T155825Z
LAST-MODIFIED:20260107T171411Z
UID:10003037-1901176200-1901179800@njmbc1906.org
SUMMARY:In-Person Sunday School
DESCRIPTION:In-person Sunday School is held every Sunday. To learn more about the Sunday School\, visit this link – https://njmbc1906.org/sunday-school/. Also\, if you’re a New Jerusalem member\, and haven’t signed up to receive text messages\, you can sign-up at this link – https://njmbc1906.org/contact/#receivetextmessages. This will help keep you in the overall loop of ministry updates / changes\, events and other things going on at NJMBC.
URL:https://njmbc1906.org/event/in-person-sunday-school/2030-03-31/
CATEGORIES:Sunday School
ATTACH;FMTTYPE=image/png:https://njmbc1906.org/wp-content/uploads/2026/01/In-Person_Sunday_School_Square_NJMBC_Social_Media_Graphic_2026.png
END:VEVENT
BEGIN:VEVENT
DTSTART;TZID=America/Chicago:20300401T180000
DTEND;TZID=America/Chicago:20300401T190000
DTSTAMP:20260421T185938
CREATED:20251217T190131Z
LAST-MODIFIED:20251217T190131Z
UID:10002396-1901296800-1901300400@njmbc1906.org
SUMMARY:Men's Ministry Mondays
DESCRIPTION:
URL:https://njmbc1906.org/event/mens-ministry-mondays/2030-04-01/
CATEGORIES:Men's Ministry
ATTACH;FMTTYPE=image/jpeg:https://njmbc1906.org/wp-content/uploads/2023/02/Mens_Ministryl_Mondays_Graphic_New_Jerusalem_Church_Calendar_Thumbnails.jpg
ORGANIZER;CN="Bro. Dewon Hall":MAILTO:mensministry@njmbc1906.org
END:VEVENT
BEGIN:VEVENT
DTSTART;TZID=America/Chicago:20300407T083000
DTEND;TZID=America/Chicago:20300407T093000
DTSTAMP:20260421T185938
CREATED:20260107T155825Z
LAST-MODIFIED:20260107T171411Z
UID:10003038-1901781000-1901784600@njmbc1906.org
SUMMARY:In-Person Sunday School
DESCRIPTION:In-person Sunday School is held every Sunday. To learn more about the Sunday School\, visit this link – https://njmbc1906.org/sunday-school/. Also\, if you’re a New Jerusalem member\, and haven’t signed up to receive text messages\, you can sign-up at this link – https://njmbc1906.org/contact/#receivetextmessages. This will help keep you in the overall loop of ministry updates / changes\, events and other things going on at NJMBC.
URL:https://njmbc1906.org/event/in-person-sunday-school/2030-04-07/
CATEGORIES:Sunday School
ATTACH;FMTTYPE=image/png:https://njmbc1906.org/wp-content/uploads/2026/01/In-Person_Sunday_School_Square_NJMBC_Social_Media_Graphic_2026.png
END:VEVENT
BEGIN:VEVENT
DTSTART;TZID=America/Chicago:20300414T083000
DTEND;TZID=America/Chicago:20300414T093000
DTSTAMP:20260421T185938
CREATED:20260107T155825Z
LAST-MODIFIED:20260107T171411Z
UID:10003039-1902385800-1902389400@njmbc1906.org
SUMMARY:In-Person Sunday School
DESCRIPTION:In-person Sunday School is held every Sunday. To learn more about the Sunday School\, visit this link – https://njmbc1906.org/sunday-school/. Also\, if you’re a New Jerusalem member\, and haven’t signed up to receive text messages\, you can sign-up at this link – https://njmbc1906.org/contact/#receivetextmessages. This will help keep you in the overall loop of ministry updates / changes\, events and other things going on at NJMBC.
URL:https://njmbc1906.org/event/in-person-sunday-school/2030-04-14/
CATEGORIES:Sunday School
ATTACH;FMTTYPE=image/png:https://njmbc1906.org/wp-content/uploads/2026/01/In-Person_Sunday_School_Square_NJMBC_Social_Media_Graphic_2026.png
END:VEVENT
BEGIN:VEVENT
DTSTART;TZID=America/Chicago:20300414T094500
DTEND;TZID=America/Chicago:20300414T110000
DTSTAMP:20260421T185938
CREATED:20240226T044840Z
LAST-MODIFIED:20260113T033055Z
UID:10003171-1902390300-1902394800@njmbc1906.org
SUMMARY:Youth Sunday
DESCRIPTION:
URL:https://njmbc1906.org/event/youth-sunday-2/2030-04-14/
CATEGORIES:Youth Ministry
ATTACH;FMTTYPE=image/png:https://njmbc1906.org/wp-content/uploads/2024/02/Youth_Ministry_Graphic_for_NJMBC_CalendarSquare_NJMBC_Social_Media_Graphic_2023.png
END:VEVENT
BEGIN:VEVENT
DTSTART;TZID=America/Chicago:20300415T180000
DTEND;TZID=America/Chicago:20300415T190000
DTSTAMP:20260421T185938
CREATED:20251217T190131Z
LAST-MODIFIED:20251217T190131Z
UID:10002397-1902506400-1902510000@njmbc1906.org
SUMMARY:Men's Ministry Mondays
DESCRIPTION:
URL:https://njmbc1906.org/event/mens-ministry-mondays/2030-04-15/
CATEGORIES:Men's Ministry
ATTACH;FMTTYPE=image/jpeg:https://njmbc1906.org/wp-content/uploads/2023/02/Mens_Ministryl_Mondays_Graphic_New_Jerusalem_Church_Calendar_Thumbnails.jpg
ORGANIZER;CN="Bro. Dewon Hall":MAILTO:mensministry@njmbc1906.org
END:VEVENT
BEGIN:VEVENT
DTSTART;TZID=America/Chicago:20300421T083000
DTEND;TZID=America/Chicago:20300421T093000
DTSTAMP:20260421T185938
CREATED:20260107T155825Z
LAST-MODIFIED:20260107T171411Z
UID:10003040-1902990600-1902994200@njmbc1906.org
SUMMARY:In-Person Sunday School
DESCRIPTION:In-person Sunday School is held every Sunday. To learn more about the Sunday School\, visit this link – https://njmbc1906.org/sunday-school/. Also\, if you’re a New Jerusalem member\, and haven’t signed up to receive text messages\, you can sign-up at this link – https://njmbc1906.org/contact/#receivetextmessages. This will help keep you in the overall loop of ministry updates / changes\, events and other things going on at NJMBC.
URL:https://njmbc1906.org/event/in-person-sunday-school/2030-04-21/
CATEGORIES:Sunday School
ATTACH;FMTTYPE=image/png:https://njmbc1906.org/wp-content/uploads/2026/01/In-Person_Sunday_School_Square_NJMBC_Social_Media_Graphic_2026.png
END:VEVENT
BEGIN:VEVENT
DTSTART;TZID=America/Chicago:20300428T083000
DTEND;TZID=America/Chicago:20300428T093000
DTSTAMP:20260421T185938
CREATED:20260107T155825Z
LAST-MODIFIED:20260107T171411Z
UID:10003041-1903595400-1903599000@njmbc1906.org
SUMMARY:In-Person Sunday School
DESCRIPTION:In-person Sunday School is held every Sunday. To learn more about the Sunday School\, visit this link – https://njmbc1906.org/sunday-school/. Also\, if you’re a New Jerusalem member\, and haven’t signed up to receive text messages\, you can sign-up at this link – https://njmbc1906.org/contact/#receivetextmessages. This will help keep you in the overall loop of ministry updates / changes\, events and other things going on at NJMBC.
URL:https://njmbc1906.org/event/in-person-sunday-school/2030-04-28/
CATEGORIES:Sunday School
ATTACH;FMTTYPE=image/png:https://njmbc1906.org/wp-content/uploads/2026/01/In-Person_Sunday_School_Square_NJMBC_Social_Media_Graphic_2026.png
END:VEVENT
BEGIN:VEVENT
DTSTART;TZID=America/Chicago:20300429T180000
DTEND;TZID=America/Chicago:20300429T190000
DTSTAMP:20260421T185938
CREATED:20251217T190131Z
LAST-MODIFIED:20251217T190131Z
UID:10002398-1903716000-1903719600@njmbc1906.org
SUMMARY:Men's Ministry Mondays
DESCRIPTION:
URL:https://njmbc1906.org/event/mens-ministry-mondays/2030-04-29/
CATEGORIES:Men's Ministry
ATTACH;FMTTYPE=image/jpeg:https://njmbc1906.org/wp-content/uploads/2023/02/Mens_Ministryl_Mondays_Graphic_New_Jerusalem_Church_Calendar_Thumbnails.jpg
ORGANIZER;CN="Bro. Dewon Hall":MAILTO:mensministry@njmbc1906.org
END:VEVENT
BEGIN:VEVENT
DTSTART;TZID=America/Chicago:20300505T083000
DTEND;TZID=America/Chicago:20300505T093000
DTSTAMP:20260421T185938
CREATED:20260107T155825Z
LAST-MODIFIED:20260107T171411Z
UID:10003042-1904200200-1904203800@njmbc1906.org
SUMMARY:In-Person Sunday School
DESCRIPTION:In-person Sunday School is held every Sunday. To learn more about the Sunday School\, visit this link – https://njmbc1906.org/sunday-school/. Also\, if you’re a New Jerusalem member\, and haven’t signed up to receive text messages\, you can sign-up at this link – https://njmbc1906.org/contact/#receivetextmessages. This will help keep you in the overall loop of ministry updates / changes\, events and other things going on at NJMBC.
URL:https://njmbc1906.org/event/in-person-sunday-school/2030-05-05/
CATEGORIES:Sunday School
ATTACH;FMTTYPE=image/png:https://njmbc1906.org/wp-content/uploads/2026/01/In-Person_Sunday_School_Square_NJMBC_Social_Media_Graphic_2026.png
END:VEVENT
BEGIN:VEVENT
DTSTART;TZID=America/Chicago:20300512T083000
DTEND;TZID=America/Chicago:20300512T093000
DTSTAMP:20260421T185938
CREATED:20260107T155825Z
LAST-MODIFIED:20260107T171411Z
UID:10003043-1904805000-1904808600@njmbc1906.org
SUMMARY:In-Person Sunday School
DESCRIPTION:In-person Sunday School is held every Sunday. To learn more about the Sunday School\, visit this link – https://njmbc1906.org/sunday-school/. Also\, if you’re a New Jerusalem member\, and haven’t signed up to receive text messages\, you can sign-up at this link – https://njmbc1906.org/contact/#receivetextmessages. This will help keep you in the overall loop of ministry updates / changes\, events and other things going on at NJMBC.
URL:https://njmbc1906.org/event/in-person-sunday-school/2030-05-12/
CATEGORIES:Sunday School
ATTACH;FMTTYPE=image/png:https://njmbc1906.org/wp-content/uploads/2026/01/In-Person_Sunday_School_Square_NJMBC_Social_Media_Graphic_2026.png
END:VEVENT
BEGIN:VEVENT
DTSTART;TZID=America/Chicago:20300512T094500
DTEND;TZID=America/Chicago:20300512T110000
DTSTAMP:20260421T185938
CREATED:20240226T044840Z
LAST-MODIFIED:20260113T033055Z
UID:10003172-1904809500-1904814000@njmbc1906.org
SUMMARY:Youth Sunday
DESCRIPTION:
URL:https://njmbc1906.org/event/youth-sunday-2/2030-05-12/
CATEGORIES:Youth Ministry
ATTACH;FMTTYPE=image/png:https://njmbc1906.org/wp-content/uploads/2024/02/Youth_Ministry_Graphic_for_NJMBC_CalendarSquare_NJMBC_Social_Media_Graphic_2023.png
END:VEVENT
BEGIN:VEVENT
DTSTART;TZID=America/Chicago:20300513T180000
DTEND;TZID=America/Chicago:20300513T190000
DTSTAMP:20260421T185938
CREATED:20251217T190131Z
LAST-MODIFIED:20251217T190131Z
UID:10002399-1904925600-1904929200@njmbc1906.org
SUMMARY:Men's Ministry Mondays
DESCRIPTION:
URL:https://njmbc1906.org/event/mens-ministry-mondays/2030-05-13/
CATEGORIES:Men's Ministry
ATTACH;FMTTYPE=image/jpeg:https://njmbc1906.org/wp-content/uploads/2023/02/Mens_Ministryl_Mondays_Graphic_New_Jerusalem_Church_Calendar_Thumbnails.jpg
ORGANIZER;CN="Bro. Dewon Hall":MAILTO:mensministry@njmbc1906.org
END:VEVENT
BEGIN:VEVENT
DTSTART;TZID=America/Chicago:20300519T083000
DTEND;TZID=America/Chicago:20300519T093000
DTSTAMP:20260421T185938
CREATED:20260107T155825Z
LAST-MODIFIED:20260107T171411Z
UID:10003044-1905409800-1905413400@njmbc1906.org
SUMMARY:In-Person Sunday School
DESCRIPTION:In-person Sunday School is held every Sunday. To learn more about the Sunday School\, visit this link – https://njmbc1906.org/sunday-school/. Also\, if you’re a New Jerusalem member\, and haven’t signed up to receive text messages\, you can sign-up at this link – https://njmbc1906.org/contact/#receivetextmessages. This will help keep you in the overall loop of ministry updates / changes\, events and other things going on at NJMBC.
URL:https://njmbc1906.org/event/in-person-sunday-school/2030-05-19/
CATEGORIES:Sunday School
ATTACH;FMTTYPE=image/png:https://njmbc1906.org/wp-content/uploads/2026/01/In-Person_Sunday_School_Square_NJMBC_Social_Media_Graphic_2026.png
END:VEVENT
BEGIN:VEVENT
DTSTART;TZID=America/Chicago:20300526T083000
DTEND;TZID=America/Chicago:20300526T093000
DTSTAMP:20260421T185938
CREATED:20260107T155825Z
LAST-MODIFIED:20260107T171411Z
UID:10003045-1906014600-1906018200@njmbc1906.org
SUMMARY:In-Person Sunday School
DESCRIPTION:In-person Sunday School is held every Sunday. To learn more about the Sunday School\, visit this link – https://njmbc1906.org/sunday-school/. Also\, if you’re a New Jerusalem member\, and haven’t signed up to receive text messages\, you can sign-up at this link – https://njmbc1906.org/contact/#receivetextmessages. This will help keep you in the overall loop of ministry updates / changes\, events and other things going on at NJMBC.
URL:https://njmbc1906.org/event/in-person-sunday-school/2030-05-26/
CATEGORIES:Sunday School
ATTACH;FMTTYPE=image/png:https://njmbc1906.org/wp-content/uploads/2026/01/In-Person_Sunday_School_Square_NJMBC_Social_Media_Graphic_2026.png
END:VEVENT
BEGIN:VEVENT
DTSTART;TZID=America/Chicago:20300527T180000
DTEND;TZID=America/Chicago:20300527T190000
DTSTAMP:20260421T185938
CREATED:20251217T190131Z
LAST-MODIFIED:20251217T190131Z
UID:10002400-1906135200-1906138800@njmbc1906.org
SUMMARY:Men's Ministry Mondays
DESCRIPTION:
URL:https://njmbc1906.org/event/mens-ministry-mondays/2030-05-27/
CATEGORIES:Men's Ministry
ATTACH;FMTTYPE=image/jpeg:https://njmbc1906.org/wp-content/uploads/2023/02/Mens_Ministryl_Mondays_Graphic_New_Jerusalem_Church_Calendar_Thumbnails.jpg
ORGANIZER;CN="Bro. Dewon Hall":MAILTO:mensministry@njmbc1906.org
END:VEVENT
BEGIN:VEVENT
DTSTART;TZID=America/Chicago:20300602T083000
DTEND;TZID=America/Chicago:20300602T093000
DTSTAMP:20260421T185938
CREATED:20260107T155825Z
LAST-MODIFIED:20260107T171411Z
UID:10003046-1906619400-1906623000@njmbc1906.org
SUMMARY:In-Person Sunday School
DESCRIPTION:In-person Sunday School is held every Sunday. To learn more about the Sunday School\, visit this link – https://njmbc1906.org/sunday-school/. Also\, if you’re a New Jerusalem member\, and haven’t signed up to receive text messages\, you can sign-up at this link – https://njmbc1906.org/contact/#receivetextmessages. This will help keep you in the overall loop of ministry updates / changes\, events and other things going on at NJMBC.
URL:https://njmbc1906.org/event/in-person-sunday-school/2030-06-02/
CATEGORIES:Sunday School
ATTACH;FMTTYPE=image/png:https://njmbc1906.org/wp-content/uploads/2026/01/In-Person_Sunday_School_Square_NJMBC_Social_Media_Graphic_2026.png
END:VEVENT
BEGIN:VEVENT
DTSTART;TZID=America/Chicago:20300608T110000
DTEND;TZID=America/Chicago:20300608T130000
DTSTAMP:20260421T185938
CREATED:20251217T190437Z
LAST-MODIFIED:20251217T191958Z
UID:10002432-1907146800-1907154000@njmbc1906.org
SUMMARY:Boys to Men Workshop
DESCRIPTION:
URL:https://njmbc1906.org/event/boys-to-men-session/2030-06-08/
CATEGORIES:Boys to Men
ATTACH;FMTTYPE=image/png:https://njmbc1906.org/wp-content/uploads/2025/12/Boys_to_Men_Workshop_Square_NJMBC_Social_Media_Graphic_202522.png
END:VEVENT
BEGIN:VEVENT
DTSTART;TZID=America/Chicago:20300609T083000
DTEND;TZID=America/Chicago:20300609T093000
DTSTAMP:20260421T185938
CREATED:20260107T155825Z
LAST-MODIFIED:20260107T171411Z
UID:10003047-1907224200-1907227800@njmbc1906.org
SUMMARY:In-Person Sunday School
DESCRIPTION:In-person Sunday School is held every Sunday. To learn more about the Sunday School\, visit this link – https://njmbc1906.org/sunday-school/. Also\, if you’re a New Jerusalem member\, and haven’t signed up to receive text messages\, you can sign-up at this link – https://njmbc1906.org/contact/#receivetextmessages. This will help keep you in the overall loop of ministry updates / changes\, events and other things going on at NJMBC.
URL:https://njmbc1906.org/event/in-person-sunday-school/2030-06-09/
CATEGORIES:Sunday School
ATTACH;FMTTYPE=image/png:https://njmbc1906.org/wp-content/uploads/2026/01/In-Person_Sunday_School_Square_NJMBC_Social_Media_Graphic_2026.png
END:VEVENT
BEGIN:VEVENT
DTSTART;TZID=America/Chicago:20300609T094500
DTEND;TZID=America/Chicago:20300609T110000
DTSTAMP:20260421T185938
CREATED:20240226T044840Z
LAST-MODIFIED:20260113T033055Z
UID:10003173-1907228700-1907233200@njmbc1906.org
SUMMARY:Youth Sunday
DESCRIPTION:
URL:https://njmbc1906.org/event/youth-sunday-2/2030-06-09/
CATEGORIES:Youth Ministry
ATTACH;FMTTYPE=image/png:https://njmbc1906.org/wp-content/uploads/2024/02/Youth_Ministry_Graphic_for_NJMBC_CalendarSquare_NJMBC_Social_Media_Graphic_2023.png
END:VEVENT
BEGIN:VEVENT
DTSTART;TZID=America/Chicago:20300610T180000
DTEND;TZID=America/Chicago:20300610T190000
DTSTAMP:20260421T185938
CREATED:20251217T190131Z
LAST-MODIFIED:20251217T190131Z
UID:10002401-1907344800-1907348400@njmbc1906.org
SUMMARY:Men's Ministry Mondays
DESCRIPTION:
URL:https://njmbc1906.org/event/mens-ministry-mondays/2030-06-10/
CATEGORIES:Men's Ministry
ATTACH;FMTTYPE=image/jpeg:https://njmbc1906.org/wp-content/uploads/2023/02/Mens_Ministryl_Mondays_Graphic_New_Jerusalem_Church_Calendar_Thumbnails.jpg
ORGANIZER;CN="Bro. Dewon Hall":MAILTO:mensministry@njmbc1906.org
END:VEVENT
BEGIN:VEVENT
DTSTART;TZID=America/Chicago:20300616T083000
DTEND;TZID=America/Chicago:20300616T093000
DTSTAMP:20260421T185938
CREATED:20260107T155825Z
LAST-MODIFIED:20260107T171411Z
UID:10003048-1907829000-1907832600@njmbc1906.org
SUMMARY:In-Person Sunday School
DESCRIPTION:In-person Sunday School is held every Sunday. To learn more about the Sunday School\, visit this link – https://njmbc1906.org/sunday-school/. Also\, if you’re a New Jerusalem member\, and haven’t signed up to receive text messages\, you can sign-up at this link – https://njmbc1906.org/contact/#receivetextmessages. This will help keep you in the overall loop of ministry updates / changes\, events and other things going on at NJMBC.
URL:https://njmbc1906.org/event/in-person-sunday-school/2030-06-16/
CATEGORIES:Sunday School
ATTACH;FMTTYPE=image/png:https://njmbc1906.org/wp-content/uploads/2026/01/In-Person_Sunday_School_Square_NJMBC_Social_Media_Graphic_2026.png
END:VEVENT
BEGIN:VEVENT
DTSTART;TZID=America/Chicago:20300623T083000
DTEND;TZID=America/Chicago:20300623T093000
DTSTAMP:20260421T185938
CREATED:20260107T155825Z
LAST-MODIFIED:20260107T171411Z
UID:10003049-1908433800-1908437400@njmbc1906.org
SUMMARY:In-Person Sunday School
DESCRIPTION:In-person Sunday School is held every Sunday. To learn more about the Sunday School\, visit this link – https://njmbc1906.org/sunday-school/. Also\, if you’re a New Jerusalem member\, and haven’t signed up to receive text messages\, you can sign-up at this link – https://njmbc1906.org/contact/#receivetextmessages. This will help keep you in the overall loop of ministry updates / changes\, events and other things going on at NJMBC.
URL:https://njmbc1906.org/event/in-person-sunday-school/2030-06-23/
CATEGORIES:Sunday School
ATTACH;FMTTYPE=image/png:https://njmbc1906.org/wp-content/uploads/2026/01/In-Person_Sunday_School_Square_NJMBC_Social_Media_Graphic_2026.png
END:VEVENT
BEGIN:VEVENT
DTSTART;TZID=America/Chicago:20300624T180000
DTEND;TZID=America/Chicago:20300624T190000
DTSTAMP:20260421T185938
CREATED:20251217T190131Z
LAST-MODIFIED:20251217T190131Z
UID:10002402-1908554400-1908558000@njmbc1906.org
SUMMARY:Men's Ministry Mondays
DESCRIPTION:
URL:https://njmbc1906.org/event/mens-ministry-mondays/2030-06-24/
CATEGORIES:Men's Ministry
ATTACH;FMTTYPE=image/jpeg:https://njmbc1906.org/wp-content/uploads/2023/02/Mens_Ministryl_Mondays_Graphic_New_Jerusalem_Church_Calendar_Thumbnails.jpg
ORGANIZER;CN="Bro. Dewon Hall":MAILTO:mensministry@njmbc1906.org
END:VEVENT
END:VCALENDAR