BEGIN:VCALENDAR
VERSION:2.0
PRODID:-//New Jerusalem Missionary Baptist Church | Greenville, Mississippi - - ECPv6.15.20//NONSGML v1.0//EN
CALSCALE:GREGORIAN
METHOD:PUBLISH
X-ORIGINAL-URL:https://njmbc1906.org
X-WR-CALDESC:Events for New Jerusalem Missionary Baptist Church | Greenville, Mississippi -
REFRESH-INTERVAL;VALUE=DURATION:PT1H
X-Robots-Tag:noindex
X-PUBLISHED-TTL:PT1H
BEGIN:VTIMEZONE
TZID:America/Chicago
BEGIN:DAYLIGHT
TZOFFSETFROM:-0600
TZOFFSETTO:-0500
TZNAME:CDT
DTSTART:20230312T080000
END:DAYLIGHT
BEGIN:STANDARD
TZOFFSETFROM:-0500
TZOFFSETTO:-0600
TZNAME:CST
DTSTART:20231105T070000
END:STANDARD
BEGIN:DAYLIGHT
TZOFFSETFROM:-0600
TZOFFSETTO:-0500
TZNAME:CDT
DTSTART:20240310T080000
END:DAYLIGHT
BEGIN:STANDARD
TZOFFSETFROM:-0500
TZOFFSETTO:-0600
TZNAME:CST
DTSTART:20241103T070000
END:STANDARD
BEGIN:DAYLIGHT
TZOFFSETFROM:-0600
TZOFFSETTO:-0500
TZNAME:CDT
DTSTART:20250309T080000
END:DAYLIGHT
BEGIN:STANDARD
TZOFFSETFROM:-0500
TZOFFSETTO:-0600
TZNAME:CST
DTSTART:20251102T070000
END:STANDARD
BEGIN:DAYLIGHT
TZOFFSETFROM:-0600
TZOFFSETTO:-0500
TZNAME:CDT
DTSTART:20260308T080000
END:DAYLIGHT
BEGIN:STANDARD
TZOFFSETFROM:-0500
TZOFFSETTO:-0600
TZNAME:CST
DTSTART:20261101T070000
END:STANDARD
END:VTIMEZONE
BEGIN:VEVENT
DTSTART;TZID=America/Chicago:20250215T140000
DTEND;TZID=America/Chicago:20250215T160000
DTSTAMP:20260420T183552
CREATED:20250123T205518Z
LAST-MODIFIED:20250123T210228Z
UID:10002185-1739628000-1739635200@njmbc1906.org
SUMMARY:Youth Interim Session “Pablo Foundation Presents: Shatter The Silence”
DESCRIPTION:Youth 6th through 12th grade invited.
URL:https://njmbc1906.org/event/youth-interim-session-pablo-foundation-presents-shatter-the-silence/
END:VEVENT
BEGIN:VEVENT
DTSTART;TZID=America/Chicago:20250212T183000
DTEND;TZID=America/Chicago:20250212T193000
DTSTAMP:20260420T183552
CREATED:20250123T211904Z
LAST-MODIFIED:20250123T211904Z
UID:10002188-1739385000-1739388600@njmbc1906.org
SUMMARY:Youth Bible Study
DESCRIPTION:
URL:https://njmbc1906.org/event/youth-bible-study-3/
END:VEVENT
BEGIN:VEVENT
DTSTART;TZID=America/Chicago:20250211T180000
DTEND;TZID=America/Chicago:20250211T190000
DTSTAMP:20260420T183552
CREATED:20230220T022907Z
LAST-MODIFIED:20231005T211108Z
UID:10001137-1739296800-1739300400@njmbc1906.org
SUMMARY:Choir Rehearsal
DESCRIPTION:Adult Choir Rehearsal is held every Tuesday of the month. We have a men’s choir rehearsal when there’s a 5th Sunday in the month. Youth Choir rehearsals are typically the 2nd Tuesday and/or Thursday before Youth Sunday. If you’re interested in learning more or joining the choir ministry\, please visit this page – https://njmbc1906.org/choir-music-ministry/. Also\, if you’re a New Jerusalem member\, and haven’t signed up to receive text messages\, you can sign-up at this link – https://njmbc1906.org/contact/#receivetextmessages. This will help keep you in the overall loop of ministry updates / changes\, events and other things going on at NJMBC.
URL:https://njmbc1906.org/event/choir-rehearsal/2025-02-11/
CATEGORIES:Choir Rehearsal
ATTACH;FMTTYPE=image/jpeg:https://njmbc1906.org/wp-content/uploads/2023/02/Choir_Ministry_Graphic_New_Jerusalem_Church_Calendar_Thumbnails-1.jpg
ORGANIZER;CN="Sis. Shequeta Wells Murphy":MAILTO:choirministry@njmbc1906.org
END:VEVENT
BEGIN:VEVENT
DTSTART;TZID=America/Chicago:20250209T094500
DTEND;TZID=America/Chicago:20250209T110000
DTSTAMP:20260420T183552
CREATED:20240226T044840Z
LAST-MODIFIED:20260113T033055Z
UID:10003109-1739094300-1739098800@njmbc1906.org
SUMMARY:Youth Sunday
DESCRIPTION:
URL:https://njmbc1906.org/event/youth-sunday-2/2025-02-09/
CATEGORIES:Youth Ministry
ATTACH;FMTTYPE=image/png:https://njmbc1906.org/wp-content/uploads/2024/02/Youth_Ministry_Graphic_for_NJMBC_CalendarSquare_NJMBC_Social_Media_Graphic_2023.png
END:VEVENT
BEGIN:VEVENT
DTSTART;TZID=America/Chicago:20250208T133000
DTEND;TZID=America/Chicago:20250208T140000
DTSTAMP:20260420T183552
CREATED:20250123T211553Z
LAST-MODIFIED:20250123T211553Z
UID:10002187-1739021400-1739023200@njmbc1906.org
SUMMARY:Youth Usher Meeting
DESCRIPTION:
URL:https://njmbc1906.org/event/youth-usher-meeting/
END:VEVENT
BEGIN:VEVENT
DTSTART;TZID=America/Chicago:20250208T110000
DTEND;TZID=America/Chicago:20250208T140000
DTSTAMP:20260420T183552
CREATED:20250123T203831Z
LAST-MODIFIED:20250123T203831Z
UID:10002184-1739012400-1739023200@njmbc1906.org
SUMMARY:Y.E.S. Session- Connect
DESCRIPTION:
URL:https://njmbc1906.org/event/y-e-s-session-connect/
END:VEVENT
BEGIN:VEVENT
DTSTART;TZID=America/Chicago:20250205T173000
DTEND;TZID=America/Chicago:20250205T183000
DTSTAMP:20260420T183552
CREATED:20230220T025813Z
LAST-MODIFIED:20231005T211141Z
UID:10000895-1738776600-1738780200@njmbc1906.org
SUMMARY:Mission Ministry Wednesday's
DESCRIPTION:Mission Ministry Wednesday’s are held every Wednesday of each month and discuss a variety of topics. To learn more about the Mission Ministry\, visit this link – https://njmbc1906.org/mission-ministry/. Also\, if you’re a New Jerusalem member\, and haven’t signed up to receive text messages\, you can sign-up at this link – https://njmbc1906.org/contact/#receivetextmessages. This will help keep you in the overall loop of ministry updates / changes\, events and other things going on at NJMBC.
URL:https://njmbc1906.org/event/mission-ministry/2025-02-05/
CATEGORIES:Mission Ministry
ATTACH;FMTTYPE=image/jpeg:https://njmbc1906.org/wp-content/uploads/2023/02/Mission_Ministry_Graphic_New_Jerusalem_Church_Calendar_Thumbnails-1.jpg
ORGANIZER;CN="Sis. Shelia Parker":MAILTO:missionministry@njmbc1906.org
END:VEVENT
BEGIN:VEVENT
DTSTART;TZID=America/Chicago:20250204T180000
DTEND;TZID=America/Chicago:20250204T190000
DTSTAMP:20260420T183553
CREATED:20230220T022907Z
LAST-MODIFIED:20231005T211108Z
UID:10001136-1738692000-1738695600@njmbc1906.org
SUMMARY:Choir Rehearsal
DESCRIPTION:Adult Choir Rehearsal is held every Tuesday of the month. We have a men’s choir rehearsal when there’s a 5th Sunday in the month. Youth Choir rehearsals are typically the 2nd Tuesday and/or Thursday before Youth Sunday. If you’re interested in learning more or joining the choir ministry\, please visit this page – https://njmbc1906.org/choir-music-ministry/. Also\, if you’re a New Jerusalem member\, and haven’t signed up to receive text messages\, you can sign-up at this link – https://njmbc1906.org/contact/#receivetextmessages. This will help keep you in the overall loop of ministry updates / changes\, events and other things going on at NJMBC.
URL:https://njmbc1906.org/event/choir-rehearsal/2025-02-04/
CATEGORIES:Choir Rehearsal
ATTACH;FMTTYPE=image/jpeg:https://njmbc1906.org/wp-content/uploads/2023/02/Choir_Ministry_Graphic_New_Jerusalem_Church_Calendar_Thumbnails-1.jpg
ORGANIZER;CN="Sis. Shequeta Wells Murphy":MAILTO:choirministry@njmbc1906.org
END:VEVENT
BEGIN:VEVENT
DTSTART;TZID=America/Chicago:20250204T180000
DTEND;TZID=America/Chicago:20250204T190000
DTSTAMP:20260420T183553
CREATED:20230220T014029Z
LAST-MODIFIED:20231005T211013Z
UID:10000633-1738692000-1738695600@njmbc1906.org
SUMMARY:Sunday School Teacher's Meeting
DESCRIPTION:Sunday School Teacher’s Meeting is held every 2nd and 4th Tuesday of each month\, via Zoom\, and is in place for teacher discussions of upcoming Sunday School lessons. This helps to “Rightly Divide The Word of Truth”. If you’re interested in Teaching or being a Teacher’s Assistant\, or learning more about Sunday School\, visit this page – https://njmbc1906.org/sunday-school/. You can join us on Sunday mornings for classes\, starting at 9am. There are classes for all ages. Visit this link – https://njmbc1906.org/sunday-school-online/. Also\, if you’re a New Jerusalem member\, and haven’t signed up to receive text messages\, you can sign-up at this link – https://njmbc1906.org/contact/#receivetextmessages. This will help keep you in the overall loop of ministry updates / changes\, events and other things going on at NJMBC.
URL:https://njmbc1906.org/event/sunday-school-teachers-meeting/2025-02-04/
ATTACH;FMTTYPE=image/jpeg:https://njmbc1906.org/wp-content/uploads/2023/02/Sunday_School_Graphic_New_Jerusalem_Church_Calendar_Thumbnails.jpg
END:VEVENT
BEGIN:VEVENT
DTSTART;TZID=America/Chicago:20250203T180000
DTEND;TZID=America/Chicago:20250203T190000
DTSTAMP:20260420T183553
CREATED:20241008T012725Z
LAST-MODIFIED:20241008T012725Z
UID:10002114-1738605600-1738609200@njmbc1906.org
SUMMARY:Signing & Deaf Ministry Meeting & ASL Practice
DESCRIPTION:The Signing & Deaf Ministry meets and practices ASL on the first Monday of each month from 6 to 7 pm.
URL:https://njmbc1906.org/event/signing-deaf-ministry-meeting-asl-practice/2025-02-03/
END:VEVENT
BEGIN:VEVENT
DTSTART;TZID=America/Chicago:20250129T183000
DTEND;TZID=America/Chicago:20250129T193000
DTSTAMP:20260420T183553
CREATED:20250123T210805Z
LAST-MODIFIED:20250123T210805Z
UID:10002186-1738175400-1738179000@njmbc1906.org
SUMMARY:Youth Bible Study
DESCRIPTION:
URL:https://njmbc1906.org/event/youth-bible-study-2/
END:VEVENT
BEGIN:VEVENT
DTSTART;TZID=America/Chicago:20250128T180000
DTEND;TZID=America/Chicago:20250128T190000
DTSTAMP:20260420T183553
CREATED:20230220T022907Z
LAST-MODIFIED:20231005T211108Z
UID:10001135-1738087200-1738090800@njmbc1906.org
SUMMARY:Choir Rehearsal
DESCRIPTION:Adult Choir Rehearsal is held every Tuesday of the month. We have a men’s choir rehearsal when there’s a 5th Sunday in the month. Youth Choir rehearsals are typically the 2nd Tuesday and/or Thursday before Youth Sunday. If you’re interested in learning more or joining the choir ministry\, please visit this page – https://njmbc1906.org/choir-music-ministry/. Also\, if you’re a New Jerusalem member\, and haven’t signed up to receive text messages\, you can sign-up at this link – https://njmbc1906.org/contact/#receivetextmessages. This will help keep you in the overall loop of ministry updates / changes\, events and other things going on at NJMBC.
URL:https://njmbc1906.org/event/choir-rehearsal/2025-01-28/
CATEGORIES:Choir Rehearsal
ATTACH;FMTTYPE=image/jpeg:https://njmbc1906.org/wp-content/uploads/2023/02/Choir_Ministry_Graphic_New_Jerusalem_Church_Calendar_Thumbnails-1.jpg
ORGANIZER;CN="Sis. Shequeta Wells Murphy":MAILTO:choirministry@njmbc1906.org
END:VEVENT
BEGIN:VEVENT
DTSTART;TZID=America/Chicago:20250125T073000
DTEND;TZID=America/Chicago:20250125T110000
DTSTAMP:20260420T183553
CREATED:20241103T220452Z
LAST-MODIFIED:20241105T175949Z
UID:10002171-1737790200-1737802800@njmbc1906.org
SUMMARY:Food Pantry
DESCRIPTION:
URL:https://njmbc1906.org/event/food-pantry/2025-01-25/
CATEGORIES:Mission Ministry
ATTACH;FMTTYPE=image/png:https://njmbc1906.org/wp-content/uploads/2024/11/Food_Pantry_Calendar_Graphic.png
ORGANIZER;CN="Vivian Maddox":MAILTO:maddox.vivian@yahoo.com
END:VEVENT
BEGIN:VEVENT
DTSTART;TZID=America/Chicago:20250122T173000
DTEND;TZID=America/Chicago:20250122T183000
DTSTAMP:20260420T183553
CREATED:20230220T025813Z
LAST-MODIFIED:20231005T211141Z
UID:10000894-1737567000-1737570600@njmbc1906.org
SUMMARY:Mission Ministry Wednesday's
DESCRIPTION:Mission Ministry Wednesday’s are held every Wednesday of each month and discuss a variety of topics. To learn more about the Mission Ministry\, visit this link – https://njmbc1906.org/mission-ministry/. Also\, if you’re a New Jerusalem member\, and haven’t signed up to receive text messages\, you can sign-up at this link – https://njmbc1906.org/contact/#receivetextmessages. This will help keep you in the overall loop of ministry updates / changes\, events and other things going on at NJMBC.
URL:https://njmbc1906.org/event/mission-ministry/2025-01-22/
CATEGORIES:Mission Ministry
ATTACH;FMTTYPE=image/jpeg:https://njmbc1906.org/wp-content/uploads/2023/02/Mission_Ministry_Graphic_New_Jerusalem_Church_Calendar_Thumbnails-1.jpg
ORGANIZER;CN="Sis. Shelia Parker":MAILTO:missionministry@njmbc1906.org
END:VEVENT
BEGIN:VEVENT
DTSTART;TZID=America/Chicago:20250121T180000
DTEND;TZID=America/Chicago:20250121T190000
DTSTAMP:20260420T183553
CREATED:20230220T022907Z
LAST-MODIFIED:20231005T211108Z
UID:10001134-1737482400-1737486000@njmbc1906.org
SUMMARY:Choir Rehearsal
DESCRIPTION:Adult Choir Rehearsal is held every Tuesday of the month. We have a men’s choir rehearsal when there’s a 5th Sunday in the month. Youth Choir rehearsals are typically the 2nd Tuesday and/or Thursday before Youth Sunday. If you’re interested in learning more or joining the choir ministry\, please visit this page – https://njmbc1906.org/choir-music-ministry/. Also\, if you’re a New Jerusalem member\, and haven’t signed up to receive text messages\, you can sign-up at this link – https://njmbc1906.org/contact/#receivetextmessages. This will help keep you in the overall loop of ministry updates / changes\, events and other things going on at NJMBC.
URL:https://njmbc1906.org/event/choir-rehearsal/2025-01-21/
CATEGORIES:Choir Rehearsal
ATTACH;FMTTYPE=image/jpeg:https://njmbc1906.org/wp-content/uploads/2023/02/Choir_Ministry_Graphic_New_Jerusalem_Church_Calendar_Thumbnails-1.jpg
ORGANIZER;CN="Sis. Shequeta Wells Murphy":MAILTO:choirministry@njmbc1906.org
END:VEVENT
BEGIN:VEVENT
DTSTART;TZID=America/Chicago:20250121T180000
DTEND;TZID=America/Chicago:20250121T190000
DTSTAMP:20260420T183553
CREATED:20230220T014029Z
LAST-MODIFIED:20231005T211013Z
UID:10000632-1737482400-1737486000@njmbc1906.org
SUMMARY:Sunday School Teacher's Meeting
DESCRIPTION:Sunday School Teacher’s Meeting is held every 2nd and 4th Tuesday of each month\, via Zoom\, and is in place for teacher discussions of upcoming Sunday School lessons. This helps to “Rightly Divide The Word of Truth”. If you’re interested in Teaching or being a Teacher’s Assistant\, or learning more about Sunday School\, visit this page – https://njmbc1906.org/sunday-school/. You can join us on Sunday mornings for classes\, starting at 9am. There are classes for all ages. Visit this link – https://njmbc1906.org/sunday-school-online/. Also\, if you’re a New Jerusalem member\, and haven’t signed up to receive text messages\, you can sign-up at this link – https://njmbc1906.org/contact/#receivetextmessages. This will help keep you in the overall loop of ministry updates / changes\, events and other things going on at NJMBC.
URL:https://njmbc1906.org/event/sunday-school-teachers-meeting/2025-01-21/
ATTACH;FMTTYPE=image/jpeg:https://njmbc1906.org/wp-content/uploads/2023/02/Sunday_School_Graphic_New_Jerusalem_Church_Calendar_Thumbnails.jpg
END:VEVENT
BEGIN:VEVENT
DTSTART;TZID=America/Chicago:20250116T180000
DTEND;TZID=America/Chicago:20250116T190000
DTSTAMP:20260420T183553
CREATED:20230220T032342Z
LAST-MODIFIED:20231005T211311Z
UID:10000997-1737050400-1737054000@njmbc1906.org
SUMMARY:Senior Ushers Meet
DESCRIPTION:Usher’s Meeting is held every 3rd Thursday of each month\, via Conference Call. If you have any questions or to learn more about the Usher’s Ministry\, visit this link – https://njmbc1906.org/usher-ministry/. Also\, if you’re a New Jerusalem member\, and haven’t signed up to receive text messages\, you can sign-up at this link – https://njmbc1906.org/contact/#receivetextmessages. This will help keep you in the overall loop of ministry updates / changes\, events and other things going on at NJMBC.
URL:https://njmbc1906.org/event/senior-ushers-meet/2025-01-16/
CATEGORIES:Usher's Ministry
ATTACH;FMTTYPE=image/jpeg:https://njmbc1906.org/wp-content/uploads/2023/02/Ushers_Ministry_Mondays_Graphic_New_Jerusalem_Church_Calendar_Thumbnails.jpg
ORGANIZER;CN="Sis. Gloria Dukes":MAILTO:usherministry@njmbc1906.org
END:VEVENT
BEGIN:VEVENT
DTSTART;TZID=America/Chicago:20250114T180000
DTEND;TZID=America/Chicago:20250114T190000
DTSTAMP:20260420T183553
CREATED:20230220T022907Z
LAST-MODIFIED:20231005T211108Z
UID:10001133-1736877600-1736881200@njmbc1906.org
SUMMARY:Choir Rehearsal
DESCRIPTION:Adult Choir Rehearsal is held every Tuesday of the month. We have a men’s choir rehearsal when there’s a 5th Sunday in the month. Youth Choir rehearsals are typically the 2nd Tuesday and/or Thursday before Youth Sunday. If you’re interested in learning more or joining the choir ministry\, please visit this page – https://njmbc1906.org/choir-music-ministry/. Also\, if you’re a New Jerusalem member\, and haven’t signed up to receive text messages\, you can sign-up at this link – https://njmbc1906.org/contact/#receivetextmessages. This will help keep you in the overall loop of ministry updates / changes\, events and other things going on at NJMBC.
URL:https://njmbc1906.org/event/choir-rehearsal/2025-01-14/
CATEGORIES:Choir Rehearsal
ATTACH;FMTTYPE=image/jpeg:https://njmbc1906.org/wp-content/uploads/2023/02/Choir_Ministry_Graphic_New_Jerusalem_Church_Calendar_Thumbnails-1.jpg
ORGANIZER;CN="Sis. Shequeta Wells Murphy":MAILTO:choirministry@njmbc1906.org
END:VEVENT
BEGIN:VEVENT
DTSTART;TZID=America/Chicago:20250112T094500
DTEND;TZID=America/Chicago:20250112T110000
DTSTAMP:20260420T183553
CREATED:20240226T044840Z
LAST-MODIFIED:20260113T033055Z
UID:10003108-1736675100-1736679600@njmbc1906.org
SUMMARY:Youth Sunday
DESCRIPTION:
URL:https://njmbc1906.org/event/youth-sunday-2/2025-01-12/
CATEGORIES:Youth Ministry
ATTACH;FMTTYPE=image/png:https://njmbc1906.org/wp-content/uploads/2024/02/Youth_Ministry_Graphic_for_NJMBC_CalendarSquare_NJMBC_Social_Media_Graphic_2023.png
END:VEVENT
BEGIN:VEVENT
DTSTART;TZID=America/Chicago:20250108T173000
DTEND;TZID=America/Chicago:20250108T183000
DTSTAMP:20260420T183553
CREATED:20230220T025813Z
LAST-MODIFIED:20231005T211141Z
UID:10000893-1736357400-1736361000@njmbc1906.org
SUMMARY:Mission Ministry Wednesday's
DESCRIPTION:Mission Ministry Wednesday’s are held every Wednesday of each month and discuss a variety of topics. To learn more about the Mission Ministry\, visit this link – https://njmbc1906.org/mission-ministry/. Also\, if you’re a New Jerusalem member\, and haven’t signed up to receive text messages\, you can sign-up at this link – https://njmbc1906.org/contact/#receivetextmessages. This will help keep you in the overall loop of ministry updates / changes\, events and other things going on at NJMBC.
URL:https://njmbc1906.org/event/mission-ministry/2025-01-08/
CATEGORIES:Mission Ministry
ATTACH;FMTTYPE=image/jpeg:https://njmbc1906.org/wp-content/uploads/2023/02/Mission_Ministry_Graphic_New_Jerusalem_Church_Calendar_Thumbnails-1.jpg
ORGANIZER;CN="Sis. Shelia Parker":MAILTO:missionministry@njmbc1906.org
END:VEVENT
BEGIN:VEVENT
DTSTART;TZID=America/Chicago:20250107T180000
DTEND;TZID=America/Chicago:20250107T190000
DTSTAMP:20260420T183553
CREATED:20230220T022907Z
LAST-MODIFIED:20231005T211108Z
UID:10001132-1736272800-1736276400@njmbc1906.org
SUMMARY:Choir Rehearsal
DESCRIPTION:Adult Choir Rehearsal is held every Tuesday of the month. We have a men’s choir rehearsal when there’s a 5th Sunday in the month. Youth Choir rehearsals are typically the 2nd Tuesday and/or Thursday before Youth Sunday. If you’re interested in learning more or joining the choir ministry\, please visit this page – https://njmbc1906.org/choir-music-ministry/. Also\, if you’re a New Jerusalem member\, and haven’t signed up to receive text messages\, you can sign-up at this link – https://njmbc1906.org/contact/#receivetextmessages. This will help keep you in the overall loop of ministry updates / changes\, events and other things going on at NJMBC.
URL:https://njmbc1906.org/event/choir-rehearsal/2025-01-07/
CATEGORIES:Choir Rehearsal
ATTACH;FMTTYPE=image/jpeg:https://njmbc1906.org/wp-content/uploads/2023/02/Choir_Ministry_Graphic_New_Jerusalem_Church_Calendar_Thumbnails-1.jpg
ORGANIZER;CN="Sis. Shequeta Wells Murphy":MAILTO:choirministry@njmbc1906.org
END:VEVENT
BEGIN:VEVENT
DTSTART;TZID=America/Chicago:20250107T180000
DTEND;TZID=America/Chicago:20250107T190000
DTSTAMP:20260420T183553
CREATED:20230220T014029Z
LAST-MODIFIED:20231005T211013Z
UID:10000631-1736272800-1736276400@njmbc1906.org
SUMMARY:Sunday School Teacher's Meeting
DESCRIPTION:Sunday School Teacher’s Meeting is held every 2nd and 4th Tuesday of each month\, via Zoom\, and is in place for teacher discussions of upcoming Sunday School lessons. This helps to “Rightly Divide The Word of Truth”. If you’re interested in Teaching or being a Teacher’s Assistant\, or learning more about Sunday School\, visit this page – https://njmbc1906.org/sunday-school/. You can join us on Sunday mornings for classes\, starting at 9am. There are classes for all ages. Visit this link – https://njmbc1906.org/sunday-school-online/. Also\, if you’re a New Jerusalem member\, and haven’t signed up to receive text messages\, you can sign-up at this link – https://njmbc1906.org/contact/#receivetextmessages. This will help keep you in the overall loop of ministry updates / changes\, events and other things going on at NJMBC.
URL:https://njmbc1906.org/event/sunday-school-teachers-meeting/2025-01-07/
ATTACH;FMTTYPE=image/jpeg:https://njmbc1906.org/wp-content/uploads/2023/02/Sunday_School_Graphic_New_Jerusalem_Church_Calendar_Thumbnails.jpg
END:VEVENT
BEGIN:VEVENT
DTSTART;TZID=America/Chicago:20250106T180000
DTEND;TZID=America/Chicago:20250106T190000
DTSTAMP:20260420T183553
CREATED:20241008T012725Z
LAST-MODIFIED:20241008T012725Z
UID:10002113-1736186400-1736190000@njmbc1906.org
SUMMARY:Signing & Deaf Ministry Meeting & ASL Practice
DESCRIPTION:The Signing & Deaf Ministry meets and practices ASL on the first Monday of each month from 6 to 7 pm.
URL:https://njmbc1906.org/event/signing-deaf-ministry-meeting-asl-practice/2025-01-06/
END:VEVENT
BEGIN:VEVENT
DTSTART;TZID=America/Chicago:20241231T180000
DTEND;TZID=America/Chicago:20241231T190000
DTSTAMP:20260420T183553
CREATED:20230220T022907Z
LAST-MODIFIED:20231005T211108Z
UID:10001131-1735668000-1735671600@njmbc1906.org
SUMMARY:Choir Rehearsal
DESCRIPTION:Adult Choir Rehearsal is held every Tuesday of the month. We have a men’s choir rehearsal when there’s a 5th Sunday in the month. Youth Choir rehearsals are typically the 2nd Tuesday and/or Thursday before Youth Sunday. If you’re interested in learning more or joining the choir ministry\, please visit this page – https://njmbc1906.org/choir-music-ministry/. Also\, if you’re a New Jerusalem member\, and haven’t signed up to receive text messages\, you can sign-up at this link – https://njmbc1906.org/contact/#receivetextmessages. This will help keep you in the overall loop of ministry updates / changes\, events and other things going on at NJMBC.
URL:https://njmbc1906.org/event/choir-rehearsal/2024-12-31/
CATEGORIES:Choir Rehearsal
ATTACH;FMTTYPE=image/jpeg:https://njmbc1906.org/wp-content/uploads/2023/02/Choir_Ministry_Graphic_New_Jerusalem_Church_Calendar_Thumbnails-1.jpg
ORGANIZER;CN="Sis. Shequeta Wells Murphy":MAILTO:choirministry@njmbc1906.org
END:VEVENT
BEGIN:VEVENT
DTSTART;TZID=America/Chicago:20241225T173000
DTEND;TZID=America/Chicago:20241225T183000
DTSTAMP:20260420T183553
CREATED:20230220T025813Z
LAST-MODIFIED:20231005T211141Z
UID:10000892-1735147800-1735151400@njmbc1906.org
SUMMARY:Mission Ministry Wednesday's
DESCRIPTION:Mission Ministry Wednesday’s are held every Wednesday of each month and discuss a variety of topics. To learn more about the Mission Ministry\, visit this link – https://njmbc1906.org/mission-ministry/. Also\, if you’re a New Jerusalem member\, and haven’t signed up to receive text messages\, you can sign-up at this link – https://njmbc1906.org/contact/#receivetextmessages. This will help keep you in the overall loop of ministry updates / changes\, events and other things going on at NJMBC.
URL:https://njmbc1906.org/event/mission-ministry/2024-12-25/
CATEGORIES:Mission Ministry
ATTACH;FMTTYPE=image/jpeg:https://njmbc1906.org/wp-content/uploads/2023/02/Mission_Ministry_Graphic_New_Jerusalem_Church_Calendar_Thumbnails-1.jpg
ORGANIZER;CN="Sis. Shelia Parker":MAILTO:missionministry@njmbc1906.org
END:VEVENT
BEGIN:VEVENT
DTSTART;TZID=America/Chicago:20241224T180000
DTEND;TZID=America/Chicago:20241224T190000
DTSTAMP:20260420T183553
CREATED:20230220T022907Z
LAST-MODIFIED:20231005T211108Z
UID:10001130-1735063200-1735066800@njmbc1906.org
SUMMARY:Choir Rehearsal
DESCRIPTION:Adult Choir Rehearsal is held every Tuesday of the month. We have a men’s choir rehearsal when there’s a 5th Sunday in the month. Youth Choir rehearsals are typically the 2nd Tuesday and/or Thursday before Youth Sunday. If you’re interested in learning more or joining the choir ministry\, please visit this page – https://njmbc1906.org/choir-music-ministry/. Also\, if you’re a New Jerusalem member\, and haven’t signed up to receive text messages\, you can sign-up at this link – https://njmbc1906.org/contact/#receivetextmessages. This will help keep you in the overall loop of ministry updates / changes\, events and other things going on at NJMBC.
URL:https://njmbc1906.org/event/choir-rehearsal/2024-12-24/
CATEGORIES:Choir Rehearsal
ATTACH;FMTTYPE=image/jpeg:https://njmbc1906.org/wp-content/uploads/2023/02/Choir_Ministry_Graphic_New_Jerusalem_Church_Calendar_Thumbnails-1.jpg
ORGANIZER;CN="Sis. Shequeta Wells Murphy":MAILTO:choirministry@njmbc1906.org
END:VEVENT
BEGIN:VEVENT
DTSTART;TZID=America/Chicago:20241224T180000
DTEND;TZID=America/Chicago:20241224T190000
DTSTAMP:20260420T183553
CREATED:20230220T014029Z
LAST-MODIFIED:20231005T211013Z
UID:10000630-1735063200-1735066800@njmbc1906.org
SUMMARY:Sunday School Teacher's Meeting
DESCRIPTION:Sunday School Teacher’s Meeting is held every 2nd and 4th Tuesday of each month\, via Zoom\, and is in place for teacher discussions of upcoming Sunday School lessons. This helps to “Rightly Divide The Word of Truth”. If you’re interested in Teaching or being a Teacher’s Assistant\, or learning more about Sunday School\, visit this page – https://njmbc1906.org/sunday-school/. You can join us on Sunday mornings for classes\, starting at 9am. There are classes for all ages. Visit this link – https://njmbc1906.org/sunday-school-online/. Also\, if you’re a New Jerusalem member\, and haven’t signed up to receive text messages\, you can sign-up at this link – https://njmbc1906.org/contact/#receivetextmessages. This will help keep you in the overall loop of ministry updates / changes\, events and other things going on at NJMBC.
URL:https://njmbc1906.org/event/sunday-school-teachers-meeting/2024-12-24/
ATTACH;FMTTYPE=image/jpeg:https://njmbc1906.org/wp-content/uploads/2023/02/Sunday_School_Graphic_New_Jerusalem_Church_Calendar_Thumbnails.jpg
END:VEVENT
BEGIN:VEVENT
DTSTART;TZID=America/Chicago:20241221T120000
DTEND;TZID=America/Chicago:20241221T160000
DTSTAMP:20260420T183553
CREATED:20240226T213859Z
LAST-MODIFIED:20240305T041442Z
UID:10002032-1734782400-1734796800@njmbc1906.org
SUMMARY:Youth Caroling/Youth Fellowship
DESCRIPTION:
URL:https://njmbc1906.org/event/youth-caroling-youth-fellowship-tba/
END:VEVENT
BEGIN:VEVENT
DTSTART;TZID=America/Chicago:20241221T100000
DTEND;TZID=America/Chicago:20241221T110000
DTSTAMP:20260420T183553
CREATED:20230227T020325Z
LAST-MODIFIED:20231005T211339Z
UID:10001383-1734775200-1734778800@njmbc1906.org
SUMMARY:Deaconess Meeting
DESCRIPTION:Deaconess Meeting at 10am. Also\, if you’re a New Jerusalem member\, and haven’t signed up to receive text messages\, you can sign-up at this link – https://njmbc1906.org/contact/#receivetextmessages. This will help keep you in the overall loop of ministry updates / changes\, events and other things going on at NJMBC.
URL:https://njmbc1906.org/event/deaconess-meeting/2024-12-21/
ATTACH;FMTTYPE=image/jpeg:https://njmbc1906.org/wp-content/uploads/2023/02/Deaconess_Meeting_Graphic_New_Jerusalem_Church_Calendar_Thumbnails.jpg
ORGANIZER;CN="Mother Dot Higgins":MAILTO:mothersministry@njmbc1906.org
END:VEVENT
BEGIN:VEVENT
DTSTART;TZID=America/Chicago:20241221T073000
DTEND;TZID=America/Chicago:20241221T110000
DTSTAMP:20260420T183553
CREATED:20240226T154702Z
LAST-MODIFIED:20240226T154718Z
UID:10002015-1734766200-1734778800@njmbc1906.org
SUMMARY:Food Pantry Giveaway
DESCRIPTION:The Food Pantry is on 4th Saturday’s starting at 7:30am\, January – October. November and December\, the Food Pantry is held on the 3rd Saturday\, starting at 7:30am\, because of the Holiday Season. To learn more about the Food Pantry ministry visit this link – https://njmbc1906.org/food-pantry/. Also\, if you’re a New Jerusalem member\, and haven’t signed up to receive text messages\, you can sign-up at this link – https://njmbc1906.org/contact/#receivetextmessages. This will help keep you in the overall loop of ministry updates / changes\, events and other things going on at NJMBC.
URL:https://njmbc1906.org/event/food-pantry-giveaway-2/
CATEGORIES:Food Pantry
ATTACH;FMTTYPE=image/png:https://njmbc1906.org/wp-content/uploads/2024/02/Food_Pantry_Calendar_Graphic.png
END:VEVENT
END:VCALENDAR