BEGIN:VCALENDAR
VERSION:2.0
PRODID:-//New Jerusalem Missionary Baptist Church | Greenville, Mississippi - - ECPv6.15.20//NONSGML v1.0//EN
CALSCALE:GREGORIAN
METHOD:PUBLISH
X-WR-CALNAME:New Jerusalem Missionary Baptist Church | Greenville, Mississippi -
X-ORIGINAL-URL:https://njmbc1906.org
X-WR-CALDESC:Events for New Jerusalem Missionary Baptist Church | Greenville, Mississippi -
REFRESH-INTERVAL;VALUE=DURATION:PT1H
X-Robots-Tag:noindex
X-PUBLISHED-TTL:PT1H
BEGIN:VTIMEZONE
TZID:America/Chicago
BEGIN:DAYLIGHT
TZOFFSETFROM:-0600
TZOFFSETTO:-0500
TZNAME:CDT
DTSTART:20250309T080000
END:DAYLIGHT
BEGIN:STANDARD
TZOFFSETFROM:-0500
TZOFFSETTO:-0600
TZNAME:CST
DTSTART:20251102T070000
END:STANDARD
BEGIN:DAYLIGHT
TZOFFSETFROM:-0600
TZOFFSETTO:-0500
TZNAME:CDT
DTSTART:20260308T080000
END:DAYLIGHT
BEGIN:STANDARD
TZOFFSETFROM:-0500
TZOFFSETTO:-0600
TZNAME:CST
DTSTART:20261101T070000
END:STANDARD
BEGIN:DAYLIGHT
TZOFFSETFROM:-0600
TZOFFSETTO:-0500
TZNAME:CDT
DTSTART:20270314T080000
END:DAYLIGHT
BEGIN:STANDARD
TZOFFSETFROM:-0500
TZOFFSETTO:-0600
TZNAME:CST
DTSTART:20271107T070000
END:STANDARD
END:VTIMEZONE
BEGIN:VEVENT
DTSTART;TZID=America/Chicago:20260610T173000
DTEND;TZID=America/Chicago:20260610T183000
DTSTAMP:20260419T083830
CREATED:20230220T025813Z
LAST-MODIFIED:20231005T211141Z
UID:10000930-1781112600-1781116200@njmbc1906.org
SUMMARY:Mission Ministry Wednesday's
DESCRIPTION:Mission Ministry Wednesday’s are held every Wednesday of each month and discuss a variety of topics. To learn more about the Mission Ministry\, visit this link – https://njmbc1906.org/mission-ministry/. Also\, if you’re a New Jerusalem member\, and haven’t signed up to receive text messages\, you can sign-up at this link – https://njmbc1906.org/contact/#receivetextmessages. This will help keep you in the overall loop of ministry updates / changes\, events and other things going on at NJMBC.
URL:https://njmbc1906.org/event/mission-ministry/2026-06-10/
CATEGORIES:Mission Ministry
ATTACH;FMTTYPE=image/jpeg:https://njmbc1906.org/wp-content/uploads/2023/02/Mission_Ministry_Graphic_New_Jerusalem_Church_Calendar_Thumbnails-1.jpg
ORGANIZER;CN="Sis. Shelia Parker":MAILTO:missionministry@njmbc1906.org
END:VEVENT
BEGIN:VEVENT
DTSTART;TZID=America/Chicago:20260609T180000
DTEND;TZID=America/Chicago:20260609T190000
DTSTAMP:20260419T083830
CREATED:20230220T022907Z
LAST-MODIFIED:20231005T211108Z
UID:10001206-1781028000-1781031600@njmbc1906.org
SUMMARY:Choir Rehearsal
DESCRIPTION:Adult Choir Rehearsal is held every Tuesday of the month. We have a men’s choir rehearsal when there’s a 5th Sunday in the month. Youth Choir rehearsals are typically the 2nd Tuesday and/or Thursday before Youth Sunday. If you’re interested in learning more or joining the choir ministry\, please visit this page – https://njmbc1906.org/choir-music-ministry/. Also\, if you’re a New Jerusalem member\, and haven’t signed up to receive text messages\, you can sign-up at this link – https://njmbc1906.org/contact/#receivetextmessages. This will help keep you in the overall loop of ministry updates / changes\, events and other things going on at NJMBC.
URL:https://njmbc1906.org/event/choir-rehearsal/2026-06-09/
CATEGORIES:Choir Rehearsal
ATTACH;FMTTYPE=image/jpeg:https://njmbc1906.org/wp-content/uploads/2023/02/Choir_Ministry_Graphic_New_Jerusalem_Church_Calendar_Thumbnails-1.jpg
ORGANIZER;CN="Sis. Shequeta Wells Murphy":MAILTO:choirministry@njmbc1906.org
END:VEVENT
BEGIN:VEVENT
DTSTART;TZID=America/Chicago:20260609T180000
DTEND;TZID=America/Chicago:20260609T190000
DTSTAMP:20260419T083830
CREATED:20230220T014029Z
LAST-MODIFIED:20231005T211013Z
UID:10000668-1781028000-1781031600@njmbc1906.org
SUMMARY:Sunday School Teacher's Meeting
DESCRIPTION:Sunday School Teacher’s Meeting is held every 2nd and 4th Tuesday of each month\, via Zoom\, and is in place for teacher discussions of upcoming Sunday School lessons. This helps to “Rightly Divide The Word of Truth”. If you’re interested in Teaching or being a Teacher’s Assistant\, or learning more about Sunday School\, visit this page – https://njmbc1906.org/sunday-school/. You can join us on Sunday mornings for classes\, starting at 9am. There are classes for all ages. Visit this link – https://njmbc1906.org/sunday-school-online/. Also\, if you’re a New Jerusalem member\, and haven’t signed up to receive text messages\, you can sign-up at this link – https://njmbc1906.org/contact/#receivetextmessages. This will help keep you in the overall loop of ministry updates / changes\, events and other things going on at NJMBC.
URL:https://njmbc1906.org/event/sunday-school-teachers-meeting/2026-06-09/
ATTACH;FMTTYPE=image/jpeg:https://njmbc1906.org/wp-content/uploads/2023/02/Sunday_School_Graphic_New_Jerusalem_Church_Calendar_Thumbnails.jpg
END:VEVENT
BEGIN:VEVENT
DTSTART;TZID=America/Chicago:20260607T083000
DTEND;TZID=America/Chicago:20260607T093000
DTSTAMP:20260419T083830
CREATED:20260107T155825Z
LAST-MODIFIED:20260107T171411Z
UID:10002838-1780821000-1780824600@njmbc1906.org
SUMMARY:In-Person Sunday School
DESCRIPTION:In-person Sunday School is held every Sunday. To learn more about the Sunday School\, visit this link – https://njmbc1906.org/sunday-school/. Also\, if you’re a New Jerusalem member\, and haven’t signed up to receive text messages\, you can sign-up at this link – https://njmbc1906.org/contact/#receivetextmessages. This will help keep you in the overall loop of ministry updates / changes\, events and other things going on at NJMBC.
URL:https://njmbc1906.org/event/in-person-sunday-school/2026-06-07/
CATEGORIES:Sunday School
ATTACH;FMTTYPE=image/png:https://njmbc1906.org/wp-content/uploads/2026/01/In-Person_Sunday_School_Square_NJMBC_Social_Media_Graphic_2026.png
END:VEVENT
BEGIN:VEVENT
DTSTART;TZID=America/Chicago:20260602T180000
DTEND;TZID=America/Chicago:20260602T190000
DTSTAMP:20260419T083830
CREATED:20230220T022907Z
LAST-MODIFIED:20231005T211108Z
UID:10001205-1780423200-1780426800@njmbc1906.org
SUMMARY:Choir Rehearsal
DESCRIPTION:Adult Choir Rehearsal is held every Tuesday of the month. We have a men’s choir rehearsal when there’s a 5th Sunday in the month. Youth Choir rehearsals are typically the 2nd Tuesday and/or Thursday before Youth Sunday. If you’re interested in learning more or joining the choir ministry\, please visit this page – https://njmbc1906.org/choir-music-ministry/. Also\, if you’re a New Jerusalem member\, and haven’t signed up to receive text messages\, you can sign-up at this link – https://njmbc1906.org/contact/#receivetextmessages. This will help keep you in the overall loop of ministry updates / changes\, events and other things going on at NJMBC.
URL:https://njmbc1906.org/event/choir-rehearsal/2026-06-02/
CATEGORIES:Choir Rehearsal
ATTACH;FMTTYPE=image/jpeg:https://njmbc1906.org/wp-content/uploads/2023/02/Choir_Ministry_Graphic_New_Jerusalem_Church_Calendar_Thumbnails-1.jpg
ORGANIZER;CN="Sis. Shequeta Wells Murphy":MAILTO:choirministry@njmbc1906.org
END:VEVENT
BEGIN:VEVENT
DTSTART;TZID=America/Chicago:20260601T180000
DTEND;TZID=America/Chicago:20260601T190000
DTSTAMP:20260419T083830
CREATED:20251217T190131Z
LAST-MODIFIED:20251217T190131Z
UID:10002296-1780336800-1780340400@njmbc1906.org
SUMMARY:Men's Ministry Mondays
DESCRIPTION:
URL:https://njmbc1906.org/event/mens-ministry-mondays/2026-06-01/
CATEGORIES:Men's Ministry
ATTACH;FMTTYPE=image/jpeg:https://njmbc1906.org/wp-content/uploads/2023/02/Mens_Ministryl_Mondays_Graphic_New_Jerusalem_Church_Calendar_Thumbnails.jpg
ORGANIZER;CN="Bro. Dewon Hall":MAILTO:mensministry@njmbc1906.org
END:VEVENT
BEGIN:VEVENT
DTSTART;TZID=America/Chicago:20260601T180000
DTEND;TZID=America/Chicago:20260601T190000
DTSTAMP:20260419T083830
CREATED:20241008T012725Z
LAST-MODIFIED:20241008T012725Z
UID:10002130-1780336800-1780340400@njmbc1906.org
SUMMARY:Signing & Deaf Ministry Meeting & ASL Practice
DESCRIPTION:The Signing & Deaf Ministry meets and practices ASL on the first Monday of each month from 6 to 7 pm.
URL:https://njmbc1906.org/event/signing-deaf-ministry-meeting-asl-practice/2026-06-01/
END:VEVENT
BEGIN:VEVENT
DTSTART;TZID=America/Chicago:20260531T094500
DTEND;TZID=America/Chicago:20260531T110000
DTSTAMP:20260419T083830
CREATED:20260113T031048Z
LAST-MODIFIED:20260113T031048Z
UID:10003092-1780220700-1780225200@njmbc1906.org
SUMMARY:High Graduate Recognition- Worship Service
DESCRIPTION:
URL:https://njmbc1906.org/event/high-graduate-recognition-worship-service/
LOCATION:New Jerusalem MB Church\, 518 Gum St\, Greenville\, MS\, 38701\, United States
END:VEVENT
BEGIN:VEVENT
DTSTART;TZID=America/Chicago:20260531T083000
DTEND;TZID=America/Chicago:20260531T093000
DTSTAMP:20260419T083830
CREATED:20260107T155825Z
LAST-MODIFIED:20260107T171411Z
UID:10002837-1780216200-1780219800@njmbc1906.org
SUMMARY:In-Person Sunday School
DESCRIPTION:In-person Sunday School is held every Sunday. To learn more about the Sunday School\, visit this link – https://njmbc1906.org/sunday-school/. Also\, if you’re a New Jerusalem member\, and haven’t signed up to receive text messages\, you can sign-up at this link – https://njmbc1906.org/contact/#receivetextmessages. This will help keep you in the overall loop of ministry updates / changes\, events and other things going on at NJMBC.
URL:https://njmbc1906.org/event/in-person-sunday-school/2026-05-31/
CATEGORIES:Sunday School
ATTACH;FMTTYPE=image/png:https://njmbc1906.org/wp-content/uploads/2026/01/In-Person_Sunday_School_Square_NJMBC_Social_Media_Graphic_2026.png
END:VEVENT
BEGIN:VEVENT
DTSTART;TZID=America/Chicago:20260527T173000
DTEND;TZID=America/Chicago:20260527T183000
DTSTAMP:20260419T083830
CREATED:20230220T025813Z
LAST-MODIFIED:20231005T211141Z
UID:10000929-1779903000-1779906600@njmbc1906.org
SUMMARY:Mission Ministry Wednesday's
DESCRIPTION:Mission Ministry Wednesday’s are held every Wednesday of each month and discuss a variety of topics. To learn more about the Mission Ministry\, visit this link – https://njmbc1906.org/mission-ministry/. Also\, if you’re a New Jerusalem member\, and haven’t signed up to receive text messages\, you can sign-up at this link – https://njmbc1906.org/contact/#receivetextmessages. This will help keep you in the overall loop of ministry updates / changes\, events and other things going on at NJMBC.
URL:https://njmbc1906.org/event/mission-ministry/2026-05-27/
CATEGORIES:Mission Ministry
ATTACH;FMTTYPE=image/jpeg:https://njmbc1906.org/wp-content/uploads/2023/02/Mission_Ministry_Graphic_New_Jerusalem_Church_Calendar_Thumbnails-1.jpg
ORGANIZER;CN="Sis. Shelia Parker":MAILTO:missionministry@njmbc1906.org
END:VEVENT
BEGIN:VEVENT
DTSTART;TZID=America/Chicago:20260526T180000
DTEND;TZID=America/Chicago:20260526T190000
DTSTAMP:20260419T083830
CREATED:20230220T022907Z
LAST-MODIFIED:20231005T211108Z
UID:10001204-1779818400-1779822000@njmbc1906.org
SUMMARY:Choir Rehearsal
DESCRIPTION:Adult Choir Rehearsal is held every Tuesday of the month. We have a men’s choir rehearsal when there’s a 5th Sunday in the month. Youth Choir rehearsals are typically the 2nd Tuesday and/or Thursday before Youth Sunday. If you’re interested in learning more or joining the choir ministry\, please visit this page – https://njmbc1906.org/choir-music-ministry/. Also\, if you’re a New Jerusalem member\, and haven’t signed up to receive text messages\, you can sign-up at this link – https://njmbc1906.org/contact/#receivetextmessages. This will help keep you in the overall loop of ministry updates / changes\, events and other things going on at NJMBC.
URL:https://njmbc1906.org/event/choir-rehearsal/2026-05-26/
CATEGORIES:Choir Rehearsal
ATTACH;FMTTYPE=image/jpeg:https://njmbc1906.org/wp-content/uploads/2023/02/Choir_Ministry_Graphic_New_Jerusalem_Church_Calendar_Thumbnails-1.jpg
ORGANIZER;CN="Sis. Shequeta Wells Murphy":MAILTO:choirministry@njmbc1906.org
END:VEVENT
BEGIN:VEVENT
DTSTART;TZID=America/Chicago:20260526T180000
DTEND;TZID=America/Chicago:20260526T190000
DTSTAMP:20260419T083830
CREATED:20230220T014029Z
LAST-MODIFIED:20231005T211013Z
UID:10000667-1779818400-1779822000@njmbc1906.org
SUMMARY:Sunday School Teacher's Meeting
DESCRIPTION:Sunday School Teacher’s Meeting is held every 2nd and 4th Tuesday of each month\, via Zoom\, and is in place for teacher discussions of upcoming Sunday School lessons. This helps to “Rightly Divide The Word of Truth”. If you’re interested in Teaching or being a Teacher’s Assistant\, or learning more about Sunday School\, visit this page – https://njmbc1906.org/sunday-school/. You can join us on Sunday mornings for classes\, starting at 9am. There are classes for all ages. Visit this link – https://njmbc1906.org/sunday-school-online/. Also\, if you’re a New Jerusalem member\, and haven’t signed up to receive text messages\, you can sign-up at this link – https://njmbc1906.org/contact/#receivetextmessages. This will help keep you in the overall loop of ministry updates / changes\, events and other things going on at NJMBC.
URL:https://njmbc1906.org/event/sunday-school-teachers-meeting/2026-05-26/
ATTACH;FMTTYPE=image/jpeg:https://njmbc1906.org/wp-content/uploads/2023/02/Sunday_School_Graphic_New_Jerusalem_Church_Calendar_Thumbnails.jpg
END:VEVENT
BEGIN:VEVENT
DTSTART;TZID=America/Chicago:20260524T083000
DTEND;TZID=America/Chicago:20260524T093000
DTSTAMP:20260419T083830
CREATED:20260107T155825Z
LAST-MODIFIED:20260107T171411Z
UID:10002836-1779611400-1779615000@njmbc1906.org
SUMMARY:In-Person Sunday School
DESCRIPTION:In-person Sunday School is held every Sunday. To learn more about the Sunday School\, visit this link – https://njmbc1906.org/sunday-school/. Also\, if you’re a New Jerusalem member\, and haven’t signed up to receive text messages\, you can sign-up at this link – https://njmbc1906.org/contact/#receivetextmessages. This will help keep you in the overall loop of ministry updates / changes\, events and other things going on at NJMBC.
URL:https://njmbc1906.org/event/in-person-sunday-school/2026-05-24/
CATEGORIES:Sunday School
ATTACH;FMTTYPE=image/png:https://njmbc1906.org/wp-content/uploads/2026/01/In-Person_Sunday_School_Square_NJMBC_Social_Media_Graphic_2026.png
END:VEVENT
BEGIN:VEVENT
DTSTART;TZID=America/Chicago:20260523T070000
DTEND;TZID=America/Chicago:20260523T090000
DTSTAMP:20260419T083830
CREATED:20251218T221244Z
LAST-MODIFIED:20251218T232358Z
UID:10002498-1779519600-1779526800@njmbc1906.org
SUMMARY:Food Pantry
DESCRIPTION:
URL:https://njmbc1906.org/event/food-pantry-2/2026-05-23/
LOCATION:New Jerusalem MB Church\, 518 Gum St\, Greenville\, MS\, 38701\, United States
CATEGORIES:Food Pantry
ATTACH;FMTTYPE=image/png:https://njmbc1906.org/wp-content/uploads/2024/11/Food_Pantry_Calendar_Graphic.png
END:VEVENT
BEGIN:VEVENT
DTSTART;TZID=America/Chicago:20260521T180000
DTEND;TZID=America/Chicago:20260521T190000
DTSTAMP:20260419T083830
CREATED:20230220T032342Z
LAST-MODIFIED:20231005T211311Z
UID:10001013-1779386400-1779390000@njmbc1906.org
SUMMARY:Senior Ushers Meet
DESCRIPTION:Usher’s Meeting is held every 3rd Thursday of each month\, via Conference Call. If you have any questions or to learn more about the Usher’s Ministry\, visit this link – https://njmbc1906.org/usher-ministry/. Also\, if you’re a New Jerusalem member\, and haven’t signed up to receive text messages\, you can sign-up at this link – https://njmbc1906.org/contact/#receivetextmessages. This will help keep you in the overall loop of ministry updates / changes\, events and other things going on at NJMBC.
URL:https://njmbc1906.org/event/senior-ushers-meet/2026-05-21/
CATEGORIES:Usher's Ministry
ATTACH;FMTTYPE=image/jpeg:https://njmbc1906.org/wp-content/uploads/2023/02/Ushers_Ministry_Mondays_Graphic_New_Jerusalem_Church_Calendar_Thumbnails.jpg
ORGANIZER;CN="Sis. Gloria Dukes":MAILTO:usherministry@njmbc1906.org
END:VEVENT
BEGIN:VEVENT
DTSTART;TZID=America/Chicago:20260519T180000
DTEND;TZID=America/Chicago:20260519T190000
DTSTAMP:20260419T083830
CREATED:20230220T022907Z
LAST-MODIFIED:20231005T211108Z
UID:10001203-1779213600-1779217200@njmbc1906.org
SUMMARY:Choir Rehearsal
DESCRIPTION:Adult Choir Rehearsal is held every Tuesday of the month. We have a men’s choir rehearsal when there’s a 5th Sunday in the month. Youth Choir rehearsals are typically the 2nd Tuesday and/or Thursday before Youth Sunday. If you’re interested in learning more or joining the choir ministry\, please visit this page – https://njmbc1906.org/choir-music-ministry/. Also\, if you’re a New Jerusalem member\, and haven’t signed up to receive text messages\, you can sign-up at this link – https://njmbc1906.org/contact/#receivetextmessages. This will help keep you in the overall loop of ministry updates / changes\, events and other things going on at NJMBC.
URL:https://njmbc1906.org/event/choir-rehearsal/2026-05-19/
CATEGORIES:Choir Rehearsal
ATTACH;FMTTYPE=image/jpeg:https://njmbc1906.org/wp-content/uploads/2023/02/Choir_Ministry_Graphic_New_Jerusalem_Church_Calendar_Thumbnails-1.jpg
ORGANIZER;CN="Sis. Shequeta Wells Murphy":MAILTO:choirministry@njmbc1906.org
END:VEVENT
BEGIN:VEVENT
DTSTART;TZID=America/Chicago:20260518T180000
DTEND;TZID=America/Chicago:20260518T190000
DTSTAMP:20260419T083830
CREATED:20251217T190131Z
LAST-MODIFIED:20251217T190131Z
UID:10002295-1779127200-1779130800@njmbc1906.org
SUMMARY:Men's Ministry Mondays
DESCRIPTION:
URL:https://njmbc1906.org/event/mens-ministry-mondays/2026-05-18/
CATEGORIES:Men's Ministry
ATTACH;FMTTYPE=image/jpeg:https://njmbc1906.org/wp-content/uploads/2023/02/Mens_Ministryl_Mondays_Graphic_New_Jerusalem_Church_Calendar_Thumbnails.jpg
ORGANIZER;CN="Bro. Dewon Hall":MAILTO:mensministry@njmbc1906.org
END:VEVENT
BEGIN:VEVENT
DTSTART;TZID=America/Chicago:20260517T083000
DTEND;TZID=America/Chicago:20260517T093000
DTSTAMP:20260419T083830
CREATED:20260107T155825Z
LAST-MODIFIED:20260107T171411Z
UID:10002835-1779006600-1779010200@njmbc1906.org
SUMMARY:In-Person Sunday School
DESCRIPTION:In-person Sunday School is held every Sunday. To learn more about the Sunday School\, visit this link – https://njmbc1906.org/sunday-school/. Also\, if you’re a New Jerusalem member\, and haven’t signed up to receive text messages\, you can sign-up at this link – https://njmbc1906.org/contact/#receivetextmessages. This will help keep you in the overall loop of ministry updates / changes\, events and other things going on at NJMBC.
URL:https://njmbc1906.org/event/in-person-sunday-school/2026-05-17/
CATEGORIES:Sunday School
ATTACH;FMTTYPE=image/png:https://njmbc1906.org/wp-content/uploads/2026/01/In-Person_Sunday_School_Square_NJMBC_Social_Media_Graphic_2026.png
END:VEVENT
BEGIN:VEVENT
DTSTART;TZID=America/Chicago:20260513T173000
DTEND;TZID=America/Chicago:20260513T183000
DTSTAMP:20260419T083830
CREATED:20230220T025813Z
LAST-MODIFIED:20231005T211141Z
UID:10000928-1778693400-1778697000@njmbc1906.org
SUMMARY:Mission Ministry Wednesday's
DESCRIPTION:Mission Ministry Wednesday’s are held every Wednesday of each month and discuss a variety of topics. To learn more about the Mission Ministry\, visit this link – https://njmbc1906.org/mission-ministry/. Also\, if you’re a New Jerusalem member\, and haven’t signed up to receive text messages\, you can sign-up at this link – https://njmbc1906.org/contact/#receivetextmessages. This will help keep you in the overall loop of ministry updates / changes\, events and other things going on at NJMBC.
URL:https://njmbc1906.org/event/mission-ministry/2026-05-13/
CATEGORIES:Mission Ministry
ATTACH;FMTTYPE=image/jpeg:https://njmbc1906.org/wp-content/uploads/2023/02/Mission_Ministry_Graphic_New_Jerusalem_Church_Calendar_Thumbnails-1.jpg
ORGANIZER;CN="Sis. Shelia Parker":MAILTO:missionministry@njmbc1906.org
END:VEVENT
BEGIN:VEVENT
DTSTART;TZID=America/Chicago:20260512T180000
DTEND;TZID=America/Chicago:20260512T190000
DTSTAMP:20260419T083830
CREATED:20230220T022907Z
LAST-MODIFIED:20231005T211108Z
UID:10001202-1778608800-1778612400@njmbc1906.org
SUMMARY:Choir Rehearsal
DESCRIPTION:Adult Choir Rehearsal is held every Tuesday of the month. We have a men’s choir rehearsal when there’s a 5th Sunday in the month. Youth Choir rehearsals are typically the 2nd Tuesday and/or Thursday before Youth Sunday. If you’re interested in learning more or joining the choir ministry\, please visit this page – https://njmbc1906.org/choir-music-ministry/. Also\, if you’re a New Jerusalem member\, and haven’t signed up to receive text messages\, you can sign-up at this link – https://njmbc1906.org/contact/#receivetextmessages. This will help keep you in the overall loop of ministry updates / changes\, events and other things going on at NJMBC.
URL:https://njmbc1906.org/event/choir-rehearsal/2026-05-12/
CATEGORIES:Choir Rehearsal
ATTACH;FMTTYPE=image/jpeg:https://njmbc1906.org/wp-content/uploads/2023/02/Choir_Ministry_Graphic_New_Jerusalem_Church_Calendar_Thumbnails-1.jpg
ORGANIZER;CN="Sis. Shequeta Wells Murphy":MAILTO:choirministry@njmbc1906.org
END:VEVENT
BEGIN:VEVENT
DTSTART;TZID=America/Chicago:20260512T180000
DTEND;TZID=America/Chicago:20260512T190000
DTSTAMP:20260419T083830
CREATED:20230220T014029Z
LAST-MODIFIED:20231005T211013Z
UID:10000666-1778608800-1778612400@njmbc1906.org
SUMMARY:Sunday School Teacher's Meeting
DESCRIPTION:Sunday School Teacher’s Meeting is held every 2nd and 4th Tuesday of each month\, via Zoom\, and is in place for teacher discussions of upcoming Sunday School lessons. This helps to “Rightly Divide The Word of Truth”. If you’re interested in Teaching or being a Teacher’s Assistant\, or learning more about Sunday School\, visit this page – https://njmbc1906.org/sunday-school/. You can join us on Sunday mornings for classes\, starting at 9am. There are classes for all ages. Visit this link – https://njmbc1906.org/sunday-school-online/. Also\, if you’re a New Jerusalem member\, and haven’t signed up to receive text messages\, you can sign-up at this link – https://njmbc1906.org/contact/#receivetextmessages. This will help keep you in the overall loop of ministry updates / changes\, events and other things going on at NJMBC.
URL:https://njmbc1906.org/event/sunday-school-teachers-meeting/2026-05-12/
ATTACH;FMTTYPE=image/jpeg:https://njmbc1906.org/wp-content/uploads/2023/02/Sunday_School_Graphic_New_Jerusalem_Church_Calendar_Thumbnails.jpg
END:VEVENT
BEGIN:VEVENT
DTSTART;TZID=America/Chicago:20260510T094500
DTEND;TZID=America/Chicago:20260510T110000
DTSTAMP:20260419T083830
CREATED:20240226T044840Z
LAST-MODIFIED:20260113T033055Z
UID:10003124-1778406300-1778410800@njmbc1906.org
SUMMARY:Youth Sunday
DESCRIPTION:
URL:https://njmbc1906.org/event/youth-sunday-2/2026-05-10/
CATEGORIES:Youth Ministry
ATTACH;FMTTYPE=image/png:https://njmbc1906.org/wp-content/uploads/2024/02/Youth_Ministry_Graphic_for_NJMBC_CalendarSquare_NJMBC_Social_Media_Graphic_2023.png
END:VEVENT
BEGIN:VEVENT
DTSTART;TZID=America/Chicago:20260510T083000
DTEND;TZID=America/Chicago:20260510T093000
DTSTAMP:20260419T083830
CREATED:20260107T155825Z
LAST-MODIFIED:20260107T171411Z
UID:10002834-1778401800-1778405400@njmbc1906.org
SUMMARY:In-Person Sunday School
DESCRIPTION:In-person Sunday School is held every Sunday. To learn more about the Sunday School\, visit this link – https://njmbc1906.org/sunday-school/. Also\, if you’re a New Jerusalem member\, and haven’t signed up to receive text messages\, you can sign-up at this link – https://njmbc1906.org/contact/#receivetextmessages. This will help keep you in the overall loop of ministry updates / changes\, events and other things going on at NJMBC.
URL:https://njmbc1906.org/event/in-person-sunday-school/2026-05-10/
CATEGORIES:Sunday School
ATTACH;FMTTYPE=image/png:https://njmbc1906.org/wp-content/uploads/2026/01/In-Person_Sunday_School_Square_NJMBC_Social_Media_Graphic_2026.png
END:VEVENT
BEGIN:VEVENT
DTSTART;TZID=America/Chicago:20260509T110000
DTEND;TZID=America/Chicago:20260509T140000
DTSTAMP:20260419T083830
CREATED:20260113T030903Z
LAST-MODIFIED:20260113T030903Z
UID:10003091-1778324400-1778335200@njmbc1906.org
SUMMARY:Y.E.S. Session
DESCRIPTION:
URL:https://njmbc1906.org/event/y-e-s-session/
END:VEVENT
BEGIN:VEVENT
DTSTART;TZID=America/Chicago:20260506T183000
DTEND;TZID=America/Chicago:20260506T193000
DTSTAMP:20260419T083830
CREATED:20260113T030753Z
LAST-MODIFIED:20260113T030753Z
UID:10003090-1778092200-1778095800@njmbc1906.org
SUMMARY:Youth Bible Study
DESCRIPTION:
URL:https://njmbc1906.org/event/youth-bible-study-19/
LOCATION:New Jerusalem MB Church\, 518 Gum St\, Greenville\, MS\, 38701\, United States
END:VEVENT
BEGIN:VEVENT
DTSTART;TZID=America/Chicago:20260505T180000
DTEND;TZID=America/Chicago:20260505T190000
DTSTAMP:20260419T083830
CREATED:20230220T022907Z
LAST-MODIFIED:20231005T211108Z
UID:10001201-1778004000-1778007600@njmbc1906.org
SUMMARY:Choir Rehearsal
DESCRIPTION:Adult Choir Rehearsal is held every Tuesday of the month. We have a men’s choir rehearsal when there’s a 5th Sunday in the month. Youth Choir rehearsals are typically the 2nd Tuesday and/or Thursday before Youth Sunday. If you’re interested in learning more or joining the choir ministry\, please visit this page – https://njmbc1906.org/choir-music-ministry/. Also\, if you’re a New Jerusalem member\, and haven’t signed up to receive text messages\, you can sign-up at this link – https://njmbc1906.org/contact/#receivetextmessages. This will help keep you in the overall loop of ministry updates / changes\, events and other things going on at NJMBC.
URL:https://njmbc1906.org/event/choir-rehearsal/2026-05-05/
CATEGORIES:Choir Rehearsal
ATTACH;FMTTYPE=image/jpeg:https://njmbc1906.org/wp-content/uploads/2023/02/Choir_Ministry_Graphic_New_Jerusalem_Church_Calendar_Thumbnails-1.jpg
ORGANIZER;CN="Sis. Shequeta Wells Murphy":MAILTO:choirministry@njmbc1906.org
END:VEVENT
BEGIN:VEVENT
DTSTART;TZID=America/Chicago:20260504T180000
DTEND;TZID=America/Chicago:20260504T190000
DTSTAMP:20260419T083830
CREATED:20251217T190131Z
LAST-MODIFIED:20251217T190131Z
UID:10002294-1777917600-1777921200@njmbc1906.org
SUMMARY:Men's Ministry Mondays
DESCRIPTION:
URL:https://njmbc1906.org/event/mens-ministry-mondays/2026-05-04/
CATEGORIES:Men's Ministry
ATTACH;FMTTYPE=image/jpeg:https://njmbc1906.org/wp-content/uploads/2023/02/Mens_Ministryl_Mondays_Graphic_New_Jerusalem_Church_Calendar_Thumbnails.jpg
ORGANIZER;CN="Bro. Dewon Hall":MAILTO:mensministry@njmbc1906.org
END:VEVENT
BEGIN:VEVENT
DTSTART;TZID=America/Chicago:20260504T180000
DTEND;TZID=America/Chicago:20260504T190000
DTSTAMP:20260419T083830
CREATED:20241008T012725Z
LAST-MODIFIED:20241008T012725Z
UID:10002129-1777917600-1777921200@njmbc1906.org
SUMMARY:Signing & Deaf Ministry Meeting & ASL Practice
DESCRIPTION:The Signing & Deaf Ministry meets and practices ASL on the first Monday of each month from 6 to 7 pm.
URL:https://njmbc1906.org/event/signing-deaf-ministry-meeting-asl-practice/2026-05-04/
END:VEVENT
BEGIN:VEVENT
DTSTART;TZID=America/Chicago:20260503T083000
DTEND;TZID=America/Chicago:20260503T093000
DTSTAMP:20260419T083830
CREATED:20260107T155825Z
LAST-MODIFIED:20260107T171411Z
UID:10002833-1777797000-1777800600@njmbc1906.org
SUMMARY:In-Person Sunday School
DESCRIPTION:In-person Sunday School is held every Sunday. To learn more about the Sunday School\, visit this link – https://njmbc1906.org/sunday-school/. Also\, if you’re a New Jerusalem member\, and haven’t signed up to receive text messages\, you can sign-up at this link – https://njmbc1906.org/contact/#receivetextmessages. This will help keep you in the overall loop of ministry updates / changes\, events and other things going on at NJMBC.
URL:https://njmbc1906.org/event/in-person-sunday-school/2026-05-03/
CATEGORIES:Sunday School
ATTACH;FMTTYPE=image/png:https://njmbc1906.org/wp-content/uploads/2026/01/In-Person_Sunday_School_Square_NJMBC_Social_Media_Graphic_2026.png
END:VEVENT
BEGIN:VEVENT
DTSTART;TZID=America/Chicago:20260502T100000
DTEND;TZID=America/Chicago:20260502T113000
DTSTAMP:20260419T083830
CREATED:20260316T145411Z
LAST-MODIFIED:20260316T145411Z
UID:10003189-1777716000-1777721400@njmbc1906.org
SUMMARY:Girl Talk
DESCRIPTION:Girls ages 13-18 are invited to our first quarterly Girl Talk Session – “Breaking The Ice.” This will be a fun time for our girls to fellowship together. We will have heart-felt conversations about their interests\, hobbies\, career goals\, struggles\, etc. Through these services\, our girls will begin to see themselves more through Christ’s truth and not the world’s labels. Mark your calendars and plan to attend. We welcome parents who would like to attend and volunteer to help.
URL:https://njmbc1906.org/event/girl-talk/
LOCATION:New Jerusalem MB Church\, 518 Gum St\, Greenville\, MS\, 38701\, United States
END:VEVENT
END:VCALENDAR