BEGIN:VCALENDAR
VERSION:2.0
PRODID:-//New Jerusalem Missionary Baptist Church | Greenville, Mississippi - - ECPv6.15.20//NONSGML v1.0//EN
CALSCALE:GREGORIAN
METHOD:PUBLISH
X-WR-CALNAME:New Jerusalem Missionary Baptist Church | Greenville, Mississippi -
X-ORIGINAL-URL:https://njmbc1906.org
X-WR-CALDESC:Events for New Jerusalem Missionary Baptist Church | Greenville, Mississippi -
REFRESH-INTERVAL;VALUE=DURATION:PT1H
X-Robots-Tag:noindex
X-PUBLISHED-TTL:PT1H
BEGIN:VTIMEZONE
TZID:America/Chicago
BEGIN:DAYLIGHT
TZOFFSETFROM:-0600
TZOFFSETTO:-0500
TZNAME:CDT
DTSTART:20280312T080000
END:DAYLIGHT
BEGIN:STANDARD
TZOFFSETFROM:-0500
TZOFFSETTO:-0600
TZNAME:CST
DTSTART:20281105T070000
END:STANDARD
BEGIN:DAYLIGHT
TZOFFSETFROM:-0600
TZOFFSETTO:-0500
TZNAME:CDT
DTSTART:20290311T080000
END:DAYLIGHT
BEGIN:STANDARD
TZOFFSETFROM:-0500
TZOFFSETTO:-0600
TZNAME:CST
DTSTART:20291104T070000
END:STANDARD
BEGIN:DAYLIGHT
TZOFFSETFROM:-0600
TZOFFSETTO:-0500
TZNAME:CDT
DTSTART:20300310T080000
END:DAYLIGHT
BEGIN:STANDARD
TZOFFSETFROM:-0500
TZOFFSETTO:-0600
TZNAME:CST
DTSTART:20301103T070000
END:STANDARD
END:VTIMEZONE
BEGIN:VEVENT
DTSTART;TZID=America/Chicago:20290311T094500
DTEND;TZID=America/Chicago:20290311T110000
DTSTAMP:20260421T010239
CREATED:20240226T044840Z
LAST-MODIFIED:20260113T033055Z
UID:10003158-1867916700-1867921200@njmbc1906.org
SUMMARY:Youth Sunday
DESCRIPTION:
URL:https://njmbc1906.org/event/youth-sunday-2/2029-03-11/
CATEGORIES:Youth Ministry
ATTACH;FMTTYPE=image/png:https://njmbc1906.org/wp-content/uploads/2024/02/Youth_Ministry_Graphic_for_NJMBC_CalendarSquare_NJMBC_Social_Media_Graphic_2023.png
END:VEVENT
BEGIN:VEVENT
DTSTART;TZID=America/Chicago:20290318T083000
DTEND;TZID=America/Chicago:20290318T093000
DTSTAMP:20260421T010239
CREATED:20260107T155825Z
LAST-MODIFIED:20260107T171411Z
UID:10002983-1868517000-1868520600@njmbc1906.org
SUMMARY:In-Person Sunday School
DESCRIPTION:In-person Sunday School is held every Sunday. To learn more about the Sunday School\, visit this link – https://njmbc1906.org/sunday-school/. Also\, if you’re a New Jerusalem member\, and haven’t signed up to receive text messages\, you can sign-up at this link – https://njmbc1906.org/contact/#receivetextmessages. This will help keep you in the overall loop of ministry updates / changes\, events and other things going on at NJMBC.
URL:https://njmbc1906.org/event/in-person-sunday-school/2029-03-18/
CATEGORIES:Sunday School
ATTACH;FMTTYPE=image/png:https://njmbc1906.org/wp-content/uploads/2026/01/In-Person_Sunday_School_Square_NJMBC_Social_Media_Graphic_2026.png
END:VEVENT
BEGIN:VEVENT
DTSTART;TZID=America/Chicago:20290319T180000
DTEND;TZID=America/Chicago:20290319T190000
DTSTAMP:20260421T010239
CREATED:20251217T190131Z
LAST-MODIFIED:20251217T190131Z
UID:10002369-1868637600-1868641200@njmbc1906.org
SUMMARY:Men's Ministry Mondays
DESCRIPTION:
URL:https://njmbc1906.org/event/mens-ministry-mondays/2029-03-19/
CATEGORIES:Men's Ministry
ATTACH;FMTTYPE=image/jpeg:https://njmbc1906.org/wp-content/uploads/2023/02/Mens_Ministryl_Mondays_Graphic_New_Jerusalem_Church_Calendar_Thumbnails.jpg
ORGANIZER;CN="Bro. Dewon Hall":MAILTO:mensministry@njmbc1906.org
END:VEVENT
BEGIN:VEVENT
DTSTART;TZID=America/Chicago:20290325T083000
DTEND;TZID=America/Chicago:20290325T093000
DTSTAMP:20260421T010239
CREATED:20260107T155825Z
LAST-MODIFIED:20260107T171411Z
UID:10002984-1869121800-1869125400@njmbc1906.org
SUMMARY:In-Person Sunday School
DESCRIPTION:In-person Sunday School is held every Sunday. To learn more about the Sunday School\, visit this link – https://njmbc1906.org/sunday-school/. Also\, if you’re a New Jerusalem member\, and haven’t signed up to receive text messages\, you can sign-up at this link – https://njmbc1906.org/contact/#receivetextmessages. This will help keep you in the overall loop of ministry updates / changes\, events and other things going on at NJMBC.
URL:https://njmbc1906.org/event/in-person-sunday-school/2029-03-25/
CATEGORIES:Sunday School
ATTACH;FMTTYPE=image/png:https://njmbc1906.org/wp-content/uploads/2026/01/In-Person_Sunday_School_Square_NJMBC_Social_Media_Graphic_2026.png
END:VEVENT
BEGIN:VEVENT
DTSTART;TZID=America/Chicago:20290401T083000
DTEND;TZID=America/Chicago:20290401T093000
DTSTAMP:20260421T010239
CREATED:20260107T155825Z
LAST-MODIFIED:20260107T171411Z
UID:10002985-1869726600-1869730200@njmbc1906.org
SUMMARY:In-Person Sunday School
DESCRIPTION:In-person Sunday School is held every Sunday. To learn more about the Sunday School\, visit this link – https://njmbc1906.org/sunday-school/. Also\, if you’re a New Jerusalem member\, and haven’t signed up to receive text messages\, you can sign-up at this link – https://njmbc1906.org/contact/#receivetextmessages. This will help keep you in the overall loop of ministry updates / changes\, events and other things going on at NJMBC.
URL:https://njmbc1906.org/event/in-person-sunday-school/2029-04-01/
CATEGORIES:Sunday School
ATTACH;FMTTYPE=image/png:https://njmbc1906.org/wp-content/uploads/2026/01/In-Person_Sunday_School_Square_NJMBC_Social_Media_Graphic_2026.png
END:VEVENT
BEGIN:VEVENT
DTSTART;TZID=America/Chicago:20290402T180000
DTEND;TZID=America/Chicago:20290402T190000
DTSTAMP:20260421T010239
CREATED:20241008T012725Z
LAST-MODIFIED:20241008T012725Z
UID:10002164-1869847200-1869850800@njmbc1906.org
SUMMARY:Signing & Deaf Ministry Meeting & ASL Practice
DESCRIPTION:The Signing & Deaf Ministry meets and practices ASL on the first Monday of each month from 6 to 7 pm.
URL:https://njmbc1906.org/event/signing-deaf-ministry-meeting-asl-practice/2029-04-02/
END:VEVENT
BEGIN:VEVENT
DTSTART;TZID=America/Chicago:20290402T180000
DTEND;TZID=America/Chicago:20290402T190000
DTSTAMP:20260421T010239
CREATED:20251217T190131Z
LAST-MODIFIED:20251217T190131Z
UID:10002370-1869847200-1869850800@njmbc1906.org
SUMMARY:Men's Ministry Mondays
DESCRIPTION:
URL:https://njmbc1906.org/event/mens-ministry-mondays/2029-04-02/
CATEGORIES:Men's Ministry
ATTACH;FMTTYPE=image/jpeg:https://njmbc1906.org/wp-content/uploads/2023/02/Mens_Ministryl_Mondays_Graphic_New_Jerusalem_Church_Calendar_Thumbnails.jpg
ORGANIZER;CN="Bro. Dewon Hall":MAILTO:mensministry@njmbc1906.org
END:VEVENT
BEGIN:VEVENT
DTSTART;TZID=America/Chicago:20290408T083000
DTEND;TZID=America/Chicago:20290408T093000
DTSTAMP:20260421T010239
CREATED:20260107T155825Z
LAST-MODIFIED:20260107T171411Z
UID:10002986-1870331400-1870335000@njmbc1906.org
SUMMARY:In-Person Sunday School
DESCRIPTION:In-person Sunday School is held every Sunday. To learn more about the Sunday School\, visit this link – https://njmbc1906.org/sunday-school/. Also\, if you’re a New Jerusalem member\, and haven’t signed up to receive text messages\, you can sign-up at this link – https://njmbc1906.org/contact/#receivetextmessages. This will help keep you in the overall loop of ministry updates / changes\, events and other things going on at NJMBC.
URL:https://njmbc1906.org/event/in-person-sunday-school/2029-04-08/
CATEGORIES:Sunday School
ATTACH;FMTTYPE=image/png:https://njmbc1906.org/wp-content/uploads/2026/01/In-Person_Sunday_School_Square_NJMBC_Social_Media_Graphic_2026.png
END:VEVENT
BEGIN:VEVENT
DTSTART;TZID=America/Chicago:20290408T094500
DTEND;TZID=America/Chicago:20290408T110000
DTSTAMP:20260421T010239
CREATED:20240226T044840Z
LAST-MODIFIED:20260113T033055Z
UID:10003159-1870335900-1870340400@njmbc1906.org
SUMMARY:Youth Sunday
DESCRIPTION:
URL:https://njmbc1906.org/event/youth-sunday-2/2029-04-08/
CATEGORIES:Youth Ministry
ATTACH;FMTTYPE=image/png:https://njmbc1906.org/wp-content/uploads/2024/02/Youth_Ministry_Graphic_for_NJMBC_CalendarSquare_NJMBC_Social_Media_Graphic_2023.png
END:VEVENT
BEGIN:VEVENT
DTSTART;TZID=America/Chicago:20290415T083000
DTEND;TZID=America/Chicago:20290415T093000
DTSTAMP:20260421T010239
CREATED:20260107T155825Z
LAST-MODIFIED:20260107T171411Z
UID:10002987-1870936200-1870939800@njmbc1906.org
SUMMARY:In-Person Sunday School
DESCRIPTION:In-person Sunday School is held every Sunday. To learn more about the Sunday School\, visit this link – https://njmbc1906.org/sunday-school/. Also\, if you’re a New Jerusalem member\, and haven’t signed up to receive text messages\, you can sign-up at this link – https://njmbc1906.org/contact/#receivetextmessages. This will help keep you in the overall loop of ministry updates / changes\, events and other things going on at NJMBC.
URL:https://njmbc1906.org/event/in-person-sunday-school/2029-04-15/
CATEGORIES:Sunday School
ATTACH;FMTTYPE=image/png:https://njmbc1906.org/wp-content/uploads/2026/01/In-Person_Sunday_School_Square_NJMBC_Social_Media_Graphic_2026.png
END:VEVENT
BEGIN:VEVENT
DTSTART;TZID=America/Chicago:20290416T180000
DTEND;TZID=America/Chicago:20290416T190000
DTSTAMP:20260421T010239
CREATED:20251217T190131Z
LAST-MODIFIED:20251217T190131Z
UID:10002371-1871056800-1871060400@njmbc1906.org
SUMMARY:Men's Ministry Mondays
DESCRIPTION:
URL:https://njmbc1906.org/event/mens-ministry-mondays/2029-04-16/
CATEGORIES:Men's Ministry
ATTACH;FMTTYPE=image/jpeg:https://njmbc1906.org/wp-content/uploads/2023/02/Mens_Ministryl_Mondays_Graphic_New_Jerusalem_Church_Calendar_Thumbnails.jpg
ORGANIZER;CN="Bro. Dewon Hall":MAILTO:mensministry@njmbc1906.org
END:VEVENT
BEGIN:VEVENT
DTSTART;TZID=America/Chicago:20290422T083000
DTEND;TZID=America/Chicago:20290422T093000
DTSTAMP:20260421T010239
CREATED:20260107T155825Z
LAST-MODIFIED:20260107T171411Z
UID:10002988-1871541000-1871544600@njmbc1906.org
SUMMARY:In-Person Sunday School
DESCRIPTION:In-person Sunday School is held every Sunday. To learn more about the Sunday School\, visit this link – https://njmbc1906.org/sunday-school/. Also\, if you’re a New Jerusalem member\, and haven’t signed up to receive text messages\, you can sign-up at this link – https://njmbc1906.org/contact/#receivetextmessages. This will help keep you in the overall loop of ministry updates / changes\, events and other things going on at NJMBC.
URL:https://njmbc1906.org/event/in-person-sunday-school/2029-04-22/
CATEGORIES:Sunday School
ATTACH;FMTTYPE=image/png:https://njmbc1906.org/wp-content/uploads/2026/01/In-Person_Sunday_School_Square_NJMBC_Social_Media_Graphic_2026.png
END:VEVENT
BEGIN:VEVENT
DTSTART;TZID=America/Chicago:20290429T083000
DTEND;TZID=America/Chicago:20290429T093000
DTSTAMP:20260421T010239
CREATED:20260107T155825Z
LAST-MODIFIED:20260107T171411Z
UID:10002989-1872145800-1872149400@njmbc1906.org
SUMMARY:In-Person Sunday School
DESCRIPTION:In-person Sunday School is held every Sunday. To learn more about the Sunday School\, visit this link – https://njmbc1906.org/sunday-school/. Also\, if you’re a New Jerusalem member\, and haven’t signed up to receive text messages\, you can sign-up at this link – https://njmbc1906.org/contact/#receivetextmessages. This will help keep you in the overall loop of ministry updates / changes\, events and other things going on at NJMBC.
URL:https://njmbc1906.org/event/in-person-sunday-school/2029-04-29/
CATEGORIES:Sunday School
ATTACH;FMTTYPE=image/png:https://njmbc1906.org/wp-content/uploads/2026/01/In-Person_Sunday_School_Square_NJMBC_Social_Media_Graphic_2026.png
END:VEVENT
BEGIN:VEVENT
DTSTART;TZID=America/Chicago:20290430T180000
DTEND;TZID=America/Chicago:20290430T190000
DTSTAMP:20260421T010239
CREATED:20251217T190131Z
LAST-MODIFIED:20251217T190131Z
UID:10002372-1872266400-1872270000@njmbc1906.org
SUMMARY:Men's Ministry Mondays
DESCRIPTION:
URL:https://njmbc1906.org/event/mens-ministry-mondays/2029-04-30/
CATEGORIES:Men's Ministry
ATTACH;FMTTYPE=image/jpeg:https://njmbc1906.org/wp-content/uploads/2023/02/Mens_Ministryl_Mondays_Graphic_New_Jerusalem_Church_Calendar_Thumbnails.jpg
ORGANIZER;CN="Bro. Dewon Hall":MAILTO:mensministry@njmbc1906.org
END:VEVENT
BEGIN:VEVENT
DTSTART;TZID=America/Chicago:20290506T083000
DTEND;TZID=America/Chicago:20290506T093000
DTSTAMP:20260421T010239
CREATED:20260107T155825Z
LAST-MODIFIED:20260107T171411Z
UID:10002990-1872750600-1872754200@njmbc1906.org
SUMMARY:In-Person Sunday School
DESCRIPTION:In-person Sunday School is held every Sunday. To learn more about the Sunday School\, visit this link – https://njmbc1906.org/sunday-school/. Also\, if you’re a New Jerusalem member\, and haven’t signed up to receive text messages\, you can sign-up at this link – https://njmbc1906.org/contact/#receivetextmessages. This will help keep you in the overall loop of ministry updates / changes\, events and other things going on at NJMBC.
URL:https://njmbc1906.org/event/in-person-sunday-school/2029-05-06/
CATEGORIES:Sunday School
ATTACH;FMTTYPE=image/png:https://njmbc1906.org/wp-content/uploads/2026/01/In-Person_Sunday_School_Square_NJMBC_Social_Media_Graphic_2026.png
END:VEVENT
BEGIN:VEVENT
DTSTART;TZID=America/Chicago:20290507T180000
DTEND;TZID=America/Chicago:20290507T190000
DTSTAMP:20260421T010239
CREATED:20241008T012725Z
LAST-MODIFIED:20241008T012725Z
UID:10002165-1872871200-1872874800@njmbc1906.org
SUMMARY:Signing & Deaf Ministry Meeting & ASL Practice
DESCRIPTION:The Signing & Deaf Ministry meets and practices ASL on the first Monday of each month from 6 to 7 pm.
URL:https://njmbc1906.org/event/signing-deaf-ministry-meeting-asl-practice/2029-05-07/
END:VEVENT
BEGIN:VEVENT
DTSTART;TZID=America/Chicago:20290513T083000
DTEND;TZID=America/Chicago:20290513T093000
DTSTAMP:20260421T010239
CREATED:20260107T155825Z
LAST-MODIFIED:20260107T171411Z
UID:10002991-1873355400-1873359000@njmbc1906.org
SUMMARY:In-Person Sunday School
DESCRIPTION:In-person Sunday School is held every Sunday. To learn more about the Sunday School\, visit this link – https://njmbc1906.org/sunday-school/. Also\, if you’re a New Jerusalem member\, and haven’t signed up to receive text messages\, you can sign-up at this link – https://njmbc1906.org/contact/#receivetextmessages. This will help keep you in the overall loop of ministry updates / changes\, events and other things going on at NJMBC.
URL:https://njmbc1906.org/event/in-person-sunday-school/2029-05-13/
CATEGORIES:Sunday School
ATTACH;FMTTYPE=image/png:https://njmbc1906.org/wp-content/uploads/2026/01/In-Person_Sunday_School_Square_NJMBC_Social_Media_Graphic_2026.png
END:VEVENT
BEGIN:VEVENT
DTSTART;TZID=America/Chicago:20290513T094500
DTEND;TZID=America/Chicago:20290513T110000
DTSTAMP:20260421T010239
CREATED:20240226T044840Z
LAST-MODIFIED:20260113T033055Z
UID:10003160-1873359900-1873364400@njmbc1906.org
SUMMARY:Youth Sunday
DESCRIPTION:
URL:https://njmbc1906.org/event/youth-sunday-2/2029-05-13/
CATEGORIES:Youth Ministry
ATTACH;FMTTYPE=image/png:https://njmbc1906.org/wp-content/uploads/2024/02/Youth_Ministry_Graphic_for_NJMBC_CalendarSquare_NJMBC_Social_Media_Graphic_2023.png
END:VEVENT
BEGIN:VEVENT
DTSTART;TZID=America/Chicago:20290514T180000
DTEND;TZID=America/Chicago:20290514T190000
DTSTAMP:20260421T010239
CREATED:20251217T190131Z
LAST-MODIFIED:20251217T190131Z
UID:10002373-1873476000-1873479600@njmbc1906.org
SUMMARY:Men's Ministry Mondays
DESCRIPTION:
URL:https://njmbc1906.org/event/mens-ministry-mondays/2029-05-14/
CATEGORIES:Men's Ministry
ATTACH;FMTTYPE=image/jpeg:https://njmbc1906.org/wp-content/uploads/2023/02/Mens_Ministryl_Mondays_Graphic_New_Jerusalem_Church_Calendar_Thumbnails.jpg
ORGANIZER;CN="Bro. Dewon Hall":MAILTO:mensministry@njmbc1906.org
END:VEVENT
BEGIN:VEVENT
DTSTART;TZID=America/Chicago:20290520T083000
DTEND;TZID=America/Chicago:20290520T093000
DTSTAMP:20260421T010239
CREATED:20260107T155825Z
LAST-MODIFIED:20260107T171411Z
UID:10002992-1873960200-1873963800@njmbc1906.org
SUMMARY:In-Person Sunday School
DESCRIPTION:In-person Sunday School is held every Sunday. To learn more about the Sunday School\, visit this link – https://njmbc1906.org/sunday-school/. Also\, if you’re a New Jerusalem member\, and haven’t signed up to receive text messages\, you can sign-up at this link – https://njmbc1906.org/contact/#receivetextmessages. This will help keep you in the overall loop of ministry updates / changes\, events and other things going on at NJMBC.
URL:https://njmbc1906.org/event/in-person-sunday-school/2029-05-20/
CATEGORIES:Sunday School
ATTACH;FMTTYPE=image/png:https://njmbc1906.org/wp-content/uploads/2026/01/In-Person_Sunday_School_Square_NJMBC_Social_Media_Graphic_2026.png
END:VEVENT
BEGIN:VEVENT
DTSTART;TZID=America/Chicago:20290527T083000
DTEND;TZID=America/Chicago:20290527T093000
DTSTAMP:20260421T010239
CREATED:20260107T155825Z
LAST-MODIFIED:20260107T171411Z
UID:10002993-1874565000-1874568600@njmbc1906.org
SUMMARY:In-Person Sunday School
DESCRIPTION:In-person Sunday School is held every Sunday. To learn more about the Sunday School\, visit this link – https://njmbc1906.org/sunday-school/. Also\, if you’re a New Jerusalem member\, and haven’t signed up to receive text messages\, you can sign-up at this link – https://njmbc1906.org/contact/#receivetextmessages. This will help keep you in the overall loop of ministry updates / changes\, events and other things going on at NJMBC.
URL:https://njmbc1906.org/event/in-person-sunday-school/2029-05-27/
CATEGORIES:Sunday School
ATTACH;FMTTYPE=image/png:https://njmbc1906.org/wp-content/uploads/2026/01/In-Person_Sunday_School_Square_NJMBC_Social_Media_Graphic_2026.png
END:VEVENT
BEGIN:VEVENT
DTSTART;TZID=America/Chicago:20290528T180000
DTEND;TZID=America/Chicago:20290528T190000
DTSTAMP:20260421T010239
CREATED:20251217T190131Z
LAST-MODIFIED:20251217T190131Z
UID:10002374-1874685600-1874689200@njmbc1906.org
SUMMARY:Men's Ministry Mondays
DESCRIPTION:
URL:https://njmbc1906.org/event/mens-ministry-mondays/2029-05-28/
CATEGORIES:Men's Ministry
ATTACH;FMTTYPE=image/jpeg:https://njmbc1906.org/wp-content/uploads/2023/02/Mens_Ministryl_Mondays_Graphic_New_Jerusalem_Church_Calendar_Thumbnails.jpg
ORGANIZER;CN="Bro. Dewon Hall":MAILTO:mensministry@njmbc1906.org
END:VEVENT
BEGIN:VEVENT
DTSTART;TZID=America/Chicago:20290603T083000
DTEND;TZID=America/Chicago:20290603T093000
DTSTAMP:20260421T010239
CREATED:20260107T155825Z
LAST-MODIFIED:20260107T171411Z
UID:10002994-1875169800-1875173400@njmbc1906.org
SUMMARY:In-Person Sunday School
DESCRIPTION:In-person Sunday School is held every Sunday. To learn more about the Sunday School\, visit this link – https://njmbc1906.org/sunday-school/. Also\, if you’re a New Jerusalem member\, and haven’t signed up to receive text messages\, you can sign-up at this link – https://njmbc1906.org/contact/#receivetextmessages. This will help keep you in the overall loop of ministry updates / changes\, events and other things going on at NJMBC.
URL:https://njmbc1906.org/event/in-person-sunday-school/2029-06-03/
CATEGORIES:Sunday School
ATTACH;FMTTYPE=image/png:https://njmbc1906.org/wp-content/uploads/2026/01/In-Person_Sunday_School_Square_NJMBC_Social_Media_Graphic_2026.png
END:VEVENT
BEGIN:VEVENT
DTSTART;TZID=America/Chicago:20290604T180000
DTEND;TZID=America/Chicago:20290604T190000
DTSTAMP:20260421T010239
CREATED:20241008T012725Z
LAST-MODIFIED:20241008T012725Z
UID:10002166-1875290400-1875294000@njmbc1906.org
SUMMARY:Signing & Deaf Ministry Meeting & ASL Practice
DESCRIPTION:The Signing & Deaf Ministry meets and practices ASL on the first Monday of each month from 6 to 7 pm.
URL:https://njmbc1906.org/event/signing-deaf-ministry-meeting-asl-practice/2029-06-04/
END:VEVENT
BEGIN:VEVENT
DTSTART;TZID=America/Chicago:20290609T110000
DTEND;TZID=America/Chicago:20290609T130000
DTSTAMP:20260421T010239
CREATED:20251217T190437Z
LAST-MODIFIED:20251217T191958Z
UID:10002428-1875697200-1875704400@njmbc1906.org
SUMMARY:Boys to Men Workshop
DESCRIPTION:
URL:https://njmbc1906.org/event/boys-to-men-session/2029-06-09/
CATEGORIES:Boys to Men
ATTACH;FMTTYPE=image/png:https://njmbc1906.org/wp-content/uploads/2025/12/Boys_to_Men_Workshop_Square_NJMBC_Social_Media_Graphic_202522.png
END:VEVENT
BEGIN:VEVENT
DTSTART;TZID=America/Chicago:20290610T083000
DTEND;TZID=America/Chicago:20290610T093000
DTSTAMP:20260421T010239
CREATED:20260107T155825Z
LAST-MODIFIED:20260107T171411Z
UID:10002995-1875774600-1875778200@njmbc1906.org
SUMMARY:In-Person Sunday School
DESCRIPTION:In-person Sunday School is held every Sunday. To learn more about the Sunday School\, visit this link – https://njmbc1906.org/sunday-school/. Also\, if you’re a New Jerusalem member\, and haven’t signed up to receive text messages\, you can sign-up at this link – https://njmbc1906.org/contact/#receivetextmessages. This will help keep you in the overall loop of ministry updates / changes\, events and other things going on at NJMBC.
URL:https://njmbc1906.org/event/in-person-sunday-school/2029-06-10/
CATEGORIES:Sunday School
ATTACH;FMTTYPE=image/png:https://njmbc1906.org/wp-content/uploads/2026/01/In-Person_Sunday_School_Square_NJMBC_Social_Media_Graphic_2026.png
END:VEVENT
BEGIN:VEVENT
DTSTART;TZID=America/Chicago:20290610T094500
DTEND;TZID=America/Chicago:20290610T110000
DTSTAMP:20260421T010239
CREATED:20240226T044840Z
LAST-MODIFIED:20260113T033055Z
UID:10003161-1875779100-1875783600@njmbc1906.org
SUMMARY:Youth Sunday
DESCRIPTION:
URL:https://njmbc1906.org/event/youth-sunday-2/2029-06-10/
CATEGORIES:Youth Ministry
ATTACH;FMTTYPE=image/png:https://njmbc1906.org/wp-content/uploads/2024/02/Youth_Ministry_Graphic_for_NJMBC_CalendarSquare_NJMBC_Social_Media_Graphic_2023.png
END:VEVENT
BEGIN:VEVENT
DTSTART;TZID=America/Chicago:20290611T180000
DTEND;TZID=America/Chicago:20290611T190000
DTSTAMP:20260421T010239
CREATED:20251217T190131Z
LAST-MODIFIED:20251217T190131Z
UID:10002375-1875895200-1875898800@njmbc1906.org
SUMMARY:Men's Ministry Mondays
DESCRIPTION:
URL:https://njmbc1906.org/event/mens-ministry-mondays/2029-06-11/
CATEGORIES:Men's Ministry
ATTACH;FMTTYPE=image/jpeg:https://njmbc1906.org/wp-content/uploads/2023/02/Mens_Ministryl_Mondays_Graphic_New_Jerusalem_Church_Calendar_Thumbnails.jpg
ORGANIZER;CN="Bro. Dewon Hall":MAILTO:mensministry@njmbc1906.org
END:VEVENT
BEGIN:VEVENT
DTSTART;TZID=America/Chicago:20290617T083000
DTEND;TZID=America/Chicago:20290617T093000
DTSTAMP:20260421T010239
CREATED:20260107T155825Z
LAST-MODIFIED:20260107T171411Z
UID:10002996-1876379400-1876383000@njmbc1906.org
SUMMARY:In-Person Sunday School
DESCRIPTION:In-person Sunday School is held every Sunday. To learn more about the Sunday School\, visit this link – https://njmbc1906.org/sunday-school/. Also\, if you’re a New Jerusalem member\, and haven’t signed up to receive text messages\, you can sign-up at this link – https://njmbc1906.org/contact/#receivetextmessages. This will help keep you in the overall loop of ministry updates / changes\, events and other things going on at NJMBC.
URL:https://njmbc1906.org/event/in-person-sunday-school/2029-06-17/
CATEGORIES:Sunday School
ATTACH;FMTTYPE=image/png:https://njmbc1906.org/wp-content/uploads/2026/01/In-Person_Sunday_School_Square_NJMBC_Social_Media_Graphic_2026.png
END:VEVENT
BEGIN:VEVENT
DTSTART;TZID=America/Chicago:20290624T083000
DTEND;TZID=America/Chicago:20290624T093000
DTSTAMP:20260421T010239
CREATED:20260107T155825Z
LAST-MODIFIED:20260107T171411Z
UID:10002997-1876984200-1876987800@njmbc1906.org
SUMMARY:In-Person Sunday School
DESCRIPTION:In-person Sunday School is held every Sunday. To learn more about the Sunday School\, visit this link – https://njmbc1906.org/sunday-school/. Also\, if you’re a New Jerusalem member\, and haven’t signed up to receive text messages\, you can sign-up at this link – https://njmbc1906.org/contact/#receivetextmessages. This will help keep you in the overall loop of ministry updates / changes\, events and other things going on at NJMBC.
URL:https://njmbc1906.org/event/in-person-sunday-school/2029-06-24/
CATEGORIES:Sunday School
ATTACH;FMTTYPE=image/png:https://njmbc1906.org/wp-content/uploads/2026/01/In-Person_Sunday_School_Square_NJMBC_Social_Media_Graphic_2026.png
END:VEVENT
END:VCALENDAR