BEGIN:VCALENDAR
VERSION:2.0
PRODID:-//New Jerusalem Missionary Baptist Church | Greenville, Mississippi - - ECPv6.15.20//NONSGML v1.0//EN
CALSCALE:GREGORIAN
METHOD:PUBLISH
X-WR-CALNAME:New Jerusalem Missionary Baptist Church | Greenville, Mississippi -
X-ORIGINAL-URL:https://njmbc1906.org
X-WR-CALDESC:Events for New Jerusalem Missionary Baptist Church | Greenville, Mississippi -
REFRESH-INTERVAL;VALUE=DURATION:PT1H
X-Robots-Tag:noindex
X-PUBLISHED-TTL:PT1H
BEGIN:VTIMEZONE
TZID:America/Chicago
BEGIN:DAYLIGHT
TZOFFSETFROM:-0600
TZOFFSETTO:-0500
TZNAME:CDT
DTSTART:20280312T080000
END:DAYLIGHT
BEGIN:STANDARD
TZOFFSETFROM:-0500
TZOFFSETTO:-0600
TZNAME:CST
DTSTART:20281105T070000
END:STANDARD
BEGIN:DAYLIGHT
TZOFFSETFROM:-0600
TZOFFSETTO:-0500
TZNAME:CDT
DTSTART:20290311T080000
END:DAYLIGHT
BEGIN:STANDARD
TZOFFSETFROM:-0500
TZOFFSETTO:-0600
TZNAME:CST
DTSTART:20291104T070000
END:STANDARD
BEGIN:DAYLIGHT
TZOFFSETFROM:-0600
TZOFFSETTO:-0500
TZNAME:CDT
DTSTART:20300310T080000
END:DAYLIGHT
BEGIN:STANDARD
TZOFFSETFROM:-0500
TZOFFSETTO:-0600
TZNAME:CST
DTSTART:20301103T070000
END:STANDARD
BEGIN:DAYLIGHT
TZOFFSETFROM:-0600
TZOFFSETTO:-0500
TZNAME:CDT
DTSTART:20310309T080000
END:DAYLIGHT
BEGIN:STANDARD
TZOFFSETFROM:-0500
TZOFFSETTO:-0600
TZNAME:CST
DTSTART:20311102T070000
END:STANDARD
END:VTIMEZONE
BEGIN:VEVENT
DTSTART;TZID=America/Chicago:20291028T083000
DTEND;TZID=America/Chicago:20291028T093000
DTSTAMP:20260421T182742
CREATED:20260107T155825Z
LAST-MODIFIED:20260107T171411Z
UID:10003015-1887870600-1887874200@njmbc1906.org
SUMMARY:In-Person Sunday School
DESCRIPTION:In-person Sunday School is held every Sunday. To learn more about the Sunday School\, visit this link – https://njmbc1906.org/sunday-school/. Also\, if you’re a New Jerusalem member\, and haven’t signed up to receive text messages\, you can sign-up at this link – https://njmbc1906.org/contact/#receivetextmessages. This will help keep you in the overall loop of ministry updates / changes\, events and other things going on at NJMBC.
URL:https://njmbc1906.org/event/in-person-sunday-school/2029-10-28/
CATEGORIES:Sunday School
ATTACH;FMTTYPE=image/png:https://njmbc1906.org/wp-content/uploads/2026/01/In-Person_Sunday_School_Square_NJMBC_Social_Media_Graphic_2026.png
END:VEVENT
BEGIN:VEVENT
DTSTART;TZID=America/Chicago:20291029T180000
DTEND;TZID=America/Chicago:20291029T190000
DTSTAMP:20260421T182742
CREATED:20251217T190131Z
LAST-MODIFIED:20251217T190131Z
UID:10002385-1887991200-1887994800@njmbc1906.org
SUMMARY:Men's Ministry Mondays
DESCRIPTION:
URL:https://njmbc1906.org/event/mens-ministry-mondays/2029-10-29/
CATEGORIES:Men's Ministry
ATTACH;FMTTYPE=image/jpeg:https://njmbc1906.org/wp-content/uploads/2023/02/Mens_Ministryl_Mondays_Graphic_New_Jerusalem_Church_Calendar_Thumbnails.jpg
ORGANIZER;CN="Bro. Dewon Hall":MAILTO:mensministry@njmbc1906.org
END:VEVENT
BEGIN:VEVENT
DTSTART;TZID=America/Chicago:20291104T083000
DTEND;TZID=America/Chicago:20291104T093000
DTSTAMP:20260421T182742
CREATED:20260107T155825Z
LAST-MODIFIED:20260107T171411Z
UID:10003016-1888475400-1888479000@njmbc1906.org
SUMMARY:In-Person Sunday School
DESCRIPTION:In-person Sunday School is held every Sunday. To learn more about the Sunday School\, visit this link – https://njmbc1906.org/sunday-school/. Also\, if you’re a New Jerusalem member\, and haven’t signed up to receive text messages\, you can sign-up at this link – https://njmbc1906.org/contact/#receivetextmessages. This will help keep you in the overall loop of ministry updates / changes\, events and other things going on at NJMBC.
URL:https://njmbc1906.org/event/in-person-sunday-school/2029-11-04/
CATEGORIES:Sunday School
ATTACH;FMTTYPE=image/png:https://njmbc1906.org/wp-content/uploads/2026/01/In-Person_Sunday_School_Square_NJMBC_Social_Media_Graphic_2026.png
END:VEVENT
BEGIN:VEVENT
DTSTART;TZID=America/Chicago:20291111T083000
DTEND;TZID=America/Chicago:20291111T093000
DTSTAMP:20260421T182742
CREATED:20260107T155825Z
LAST-MODIFIED:20260107T171411Z
UID:10003017-1889080200-1889083800@njmbc1906.org
SUMMARY:In-Person Sunday School
DESCRIPTION:In-person Sunday School is held every Sunday. To learn more about the Sunday School\, visit this link – https://njmbc1906.org/sunday-school/. Also\, if you’re a New Jerusalem member\, and haven’t signed up to receive text messages\, you can sign-up at this link – https://njmbc1906.org/contact/#receivetextmessages. This will help keep you in the overall loop of ministry updates / changes\, events and other things going on at NJMBC.
URL:https://njmbc1906.org/event/in-person-sunday-school/2029-11-11/
CATEGORIES:Sunday School
ATTACH;FMTTYPE=image/png:https://njmbc1906.org/wp-content/uploads/2026/01/In-Person_Sunday_School_Square_NJMBC_Social_Media_Graphic_2026.png
END:VEVENT
BEGIN:VEVENT
DTSTART;TZID=America/Chicago:20291111T094500
DTEND;TZID=America/Chicago:20291111T110000
DTSTAMP:20260421T182742
CREATED:20240226T044840Z
LAST-MODIFIED:20260113T033055Z
UID:10003166-1889084700-1889089200@njmbc1906.org
SUMMARY:Youth Sunday
DESCRIPTION:
URL:https://njmbc1906.org/event/youth-sunday-2/2029-11-11/
CATEGORIES:Youth Ministry
ATTACH;FMTTYPE=image/png:https://njmbc1906.org/wp-content/uploads/2024/02/Youth_Ministry_Graphic_for_NJMBC_CalendarSquare_NJMBC_Social_Media_Graphic_2023.png
END:VEVENT
BEGIN:VEVENT
DTSTART;TZID=America/Chicago:20291112T180000
DTEND;TZID=America/Chicago:20291112T190000
DTSTAMP:20260421T182742
CREATED:20251217T190131Z
LAST-MODIFIED:20251217T190131Z
UID:10002386-1889200800-1889204400@njmbc1906.org
SUMMARY:Men's Ministry Mondays
DESCRIPTION:
URL:https://njmbc1906.org/event/mens-ministry-mondays/2029-11-12/
CATEGORIES:Men's Ministry
ATTACH;FMTTYPE=image/jpeg:https://njmbc1906.org/wp-content/uploads/2023/02/Mens_Ministryl_Mondays_Graphic_New_Jerusalem_Church_Calendar_Thumbnails.jpg
ORGANIZER;CN="Bro. Dewon Hall":MAILTO:mensministry@njmbc1906.org
END:VEVENT
BEGIN:VEVENT
DTSTART;TZID=America/Chicago:20291118T083000
DTEND;TZID=America/Chicago:20291118T093000
DTSTAMP:20260421T182742
CREATED:20260107T155825Z
LAST-MODIFIED:20260107T171411Z
UID:10003018-1889685000-1889688600@njmbc1906.org
SUMMARY:In-Person Sunday School
DESCRIPTION:In-person Sunday School is held every Sunday. To learn more about the Sunday School\, visit this link – https://njmbc1906.org/sunday-school/. Also\, if you’re a New Jerusalem member\, and haven’t signed up to receive text messages\, you can sign-up at this link – https://njmbc1906.org/contact/#receivetextmessages. This will help keep you in the overall loop of ministry updates / changes\, events and other things going on at NJMBC.
URL:https://njmbc1906.org/event/in-person-sunday-school/2029-11-18/
CATEGORIES:Sunday School
ATTACH;FMTTYPE=image/png:https://njmbc1906.org/wp-content/uploads/2026/01/In-Person_Sunday_School_Square_NJMBC_Social_Media_Graphic_2026.png
END:VEVENT
BEGIN:VEVENT
DTSTART;TZID=America/Chicago:20291125T083000
DTEND;TZID=America/Chicago:20291125T093000
DTSTAMP:20260421T182742
CREATED:20260107T155825Z
LAST-MODIFIED:20260107T171411Z
UID:10003019-1890289800-1890293400@njmbc1906.org
SUMMARY:In-Person Sunday School
DESCRIPTION:In-person Sunday School is held every Sunday. To learn more about the Sunday School\, visit this link – https://njmbc1906.org/sunday-school/. Also\, if you’re a New Jerusalem member\, and haven’t signed up to receive text messages\, you can sign-up at this link – https://njmbc1906.org/contact/#receivetextmessages. This will help keep you in the overall loop of ministry updates / changes\, events and other things going on at NJMBC.
URL:https://njmbc1906.org/event/in-person-sunday-school/2029-11-25/
CATEGORIES:Sunday School
ATTACH;FMTTYPE=image/png:https://njmbc1906.org/wp-content/uploads/2026/01/In-Person_Sunday_School_Square_NJMBC_Social_Media_Graphic_2026.png
END:VEVENT
BEGIN:VEVENT
DTSTART;TZID=America/Chicago:20291126T180000
DTEND;TZID=America/Chicago:20291126T190000
DTSTAMP:20260421T182742
CREATED:20251217T190131Z
LAST-MODIFIED:20251217T190131Z
UID:10002387-1890410400-1890414000@njmbc1906.org
SUMMARY:Men's Ministry Mondays
DESCRIPTION:
URL:https://njmbc1906.org/event/mens-ministry-mondays/2029-11-26/
CATEGORIES:Men's Ministry
ATTACH;FMTTYPE=image/jpeg:https://njmbc1906.org/wp-content/uploads/2023/02/Mens_Ministryl_Mondays_Graphic_New_Jerusalem_Church_Calendar_Thumbnails.jpg
ORGANIZER;CN="Bro. Dewon Hall":MAILTO:mensministry@njmbc1906.org
END:VEVENT
BEGIN:VEVENT
DTSTART;TZID=America/Chicago:20291202T083000
DTEND;TZID=America/Chicago:20291202T093000
DTSTAMP:20260421T182742
CREATED:20260107T155825Z
LAST-MODIFIED:20260107T171411Z
UID:10003020-1890894600-1890898200@njmbc1906.org
SUMMARY:In-Person Sunday School
DESCRIPTION:In-person Sunday School is held every Sunday. To learn more about the Sunday School\, visit this link – https://njmbc1906.org/sunday-school/. Also\, if you’re a New Jerusalem member\, and haven’t signed up to receive text messages\, you can sign-up at this link – https://njmbc1906.org/contact/#receivetextmessages. This will help keep you in the overall loop of ministry updates / changes\, events and other things going on at NJMBC.
URL:https://njmbc1906.org/event/in-person-sunday-school/2029-12-02/
CATEGORIES:Sunday School
ATTACH;FMTTYPE=image/png:https://njmbc1906.org/wp-content/uploads/2026/01/In-Person_Sunday_School_Square_NJMBC_Social_Media_Graphic_2026.png
END:VEVENT
BEGIN:VEVENT
DTSTART;TZID=America/Chicago:20291208T110000
DTEND;TZID=America/Chicago:20291208T130000
DTSTAMP:20260421T182742
CREATED:20251217T190437Z
LAST-MODIFIED:20251217T191958Z
UID:10002430-1891422000-1891429200@njmbc1906.org
SUMMARY:Boys to Men Workshop
DESCRIPTION:
URL:https://njmbc1906.org/event/boys-to-men-session/2029-12-08/
CATEGORIES:Boys to Men
ATTACH;FMTTYPE=image/png:https://njmbc1906.org/wp-content/uploads/2025/12/Boys_to_Men_Workshop_Square_NJMBC_Social_Media_Graphic_202522.png
END:VEVENT
BEGIN:VEVENT
DTSTART;TZID=America/Chicago:20291209T083000
DTEND;TZID=America/Chicago:20291209T093000
DTSTAMP:20260421T182742
CREATED:20260107T155825Z
LAST-MODIFIED:20260107T171411Z
UID:10003021-1891499400-1891503000@njmbc1906.org
SUMMARY:In-Person Sunday School
DESCRIPTION:In-person Sunday School is held every Sunday. To learn more about the Sunday School\, visit this link – https://njmbc1906.org/sunday-school/. Also\, if you’re a New Jerusalem member\, and haven’t signed up to receive text messages\, you can sign-up at this link – https://njmbc1906.org/contact/#receivetextmessages. This will help keep you in the overall loop of ministry updates / changes\, events and other things going on at NJMBC.
URL:https://njmbc1906.org/event/in-person-sunday-school/2029-12-09/
CATEGORIES:Sunday School
ATTACH;FMTTYPE=image/png:https://njmbc1906.org/wp-content/uploads/2026/01/In-Person_Sunday_School_Square_NJMBC_Social_Media_Graphic_2026.png
END:VEVENT
BEGIN:VEVENT
DTSTART;TZID=America/Chicago:20291209T094500
DTEND;TZID=America/Chicago:20291209T110000
DTSTAMP:20260421T182742
CREATED:20240226T044840Z
LAST-MODIFIED:20260113T033055Z
UID:10003167-1891503900-1891508400@njmbc1906.org
SUMMARY:Youth Sunday
DESCRIPTION:
URL:https://njmbc1906.org/event/youth-sunday-2/2029-12-09/
CATEGORIES:Youth Ministry
ATTACH;FMTTYPE=image/png:https://njmbc1906.org/wp-content/uploads/2024/02/Youth_Ministry_Graphic_for_NJMBC_CalendarSquare_NJMBC_Social_Media_Graphic_2023.png
END:VEVENT
BEGIN:VEVENT
DTSTART;TZID=America/Chicago:20291210T180000
DTEND;TZID=America/Chicago:20291210T190000
DTSTAMP:20260421T182742
CREATED:20251217T190131Z
LAST-MODIFIED:20251217T190131Z
UID:10002388-1891620000-1891623600@njmbc1906.org
SUMMARY:Men's Ministry Mondays
DESCRIPTION:
URL:https://njmbc1906.org/event/mens-ministry-mondays/2029-12-10/
CATEGORIES:Men's Ministry
ATTACH;FMTTYPE=image/jpeg:https://njmbc1906.org/wp-content/uploads/2023/02/Mens_Ministryl_Mondays_Graphic_New_Jerusalem_Church_Calendar_Thumbnails.jpg
ORGANIZER;CN="Bro. Dewon Hall":MAILTO:mensministry@njmbc1906.org
END:VEVENT
BEGIN:VEVENT
DTSTART;TZID=America/Chicago:20291216T083000
DTEND;TZID=America/Chicago:20291216T093000
DTSTAMP:20260421T182742
CREATED:20260107T155825Z
LAST-MODIFIED:20260107T171411Z
UID:10003022-1892104200-1892107800@njmbc1906.org
SUMMARY:In-Person Sunday School
DESCRIPTION:In-person Sunday School is held every Sunday. To learn more about the Sunday School\, visit this link – https://njmbc1906.org/sunday-school/. Also\, if you’re a New Jerusalem member\, and haven’t signed up to receive text messages\, you can sign-up at this link – https://njmbc1906.org/contact/#receivetextmessages. This will help keep you in the overall loop of ministry updates / changes\, events and other things going on at NJMBC.
URL:https://njmbc1906.org/event/in-person-sunday-school/2029-12-16/
CATEGORIES:Sunday School
ATTACH;FMTTYPE=image/png:https://njmbc1906.org/wp-content/uploads/2026/01/In-Person_Sunday_School_Square_NJMBC_Social_Media_Graphic_2026.png
END:VEVENT
BEGIN:VEVENT
DTSTART;TZID=America/Chicago:20291223T083000
DTEND;TZID=America/Chicago:20291223T093000
DTSTAMP:20260421T182742
CREATED:20260107T155825Z
LAST-MODIFIED:20260107T171411Z
UID:10003023-1892709000-1892712600@njmbc1906.org
SUMMARY:In-Person Sunday School
DESCRIPTION:In-person Sunday School is held every Sunday. To learn more about the Sunday School\, visit this link – https://njmbc1906.org/sunday-school/. Also\, if you’re a New Jerusalem member\, and haven’t signed up to receive text messages\, you can sign-up at this link – https://njmbc1906.org/contact/#receivetextmessages. This will help keep you in the overall loop of ministry updates / changes\, events and other things going on at NJMBC.
URL:https://njmbc1906.org/event/in-person-sunday-school/2029-12-23/
CATEGORIES:Sunday School
ATTACH;FMTTYPE=image/png:https://njmbc1906.org/wp-content/uploads/2026/01/In-Person_Sunday_School_Square_NJMBC_Social_Media_Graphic_2026.png
END:VEVENT
BEGIN:VEVENT
DTSTART;TZID=America/Chicago:20291224T180000
DTEND;TZID=America/Chicago:20291224T190000
DTSTAMP:20260421T182743
CREATED:20251217T190131Z
LAST-MODIFIED:20251217T190131Z
UID:10002389-1892829600-1892833200@njmbc1906.org
SUMMARY:Men's Ministry Mondays
DESCRIPTION:
URL:https://njmbc1906.org/event/mens-ministry-mondays/2029-12-24/
CATEGORIES:Men's Ministry
ATTACH;FMTTYPE=image/jpeg:https://njmbc1906.org/wp-content/uploads/2023/02/Mens_Ministryl_Mondays_Graphic_New_Jerusalem_Church_Calendar_Thumbnails.jpg
ORGANIZER;CN="Bro. Dewon Hall":MAILTO:mensministry@njmbc1906.org
END:VEVENT
BEGIN:VEVENT
DTSTART;TZID=America/Chicago:20291230T083000
DTEND;TZID=America/Chicago:20291230T093000
DTSTAMP:20260421T182743
CREATED:20260107T155825Z
LAST-MODIFIED:20260107T171411Z
UID:10003024-1893313800-1893317400@njmbc1906.org
SUMMARY:In-Person Sunday School
DESCRIPTION:In-person Sunday School is held every Sunday. To learn more about the Sunday School\, visit this link – https://njmbc1906.org/sunday-school/. Also\, if you’re a New Jerusalem member\, and haven’t signed up to receive text messages\, you can sign-up at this link – https://njmbc1906.org/contact/#receivetextmessages. This will help keep you in the overall loop of ministry updates / changes\, events and other things going on at NJMBC.
URL:https://njmbc1906.org/event/in-person-sunday-school/2029-12-30/
CATEGORIES:Sunday School
ATTACH;FMTTYPE=image/png:https://njmbc1906.org/wp-content/uploads/2026/01/In-Person_Sunday_School_Square_NJMBC_Social_Media_Graphic_2026.png
END:VEVENT
BEGIN:VEVENT
DTSTART;TZID=America/Chicago:20300106T083000
DTEND;TZID=America/Chicago:20300106T093000
DTSTAMP:20260421T182743
CREATED:20260107T155825Z
LAST-MODIFIED:20260107T171411Z
UID:10003025-1893918600-1893922200@njmbc1906.org
SUMMARY:In-Person Sunday School
DESCRIPTION:In-person Sunday School is held every Sunday. To learn more about the Sunday School\, visit this link – https://njmbc1906.org/sunday-school/. Also\, if you’re a New Jerusalem member\, and haven’t signed up to receive text messages\, you can sign-up at this link – https://njmbc1906.org/contact/#receivetextmessages. This will help keep you in the overall loop of ministry updates / changes\, events and other things going on at NJMBC.
URL:https://njmbc1906.org/event/in-person-sunday-school/2030-01-06/
CATEGORIES:Sunday School
ATTACH;FMTTYPE=image/png:https://njmbc1906.org/wp-content/uploads/2026/01/In-Person_Sunday_School_Square_NJMBC_Social_Media_Graphic_2026.png
END:VEVENT
BEGIN:VEVENT
DTSTART;TZID=America/Chicago:20300107T180000
DTEND;TZID=America/Chicago:20300107T190000
DTSTAMP:20260421T182743
CREATED:20251217T190131Z
LAST-MODIFIED:20251217T190131Z
UID:10002390-1894039200-1894042800@njmbc1906.org
SUMMARY:Men's Ministry Mondays
DESCRIPTION:
URL:https://njmbc1906.org/event/mens-ministry-mondays/2030-01-07/
CATEGORIES:Men's Ministry
ATTACH;FMTTYPE=image/jpeg:https://njmbc1906.org/wp-content/uploads/2023/02/Mens_Ministryl_Mondays_Graphic_New_Jerusalem_Church_Calendar_Thumbnails.jpg
ORGANIZER;CN="Bro. Dewon Hall":MAILTO:mensministry@njmbc1906.org
END:VEVENT
BEGIN:VEVENT
DTSTART;TZID=America/Chicago:20300113T083000
DTEND;TZID=America/Chicago:20300113T093000
DTSTAMP:20260421T182743
CREATED:20260107T155825Z
LAST-MODIFIED:20260107T171411Z
UID:10003026-1894523400-1894527000@njmbc1906.org
SUMMARY:In-Person Sunday School
DESCRIPTION:In-person Sunday School is held every Sunday. To learn more about the Sunday School\, visit this link – https://njmbc1906.org/sunday-school/. Also\, if you’re a New Jerusalem member\, and haven’t signed up to receive text messages\, you can sign-up at this link – https://njmbc1906.org/contact/#receivetextmessages. This will help keep you in the overall loop of ministry updates / changes\, events and other things going on at NJMBC.
URL:https://njmbc1906.org/event/in-person-sunday-school/2030-01-13/
CATEGORIES:Sunday School
ATTACH;FMTTYPE=image/png:https://njmbc1906.org/wp-content/uploads/2026/01/In-Person_Sunday_School_Square_NJMBC_Social_Media_Graphic_2026.png
END:VEVENT
BEGIN:VEVENT
DTSTART;TZID=America/Chicago:20300113T094500
DTEND;TZID=America/Chicago:20300113T110000
DTSTAMP:20260421T182743
CREATED:20240226T044840Z
LAST-MODIFIED:20260113T033055Z
UID:10003168-1894527900-1894532400@njmbc1906.org
SUMMARY:Youth Sunday
DESCRIPTION:
URL:https://njmbc1906.org/event/youth-sunday-2/2030-01-13/
CATEGORIES:Youth Ministry
ATTACH;FMTTYPE=image/png:https://njmbc1906.org/wp-content/uploads/2024/02/Youth_Ministry_Graphic_for_NJMBC_CalendarSquare_NJMBC_Social_Media_Graphic_2023.png
END:VEVENT
BEGIN:VEVENT
DTSTART;TZID=America/Chicago:20300120T083000
DTEND;TZID=America/Chicago:20300120T093000
DTSTAMP:20260421T182743
CREATED:20260107T155825Z
LAST-MODIFIED:20260107T171411Z
UID:10003027-1895128200-1895131800@njmbc1906.org
SUMMARY:In-Person Sunday School
DESCRIPTION:In-person Sunday School is held every Sunday. To learn more about the Sunday School\, visit this link – https://njmbc1906.org/sunday-school/. Also\, if you’re a New Jerusalem member\, and haven’t signed up to receive text messages\, you can sign-up at this link – https://njmbc1906.org/contact/#receivetextmessages. This will help keep you in the overall loop of ministry updates / changes\, events and other things going on at NJMBC.
URL:https://njmbc1906.org/event/in-person-sunday-school/2030-01-20/
CATEGORIES:Sunday School
ATTACH;FMTTYPE=image/png:https://njmbc1906.org/wp-content/uploads/2026/01/In-Person_Sunday_School_Square_NJMBC_Social_Media_Graphic_2026.png
END:VEVENT
BEGIN:VEVENT
DTSTART;TZID=America/Chicago:20300121T180000
DTEND;TZID=America/Chicago:20300121T190000
DTSTAMP:20260421T182743
CREATED:20251217T190131Z
LAST-MODIFIED:20251217T190131Z
UID:10002391-1895248800-1895252400@njmbc1906.org
SUMMARY:Men's Ministry Mondays
DESCRIPTION:
URL:https://njmbc1906.org/event/mens-ministry-mondays/2030-01-21/
CATEGORIES:Men's Ministry
ATTACH;FMTTYPE=image/jpeg:https://njmbc1906.org/wp-content/uploads/2023/02/Mens_Ministryl_Mondays_Graphic_New_Jerusalem_Church_Calendar_Thumbnails.jpg
ORGANIZER;CN="Bro. Dewon Hall":MAILTO:mensministry@njmbc1906.org
END:VEVENT
BEGIN:VEVENT
DTSTART;TZID=America/Chicago:20300127T083000
DTEND;TZID=America/Chicago:20300127T093000
DTSTAMP:20260421T182743
CREATED:20260107T155825Z
LAST-MODIFIED:20260107T171411Z
UID:10003028-1895733000-1895736600@njmbc1906.org
SUMMARY:In-Person Sunday School
DESCRIPTION:In-person Sunday School is held every Sunday. To learn more about the Sunday School\, visit this link – https://njmbc1906.org/sunday-school/. Also\, if you’re a New Jerusalem member\, and haven’t signed up to receive text messages\, you can sign-up at this link – https://njmbc1906.org/contact/#receivetextmessages. This will help keep you in the overall loop of ministry updates / changes\, events and other things going on at NJMBC.
URL:https://njmbc1906.org/event/in-person-sunday-school/2030-01-27/
CATEGORIES:Sunday School
ATTACH;FMTTYPE=image/png:https://njmbc1906.org/wp-content/uploads/2026/01/In-Person_Sunday_School_Square_NJMBC_Social_Media_Graphic_2026.png
END:VEVENT
BEGIN:VEVENT
DTSTART;TZID=America/Chicago:20300203T083000
DTEND;TZID=America/Chicago:20300203T093000
DTSTAMP:20260421T182743
CREATED:20260107T155825Z
LAST-MODIFIED:20260107T171411Z
UID:10003029-1896337800-1896341400@njmbc1906.org
SUMMARY:In-Person Sunday School
DESCRIPTION:In-person Sunday School is held every Sunday. To learn more about the Sunday School\, visit this link – https://njmbc1906.org/sunday-school/. Also\, if you’re a New Jerusalem member\, and haven’t signed up to receive text messages\, you can sign-up at this link – https://njmbc1906.org/contact/#receivetextmessages. This will help keep you in the overall loop of ministry updates / changes\, events and other things going on at NJMBC.
URL:https://njmbc1906.org/event/in-person-sunday-school/2030-02-03/
CATEGORIES:Sunday School
ATTACH;FMTTYPE=image/png:https://njmbc1906.org/wp-content/uploads/2026/01/In-Person_Sunday_School_Square_NJMBC_Social_Media_Graphic_2026.png
END:VEVENT
BEGIN:VEVENT
DTSTART;TZID=America/Chicago:20300204T180000
DTEND;TZID=America/Chicago:20300204T190000
DTSTAMP:20260421T182743
CREATED:20251217T190131Z
LAST-MODIFIED:20251217T190131Z
UID:10002392-1896458400-1896462000@njmbc1906.org
SUMMARY:Men's Ministry Mondays
DESCRIPTION:
URL:https://njmbc1906.org/event/mens-ministry-mondays/2030-02-04/
CATEGORIES:Men's Ministry
ATTACH;FMTTYPE=image/jpeg:https://njmbc1906.org/wp-content/uploads/2023/02/Mens_Ministryl_Mondays_Graphic_New_Jerusalem_Church_Calendar_Thumbnails.jpg
ORGANIZER;CN="Bro. Dewon Hall":MAILTO:mensministry@njmbc1906.org
END:VEVENT
BEGIN:VEVENT
DTSTART;TZID=America/Chicago:20300210T083000
DTEND;TZID=America/Chicago:20300210T093000
DTSTAMP:20260421T182743
CREATED:20260107T155825Z
LAST-MODIFIED:20260107T171411Z
UID:10003030-1896942600-1896946200@njmbc1906.org
SUMMARY:In-Person Sunday School
DESCRIPTION:In-person Sunday School is held every Sunday. To learn more about the Sunday School\, visit this link – https://njmbc1906.org/sunday-school/. Also\, if you’re a New Jerusalem member\, and haven’t signed up to receive text messages\, you can sign-up at this link – https://njmbc1906.org/contact/#receivetextmessages. This will help keep you in the overall loop of ministry updates / changes\, events and other things going on at NJMBC.
URL:https://njmbc1906.org/event/in-person-sunday-school/2030-02-10/
CATEGORIES:Sunday School
ATTACH;FMTTYPE=image/png:https://njmbc1906.org/wp-content/uploads/2026/01/In-Person_Sunday_School_Square_NJMBC_Social_Media_Graphic_2026.png
END:VEVENT
BEGIN:VEVENT
DTSTART;TZID=America/Chicago:20300210T094500
DTEND;TZID=America/Chicago:20300210T110000
DTSTAMP:20260421T182743
CREATED:20240226T044840Z
LAST-MODIFIED:20260113T033055Z
UID:10003169-1896947100-1896951600@njmbc1906.org
SUMMARY:Youth Sunday
DESCRIPTION:
URL:https://njmbc1906.org/event/youth-sunday-2/2030-02-10/
CATEGORIES:Youth Ministry
ATTACH;FMTTYPE=image/png:https://njmbc1906.org/wp-content/uploads/2024/02/Youth_Ministry_Graphic_for_NJMBC_CalendarSquare_NJMBC_Social_Media_Graphic_2023.png
END:VEVENT
BEGIN:VEVENT
DTSTART;TZID=America/Chicago:20300217T083000
DTEND;TZID=America/Chicago:20300217T093000
DTSTAMP:20260421T182743
CREATED:20260107T155825Z
LAST-MODIFIED:20260107T171411Z
UID:10003031-1897547400-1897551000@njmbc1906.org
SUMMARY:In-Person Sunday School
DESCRIPTION:In-person Sunday School is held every Sunday. To learn more about the Sunday School\, visit this link – https://njmbc1906.org/sunday-school/. Also\, if you’re a New Jerusalem member\, and haven’t signed up to receive text messages\, you can sign-up at this link – https://njmbc1906.org/contact/#receivetextmessages. This will help keep you in the overall loop of ministry updates / changes\, events and other things going on at NJMBC.
URL:https://njmbc1906.org/event/in-person-sunday-school/2030-02-17/
CATEGORIES:Sunday School
ATTACH;FMTTYPE=image/png:https://njmbc1906.org/wp-content/uploads/2026/01/In-Person_Sunday_School_Square_NJMBC_Social_Media_Graphic_2026.png
END:VEVENT
END:VCALENDAR