BEGIN:VCALENDAR
VERSION:2.0
PRODID:-//New Jerusalem Missionary Baptist Church | Greenville, Mississippi - - ECPv6.15.20//NONSGML v1.0//EN
CALSCALE:GREGORIAN
METHOD:PUBLISH
X-ORIGINAL-URL:https://njmbc1906.org
X-WR-CALDESC:Events for New Jerusalem Missionary Baptist Church | Greenville, Mississippi -
REFRESH-INTERVAL;VALUE=DURATION:PT1H
X-Robots-Tag:noindex
X-PUBLISHED-TTL:PT1H
BEGIN:VTIMEZONE
TZID:America/Chicago
BEGIN:DAYLIGHT
TZOFFSETFROM:-0600
TZOFFSETTO:-0500
TZNAME:CDT
DTSTART:20260308T080000
END:DAYLIGHT
BEGIN:STANDARD
TZOFFSETFROM:-0500
TZOFFSETTO:-0600
TZNAME:CST
DTSTART:20261101T070000
END:STANDARD
BEGIN:DAYLIGHT
TZOFFSETFROM:-0600
TZOFFSETTO:-0500
TZNAME:CDT
DTSTART:20270314T080000
END:DAYLIGHT
BEGIN:STANDARD
TZOFFSETFROM:-0500
TZOFFSETTO:-0600
TZNAME:CST
DTSTART:20271107T070000
END:STANDARD
BEGIN:DAYLIGHT
TZOFFSETFROM:-0600
TZOFFSETTO:-0500
TZNAME:CDT
DTSTART:20280312T080000
END:DAYLIGHT
BEGIN:STANDARD
TZOFFSETFROM:-0500
TZOFFSETTO:-0600
TZNAME:CST
DTSTART:20281105T070000
END:STANDARD
BEGIN:DAYLIGHT
TZOFFSETFROM:-0600
TZOFFSETTO:-0500
TZNAME:CDT
DTSTART:20290311T080000
END:DAYLIGHT
BEGIN:STANDARD
TZOFFSETFROM:-0500
TZOFFSETTO:-0600
TZNAME:CST
DTSTART:20291104T070000
END:STANDARD
END:VTIMEZONE
BEGIN:VEVENT
DTSTART;TZID=America/Chicago:20270911T110000
DTEND;TZID=America/Chicago:20270911T130000
DTSTAMP:20260420T230351
CREATED:20251217T190437Z
LAST-MODIFIED:20251217T191958Z
UID:10002421-1820660400-1820667600@njmbc1906.org
SUMMARY:Boys to Men Workshop
DESCRIPTION:
URL:https://njmbc1906.org/event/boys-to-men-session/2027-09-11/
CATEGORIES:Boys to Men
ATTACH;FMTTYPE=image/png:https://njmbc1906.org/wp-content/uploads/2025/12/Boys_to_Men_Workshop_Square_NJMBC_Social_Media_Graphic_202522.png
END:VEVENT
BEGIN:VEVENT
DTSTART;TZID=America/Chicago:20270920T180000
DTEND;TZID=America/Chicago:20270920T190000
DTSTAMP:20260420T230351
CREATED:20251217T190131Z
LAST-MODIFIED:20251217T190131Z
UID:10002330-1821463200-1821466800@njmbc1906.org
SUMMARY:Men's Ministry Mondays
DESCRIPTION:
URL:https://njmbc1906.org/event/mens-ministry-mondays/2027-09-20/
CATEGORIES:Men's Ministry
ATTACH;FMTTYPE=image/jpeg:https://njmbc1906.org/wp-content/uploads/2023/02/Mens_Ministryl_Mondays_Graphic_New_Jerusalem_Church_Calendar_Thumbnails.jpg
ORGANIZER;CN="Bro. Dewon Hall":MAILTO:mensministry@njmbc1906.org
END:VEVENT
BEGIN:VEVENT
DTSTART;TZID=America/Chicago:20271004T180000
DTEND;TZID=America/Chicago:20271004T190000
DTSTAMP:20260420T230351
CREATED:20251217T190131Z
LAST-MODIFIED:20251217T190131Z
UID:10002331-1822672800-1822676400@njmbc1906.org
SUMMARY:Men's Ministry Mondays
DESCRIPTION:
URL:https://njmbc1906.org/event/mens-ministry-mondays/2027-10-04/
CATEGORIES:Men's Ministry
ATTACH;FMTTYPE=image/jpeg:https://njmbc1906.org/wp-content/uploads/2023/02/Mens_Ministryl_Mondays_Graphic_New_Jerusalem_Church_Calendar_Thumbnails.jpg
ORGANIZER;CN="Bro. Dewon Hall":MAILTO:mensministry@njmbc1906.org
END:VEVENT
BEGIN:VEVENT
DTSTART;TZID=America/Chicago:20271018T180000
DTEND;TZID=America/Chicago:20271018T190000
DTSTAMP:20260420T230351
CREATED:20251217T190131Z
LAST-MODIFIED:20251217T190131Z
UID:10002332-1823882400-1823886000@njmbc1906.org
SUMMARY:Men's Ministry Mondays
DESCRIPTION:
URL:https://njmbc1906.org/event/mens-ministry-mondays/2027-10-18/
CATEGORIES:Men's Ministry
ATTACH;FMTTYPE=image/jpeg:https://njmbc1906.org/wp-content/uploads/2023/02/Mens_Ministryl_Mondays_Graphic_New_Jerusalem_Church_Calendar_Thumbnails.jpg
ORGANIZER;CN="Bro. Dewon Hall":MAILTO:mensministry@njmbc1906.org
END:VEVENT
BEGIN:VEVENT
DTSTART;TZID=America/Chicago:20271101T180000
DTEND;TZID=America/Chicago:20271101T190000
DTSTAMP:20260420T230351
CREATED:20251217T190131Z
LAST-MODIFIED:20251217T190131Z
UID:10002333-1825092000-1825095600@njmbc1906.org
SUMMARY:Men's Ministry Mondays
DESCRIPTION:
URL:https://njmbc1906.org/event/mens-ministry-mondays/2027-11-01/
CATEGORIES:Men's Ministry
ATTACH;FMTTYPE=image/jpeg:https://njmbc1906.org/wp-content/uploads/2023/02/Mens_Ministryl_Mondays_Graphic_New_Jerusalem_Church_Calendar_Thumbnails.jpg
ORGANIZER;CN="Bro. Dewon Hall":MAILTO:mensministry@njmbc1906.org
END:VEVENT
BEGIN:VEVENT
DTSTART;TZID=America/Chicago:20271115T180000
DTEND;TZID=America/Chicago:20271115T190000
DTSTAMP:20260420T230351
CREATED:20251217T190131Z
LAST-MODIFIED:20251217T190131Z
UID:10002334-1826301600-1826305200@njmbc1906.org
SUMMARY:Men's Ministry Mondays
DESCRIPTION:
URL:https://njmbc1906.org/event/mens-ministry-mondays/2027-11-15/
CATEGORIES:Men's Ministry
ATTACH;FMTTYPE=image/jpeg:https://njmbc1906.org/wp-content/uploads/2023/02/Mens_Ministryl_Mondays_Graphic_New_Jerusalem_Church_Calendar_Thumbnails.jpg
ORGANIZER;CN="Bro. Dewon Hall":MAILTO:mensministry@njmbc1906.org
END:VEVENT
BEGIN:VEVENT
DTSTART;TZID=America/Chicago:20271129T180000
DTEND;TZID=America/Chicago:20271129T190000
DTSTAMP:20260420T230351
CREATED:20251217T190131Z
LAST-MODIFIED:20251217T190131Z
UID:10002335-1827511200-1827514800@njmbc1906.org
SUMMARY:Men's Ministry Mondays
DESCRIPTION:
URL:https://njmbc1906.org/event/mens-ministry-mondays/2027-11-29/
CATEGORIES:Men's Ministry
ATTACH;FMTTYPE=image/jpeg:https://njmbc1906.org/wp-content/uploads/2023/02/Mens_Ministryl_Mondays_Graphic_New_Jerusalem_Church_Calendar_Thumbnails.jpg
ORGANIZER;CN="Bro. Dewon Hall":MAILTO:mensministry@njmbc1906.org
END:VEVENT
BEGIN:VEVENT
DTSTART;TZID=America/Chicago:20271211T110000
DTEND;TZID=America/Chicago:20271211T130000
DTSTAMP:20260420T230351
CREATED:20251217T190437Z
LAST-MODIFIED:20251217T191958Z
UID:10002422-1828522800-1828530000@njmbc1906.org
SUMMARY:Boys to Men Workshop
DESCRIPTION:
URL:https://njmbc1906.org/event/boys-to-men-session/2027-12-11/
CATEGORIES:Boys to Men
ATTACH;FMTTYPE=image/png:https://njmbc1906.org/wp-content/uploads/2025/12/Boys_to_Men_Workshop_Square_NJMBC_Social_Media_Graphic_202522.png
END:VEVENT
BEGIN:VEVENT
DTSTART;TZID=America/Chicago:20271213T180000
DTEND;TZID=America/Chicago:20271213T190000
DTSTAMP:20260420T230351
CREATED:20251217T190131Z
LAST-MODIFIED:20251217T190131Z
UID:10002336-1828720800-1828724400@njmbc1906.org
SUMMARY:Men's Ministry Mondays
DESCRIPTION:
URL:https://njmbc1906.org/event/mens-ministry-mondays/2027-12-13/
CATEGORIES:Men's Ministry
ATTACH;FMTTYPE=image/jpeg:https://njmbc1906.org/wp-content/uploads/2023/02/Mens_Ministryl_Mondays_Graphic_New_Jerusalem_Church_Calendar_Thumbnails.jpg
ORGANIZER;CN="Bro. Dewon Hall":MAILTO:mensministry@njmbc1906.org
END:VEVENT
BEGIN:VEVENT
DTSTART;TZID=America/Chicago:20271227T180000
DTEND;TZID=America/Chicago:20271227T190000
DTSTAMP:20260420T230351
CREATED:20251217T190131Z
LAST-MODIFIED:20251217T190131Z
UID:10002337-1829930400-1829934000@njmbc1906.org
SUMMARY:Men's Ministry Mondays
DESCRIPTION:
URL:https://njmbc1906.org/event/mens-ministry-mondays/2027-12-27/
CATEGORIES:Men's Ministry
ATTACH;FMTTYPE=image/jpeg:https://njmbc1906.org/wp-content/uploads/2023/02/Mens_Ministryl_Mondays_Graphic_New_Jerusalem_Church_Calendar_Thumbnails.jpg
ORGANIZER;CN="Bro. Dewon Hall":MAILTO:mensministry@njmbc1906.org
END:VEVENT
BEGIN:VEVENT
DTSTART;TZID=America/Chicago:20280110T180000
DTEND;TZID=America/Chicago:20280110T190000
DTSTAMP:20260420T230351
CREATED:20251217T190131Z
LAST-MODIFIED:20251217T190131Z
UID:10002338-1831140000-1831143600@njmbc1906.org
SUMMARY:Men's Ministry Mondays
DESCRIPTION:
URL:https://njmbc1906.org/event/mens-ministry-mondays/2028-01-10/
CATEGORIES:Men's Ministry
ATTACH;FMTTYPE=image/jpeg:https://njmbc1906.org/wp-content/uploads/2023/02/Mens_Ministryl_Mondays_Graphic_New_Jerusalem_Church_Calendar_Thumbnails.jpg
ORGANIZER;CN="Bro. Dewon Hall":MAILTO:mensministry@njmbc1906.org
END:VEVENT
BEGIN:VEVENT
DTSTART;TZID=America/Chicago:20280124T180000
DTEND;TZID=America/Chicago:20280124T190000
DTSTAMP:20260420T230351
CREATED:20251217T190131Z
LAST-MODIFIED:20251217T190131Z
UID:10002339-1832349600-1832353200@njmbc1906.org
SUMMARY:Men's Ministry Mondays
DESCRIPTION:
URL:https://njmbc1906.org/event/mens-ministry-mondays/2028-01-24/
CATEGORIES:Men's Ministry
ATTACH;FMTTYPE=image/jpeg:https://njmbc1906.org/wp-content/uploads/2023/02/Mens_Ministryl_Mondays_Graphic_New_Jerusalem_Church_Calendar_Thumbnails.jpg
ORGANIZER;CN="Bro. Dewon Hall":MAILTO:mensministry@njmbc1906.org
END:VEVENT
BEGIN:VEVENT
DTSTART;TZID=America/Chicago:20280207T180000
DTEND;TZID=America/Chicago:20280207T190000
DTSTAMP:20260420T230351
CREATED:20251217T190131Z
LAST-MODIFIED:20251217T190131Z
UID:10002340-1833559200-1833562800@njmbc1906.org
SUMMARY:Men's Ministry Mondays
DESCRIPTION:
URL:https://njmbc1906.org/event/mens-ministry-mondays/2028-02-07/
CATEGORIES:Men's Ministry
ATTACH;FMTTYPE=image/jpeg:https://njmbc1906.org/wp-content/uploads/2023/02/Mens_Ministryl_Mondays_Graphic_New_Jerusalem_Church_Calendar_Thumbnails.jpg
ORGANIZER;CN="Bro. Dewon Hall":MAILTO:mensministry@njmbc1906.org
END:VEVENT
BEGIN:VEVENT
DTSTART;TZID=America/Chicago:20280221T180000
DTEND;TZID=America/Chicago:20280221T190000
DTSTAMP:20260420T230351
CREATED:20251217T190131Z
LAST-MODIFIED:20251217T190131Z
UID:10002341-1834768800-1834772400@njmbc1906.org
SUMMARY:Men's Ministry Mondays
DESCRIPTION:
URL:https://njmbc1906.org/event/mens-ministry-mondays/2028-02-21/
CATEGORIES:Men's Ministry
ATTACH;FMTTYPE=image/jpeg:https://njmbc1906.org/wp-content/uploads/2023/02/Mens_Ministryl_Mondays_Graphic_New_Jerusalem_Church_Calendar_Thumbnails.jpg
ORGANIZER;CN="Bro. Dewon Hall":MAILTO:mensministry@njmbc1906.org
END:VEVENT
BEGIN:VEVENT
DTSTART;TZID=America/Chicago:20280306T180000
DTEND;TZID=America/Chicago:20280306T190000
DTSTAMP:20260420T230351
CREATED:20251217T190131Z
LAST-MODIFIED:20251217T190131Z
UID:10002342-1835978400-1835982000@njmbc1906.org
SUMMARY:Men's Ministry Mondays
DESCRIPTION:
URL:https://njmbc1906.org/event/mens-ministry-mondays/2028-03-06/
CATEGORIES:Men's Ministry
ATTACH;FMTTYPE=image/jpeg:https://njmbc1906.org/wp-content/uploads/2023/02/Mens_Ministryl_Mondays_Graphic_New_Jerusalem_Church_Calendar_Thumbnails.jpg
ORGANIZER;CN="Bro. Dewon Hall":MAILTO:mensministry@njmbc1906.org
END:VEVENT
BEGIN:VEVENT
DTSTART;TZID=America/Chicago:20280311T110000
DTEND;TZID=America/Chicago:20280311T130000
DTSTAMP:20260420T230351
CREATED:20251217T190437Z
LAST-MODIFIED:20251217T191958Z
UID:10002423-1836385200-1836392400@njmbc1906.org
SUMMARY:Boys to Men Workshop
DESCRIPTION:
URL:https://njmbc1906.org/event/boys-to-men-session/2028-03-11/
CATEGORIES:Boys to Men
ATTACH;FMTTYPE=image/png:https://njmbc1906.org/wp-content/uploads/2025/12/Boys_to_Men_Workshop_Square_NJMBC_Social_Media_Graphic_202522.png
END:VEVENT
BEGIN:VEVENT
DTSTART;TZID=America/Chicago:20280320T180000
DTEND;TZID=America/Chicago:20280320T190000
DTSTAMP:20260420T230351
CREATED:20251217T190131Z
LAST-MODIFIED:20251217T190131Z
UID:10002343-1837188000-1837191600@njmbc1906.org
SUMMARY:Men's Ministry Mondays
DESCRIPTION:
URL:https://njmbc1906.org/event/mens-ministry-mondays/2028-03-20/
CATEGORIES:Men's Ministry
ATTACH;FMTTYPE=image/jpeg:https://njmbc1906.org/wp-content/uploads/2023/02/Mens_Ministryl_Mondays_Graphic_New_Jerusalem_Church_Calendar_Thumbnails.jpg
ORGANIZER;CN="Bro. Dewon Hall":MAILTO:mensministry@njmbc1906.org
END:VEVENT
BEGIN:VEVENT
DTSTART;TZID=America/Chicago:20280403T180000
DTEND;TZID=America/Chicago:20280403T190000
DTSTAMP:20260420T230351
CREATED:20251217T190131Z
LAST-MODIFIED:20251217T190131Z
UID:10002344-1838397600-1838401200@njmbc1906.org
SUMMARY:Men's Ministry Mondays
DESCRIPTION:
URL:https://njmbc1906.org/event/mens-ministry-mondays/2028-04-03/
CATEGORIES:Men's Ministry
ATTACH;FMTTYPE=image/jpeg:https://njmbc1906.org/wp-content/uploads/2023/02/Mens_Ministryl_Mondays_Graphic_New_Jerusalem_Church_Calendar_Thumbnails.jpg
ORGANIZER;CN="Bro. Dewon Hall":MAILTO:mensministry@njmbc1906.org
END:VEVENT
BEGIN:VEVENT
DTSTART;TZID=America/Chicago:20280417T180000
DTEND;TZID=America/Chicago:20280417T190000
DTSTAMP:20260420T230351
CREATED:20251217T190131Z
LAST-MODIFIED:20251217T190131Z
UID:10002345-1839607200-1839610800@njmbc1906.org
SUMMARY:Men's Ministry Mondays
DESCRIPTION:
URL:https://njmbc1906.org/event/mens-ministry-mondays/2028-04-17/
CATEGORIES:Men's Ministry
ATTACH;FMTTYPE=image/jpeg:https://njmbc1906.org/wp-content/uploads/2023/02/Mens_Ministryl_Mondays_Graphic_New_Jerusalem_Church_Calendar_Thumbnails.jpg
ORGANIZER;CN="Bro. Dewon Hall":MAILTO:mensministry@njmbc1906.org
END:VEVENT
BEGIN:VEVENT
DTSTART;TZID=America/Chicago:20280501T180000
DTEND;TZID=America/Chicago:20280501T190000
DTSTAMP:20260420T230351
CREATED:20251217T190131Z
LAST-MODIFIED:20251217T190131Z
UID:10002346-1840816800-1840820400@njmbc1906.org
SUMMARY:Men's Ministry Mondays
DESCRIPTION:
URL:https://njmbc1906.org/event/mens-ministry-mondays/2028-05-01/
CATEGORIES:Men's Ministry
ATTACH;FMTTYPE=image/jpeg:https://njmbc1906.org/wp-content/uploads/2023/02/Mens_Ministryl_Mondays_Graphic_New_Jerusalem_Church_Calendar_Thumbnails.jpg
ORGANIZER;CN="Bro. Dewon Hall":MAILTO:mensministry@njmbc1906.org
END:VEVENT
BEGIN:VEVENT
DTSTART;TZID=America/Chicago:20280515T180000
DTEND;TZID=America/Chicago:20280515T190000
DTSTAMP:20260420T230351
CREATED:20251217T190131Z
LAST-MODIFIED:20251217T190131Z
UID:10002347-1842026400-1842030000@njmbc1906.org
SUMMARY:Men's Ministry Mondays
DESCRIPTION:
URL:https://njmbc1906.org/event/mens-ministry-mondays/2028-05-15/
CATEGORIES:Men's Ministry
ATTACH;FMTTYPE=image/jpeg:https://njmbc1906.org/wp-content/uploads/2023/02/Mens_Ministryl_Mondays_Graphic_New_Jerusalem_Church_Calendar_Thumbnails.jpg
ORGANIZER;CN="Bro. Dewon Hall":MAILTO:mensministry@njmbc1906.org
END:VEVENT
BEGIN:VEVENT
DTSTART;TZID=America/Chicago:20280529T180000
DTEND;TZID=America/Chicago:20280529T190000
DTSTAMP:20260420T230351
CREATED:20251217T190131Z
LAST-MODIFIED:20251217T190131Z
UID:10002348-1843236000-1843239600@njmbc1906.org
SUMMARY:Men's Ministry Mondays
DESCRIPTION:
URL:https://njmbc1906.org/event/mens-ministry-mondays/2028-05-29/
CATEGORIES:Men's Ministry
ATTACH;FMTTYPE=image/jpeg:https://njmbc1906.org/wp-content/uploads/2023/02/Mens_Ministryl_Mondays_Graphic_New_Jerusalem_Church_Calendar_Thumbnails.jpg
ORGANIZER;CN="Bro. Dewon Hall":MAILTO:mensministry@njmbc1906.org
END:VEVENT
BEGIN:VEVENT
DTSTART;TZID=America/Chicago:20280610T110000
DTEND;TZID=America/Chicago:20280610T130000
DTSTAMP:20260420T230351
CREATED:20251217T190437Z
LAST-MODIFIED:20251217T191958Z
UID:10002424-1844247600-1844254800@njmbc1906.org
SUMMARY:Boys to Men Workshop
DESCRIPTION:
URL:https://njmbc1906.org/event/boys-to-men-session/2028-06-10/
CATEGORIES:Boys to Men
ATTACH;FMTTYPE=image/png:https://njmbc1906.org/wp-content/uploads/2025/12/Boys_to_Men_Workshop_Square_NJMBC_Social_Media_Graphic_202522.png
END:VEVENT
BEGIN:VEVENT
DTSTART;TZID=America/Chicago:20280612T180000
DTEND;TZID=America/Chicago:20280612T190000
DTSTAMP:20260420T230351
CREATED:20251217T190131Z
LAST-MODIFIED:20251217T190131Z
UID:10002349-1844445600-1844449200@njmbc1906.org
SUMMARY:Men's Ministry Mondays
DESCRIPTION:
URL:https://njmbc1906.org/event/mens-ministry-mondays/2028-06-12/
CATEGORIES:Men's Ministry
ATTACH;FMTTYPE=image/jpeg:https://njmbc1906.org/wp-content/uploads/2023/02/Mens_Ministryl_Mondays_Graphic_New_Jerusalem_Church_Calendar_Thumbnails.jpg
ORGANIZER;CN="Bro. Dewon Hall":MAILTO:mensministry@njmbc1906.org
END:VEVENT
BEGIN:VEVENT
DTSTART;TZID=America/Chicago:20280626T180000
DTEND;TZID=America/Chicago:20280626T190000
DTSTAMP:20260420T230351
CREATED:20251217T190131Z
LAST-MODIFIED:20251217T190131Z
UID:10002350-1845655200-1845658800@njmbc1906.org
SUMMARY:Men's Ministry Mondays
DESCRIPTION:
URL:https://njmbc1906.org/event/mens-ministry-mondays/2028-06-26/
CATEGORIES:Men's Ministry
ATTACH;FMTTYPE=image/jpeg:https://njmbc1906.org/wp-content/uploads/2023/02/Mens_Ministryl_Mondays_Graphic_New_Jerusalem_Church_Calendar_Thumbnails.jpg
ORGANIZER;CN="Bro. Dewon Hall":MAILTO:mensministry@njmbc1906.org
END:VEVENT
BEGIN:VEVENT
DTSTART;TZID=America/Chicago:20280710T180000
DTEND;TZID=America/Chicago:20280710T190000
DTSTAMP:20260420T230351
CREATED:20251217T190131Z
LAST-MODIFIED:20251217T190131Z
UID:10002351-1846864800-1846868400@njmbc1906.org
SUMMARY:Men's Ministry Mondays
DESCRIPTION:
URL:https://njmbc1906.org/event/mens-ministry-mondays/2028-07-10/
CATEGORIES:Men's Ministry
ATTACH;FMTTYPE=image/jpeg:https://njmbc1906.org/wp-content/uploads/2023/02/Mens_Ministryl_Mondays_Graphic_New_Jerusalem_Church_Calendar_Thumbnails.jpg
ORGANIZER;CN="Bro. Dewon Hall":MAILTO:mensministry@njmbc1906.org
END:VEVENT
BEGIN:VEVENT
DTSTART;TZID=America/Chicago:20280724T180000
DTEND;TZID=America/Chicago:20280724T190000
DTSTAMP:20260420T230351
CREATED:20251217T190131Z
LAST-MODIFIED:20251217T190131Z
UID:10002352-1848074400-1848078000@njmbc1906.org
SUMMARY:Men's Ministry Mondays
DESCRIPTION:
URL:https://njmbc1906.org/event/mens-ministry-mondays/2028-07-24/
CATEGORIES:Men's Ministry
ATTACH;FMTTYPE=image/jpeg:https://njmbc1906.org/wp-content/uploads/2023/02/Mens_Ministryl_Mondays_Graphic_New_Jerusalem_Church_Calendar_Thumbnails.jpg
ORGANIZER;CN="Bro. Dewon Hall":MAILTO:mensministry@njmbc1906.org
END:VEVENT
BEGIN:VEVENT
DTSTART;TZID=America/Chicago:20280807T180000
DTEND;TZID=America/Chicago:20280807T190000
DTSTAMP:20260420T230351
CREATED:20251217T190131Z
LAST-MODIFIED:20251217T190131Z
UID:10002353-1849284000-1849287600@njmbc1906.org
SUMMARY:Men's Ministry Mondays
DESCRIPTION:
URL:https://njmbc1906.org/event/mens-ministry-mondays/2028-08-07/
CATEGORIES:Men's Ministry
ATTACH;FMTTYPE=image/jpeg:https://njmbc1906.org/wp-content/uploads/2023/02/Mens_Ministryl_Mondays_Graphic_New_Jerusalem_Church_Calendar_Thumbnails.jpg
ORGANIZER;CN="Bro. Dewon Hall":MAILTO:mensministry@njmbc1906.org
END:VEVENT
BEGIN:VEVENT
DTSTART;TZID=America/Chicago:20280821T180000
DTEND;TZID=America/Chicago:20280821T190000
DTSTAMP:20260420T230351
CREATED:20251217T190131Z
LAST-MODIFIED:20251217T190131Z
UID:10002354-1850493600-1850497200@njmbc1906.org
SUMMARY:Men's Ministry Mondays
DESCRIPTION:
URL:https://njmbc1906.org/event/mens-ministry-mondays/2028-08-21/
CATEGORIES:Men's Ministry
ATTACH;FMTTYPE=image/jpeg:https://njmbc1906.org/wp-content/uploads/2023/02/Mens_Ministryl_Mondays_Graphic_New_Jerusalem_Church_Calendar_Thumbnails.jpg
ORGANIZER;CN="Bro. Dewon Hall":MAILTO:mensministry@njmbc1906.org
END:VEVENT
BEGIN:VEVENT
DTSTART;TZID=America/Chicago:20280904T180000
DTEND;TZID=America/Chicago:20280904T190000
DTSTAMP:20260420T230351
CREATED:20251217T190131Z
LAST-MODIFIED:20251217T190131Z
UID:10002355-1851703200-1851706800@njmbc1906.org
SUMMARY:Men's Ministry Mondays
DESCRIPTION:
URL:https://njmbc1906.org/event/mens-ministry-mondays/2028-09-04/
CATEGORIES:Men's Ministry
ATTACH;FMTTYPE=image/jpeg:https://njmbc1906.org/wp-content/uploads/2023/02/Mens_Ministryl_Mondays_Graphic_New_Jerusalem_Church_Calendar_Thumbnails.jpg
ORGANIZER;CN="Bro. Dewon Hall":MAILTO:mensministry@njmbc1906.org
END:VEVENT
END:VCALENDAR