BEGIN:VCALENDAR
VERSION:2.0
PRODID:-//New Jerusalem Missionary Baptist Church | Greenville, Mississippi - - ECPv6.15.20//NONSGML v1.0//EN
CALSCALE:GREGORIAN
METHOD:PUBLISH
X-WR-CALNAME:New Jerusalem Missionary Baptist Church | Greenville, Mississippi -
X-ORIGINAL-URL:https://njmbc1906.org
X-WR-CALDESC:Events for New Jerusalem Missionary Baptist Church | Greenville, Mississippi -
REFRESH-INTERVAL;VALUE=DURATION:PT1H
X-Robots-Tag:noindex
X-PUBLISHED-TTL:PT1H
BEGIN:VTIMEZONE
TZID:America/Chicago
BEGIN:DAYLIGHT
TZOFFSETFROM:-0600
TZOFFSETTO:-0500
TZNAME:CDT
DTSTART:20250309T080000
END:DAYLIGHT
BEGIN:STANDARD
TZOFFSETFROM:-0500
TZOFFSETTO:-0600
TZNAME:CST
DTSTART:20251102T070000
END:STANDARD
BEGIN:DAYLIGHT
TZOFFSETFROM:-0600
TZOFFSETTO:-0500
TZNAME:CDT
DTSTART:20260308T080000
END:DAYLIGHT
BEGIN:STANDARD
TZOFFSETFROM:-0500
TZOFFSETTO:-0600
TZNAME:CST
DTSTART:20261101T070000
END:STANDARD
BEGIN:DAYLIGHT
TZOFFSETFROM:-0600
TZOFFSETTO:-0500
TZNAME:CDT
DTSTART:20270314T080000
END:DAYLIGHT
BEGIN:STANDARD
TZOFFSETFROM:-0500
TZOFFSETTO:-0600
TZNAME:CST
DTSTART:20271107T070000
END:STANDARD
END:VTIMEZONE
BEGIN:VEVENT
DTSTART;TZID=America/Chicago:20260601T180000
DTEND;TZID=America/Chicago:20260601T190000
DTSTAMP:20260420T115916
CREATED:20251217T190131Z
LAST-MODIFIED:20251217T190131Z
UID:10002296-1780336800-1780340400@njmbc1906.org
SUMMARY:Men's Ministry Mondays
DESCRIPTION:
URL:https://njmbc1906.org/event/mens-ministry-mondays/2026-06-01/
CATEGORIES:Men's Ministry
ATTACH;FMTTYPE=image/jpeg:https://njmbc1906.org/wp-content/uploads/2023/02/Mens_Ministryl_Mondays_Graphic_New_Jerusalem_Church_Calendar_Thumbnails.jpg
ORGANIZER;CN="Bro. Dewon Hall":MAILTO:mensministry@njmbc1906.org
END:VEVENT
BEGIN:VEVENT
DTSTART;TZID=America/Chicago:20260613T110000
DTEND;TZID=America/Chicago:20260613T130000
DTSTAMP:20260420T115916
CREATED:20251217T190437Z
LAST-MODIFIED:20251217T191958Z
UID:10002416-1781348400-1781355600@njmbc1906.org
SUMMARY:Boys to Men Workshop
DESCRIPTION:
URL:https://njmbc1906.org/event/boys-to-men-session/2026-06-13/
CATEGORIES:Boys to Men
ATTACH;FMTTYPE=image/png:https://njmbc1906.org/wp-content/uploads/2025/12/Boys_to_Men_Workshop_Square_NJMBC_Social_Media_Graphic_202522.png
END:VEVENT
BEGIN:VEVENT
DTSTART;TZID=America/Chicago:20260615T180000
DTEND;TZID=America/Chicago:20260615T190000
DTSTAMP:20260420T115916
CREATED:20251217T190131Z
LAST-MODIFIED:20251217T190131Z
UID:10002297-1781546400-1781550000@njmbc1906.org
SUMMARY:Men's Ministry Mondays
DESCRIPTION:
URL:https://njmbc1906.org/event/mens-ministry-mondays/2026-06-15/
CATEGORIES:Men's Ministry
ATTACH;FMTTYPE=image/jpeg:https://njmbc1906.org/wp-content/uploads/2023/02/Mens_Ministryl_Mondays_Graphic_New_Jerusalem_Church_Calendar_Thumbnails.jpg
ORGANIZER;CN="Bro. Dewon Hall":MAILTO:mensministry@njmbc1906.org
END:VEVENT
BEGIN:VEVENT
DTSTART;TZID=America/Chicago:20260629T180000
DTEND;TZID=America/Chicago:20260629T190000
DTSTAMP:20260420T115916
CREATED:20251217T190131Z
LAST-MODIFIED:20251217T190131Z
UID:10002298-1782756000-1782759600@njmbc1906.org
SUMMARY:Men's Ministry Mondays
DESCRIPTION:
URL:https://njmbc1906.org/event/mens-ministry-mondays/2026-06-29/
CATEGORIES:Men's Ministry
ATTACH;FMTTYPE=image/jpeg:https://njmbc1906.org/wp-content/uploads/2023/02/Mens_Ministryl_Mondays_Graphic_New_Jerusalem_Church_Calendar_Thumbnails.jpg
ORGANIZER;CN="Bro. Dewon Hall":MAILTO:mensministry@njmbc1906.org
END:VEVENT
END:VCALENDAR