BEGIN:VCALENDAR
VERSION:2.0
PRODID:-//New Jerusalem Missionary Baptist Church | Greenville, Mississippi - - ECPv6.15.20//NONSGML v1.0//EN
CALSCALE:GREGORIAN
METHOD:PUBLISH
X-WR-CALNAME:New Jerusalem Missionary Baptist Church | Greenville, Mississippi -
X-ORIGINAL-URL:https://njmbc1906.org
X-WR-CALDESC:Events for New Jerusalem Missionary Baptist Church | Greenville, Mississippi -
REFRESH-INTERVAL;VALUE=DURATION:PT1H
X-Robots-Tag:noindex
X-PUBLISHED-TTL:PT1H
BEGIN:VTIMEZONE
TZID:America/Chicago
BEGIN:DAYLIGHT
TZOFFSETFROM:-0600
TZOFFSETTO:-0500
TZNAME:CDT
DTSTART:20250309T080000
END:DAYLIGHT
BEGIN:STANDARD
TZOFFSETFROM:-0500
TZOFFSETTO:-0600
TZNAME:CST
DTSTART:20251102T070000
END:STANDARD
BEGIN:DAYLIGHT
TZOFFSETFROM:-0600
TZOFFSETTO:-0500
TZNAME:CDT
DTSTART:20260308T080000
END:DAYLIGHT
BEGIN:STANDARD
TZOFFSETFROM:-0500
TZOFFSETTO:-0600
TZNAME:CST
DTSTART:20261101T070000
END:STANDARD
BEGIN:DAYLIGHT
TZOFFSETFROM:-0600
TZOFFSETTO:-0500
TZNAME:CDT
DTSTART:20270314T080000
END:DAYLIGHT
BEGIN:STANDARD
TZOFFSETFROM:-0500
TZOFFSETTO:-0600
TZNAME:CST
DTSTART:20271107T070000
END:STANDARD
END:VTIMEZONE
BEGIN:VEVENT
DTSTART;TZID=America/Chicago:20260208T160000
DTEND;TZID=America/Chicago:20260208T190000
DTSTAMP:20260420T115557
CREATED:20260107T175246Z
LAST-MODIFIED:20260107T175558Z
UID:10003078-1770566400-1770577200@njmbc1906.org
SUMMARY:Super Bowl Party 2026
DESCRIPTION:Join the Men’s Ministry at our Super Bowl Party! \n\nSunday\, February 8th @ 4pm\nYMCA • 1688 Fairgrounds Road • Greenville\, MS 38701\n\nClick here if you plan to participate. Thank you!
URL:https://njmbc1906.org/event/super-bowl-party-2026/
CATEGORIES:Men's Ministry
ATTACH;FMTTYPE=image/png:https://njmbc1906.org/wp-content/uploads/2026/01/Super_Bowl_Party_Mens_Ministry_Square_Graphic.png
END:VEVENT
BEGIN:VEVENT
DTSTART;TZID=America/Chicago:20260209T180000
DTEND;TZID=America/Chicago:20260209T190000
DTSTAMP:20260420T115557
CREATED:20251217T190131Z
LAST-MODIFIED:20251217T190131Z
UID:10002288-1770660000-1770663600@njmbc1906.org
SUMMARY:Men's Ministry Mondays
DESCRIPTION:
URL:https://njmbc1906.org/event/mens-ministry-mondays/2026-02-09/
CATEGORIES:Men's Ministry
ATTACH;FMTTYPE=image/jpeg:https://njmbc1906.org/wp-content/uploads/2023/02/Mens_Ministryl_Mondays_Graphic_New_Jerusalem_Church_Calendar_Thumbnails.jpg
ORGANIZER;CN="Bro. Dewon Hall":MAILTO:mensministry@njmbc1906.org
END:VEVENT
BEGIN:VEVENT
DTSTART;TZID=America/Chicago:20260223T180000
DTEND;TZID=America/Chicago:20260223T190000
DTSTAMP:20260420T115557
CREATED:20251217T190131Z
LAST-MODIFIED:20251217T190131Z
UID:10002289-1771869600-1771873200@njmbc1906.org
SUMMARY:Men's Ministry Mondays
DESCRIPTION:
URL:https://njmbc1906.org/event/mens-ministry-mondays/2026-02-23/
CATEGORIES:Men's Ministry
ATTACH;FMTTYPE=image/jpeg:https://njmbc1906.org/wp-content/uploads/2023/02/Mens_Ministryl_Mondays_Graphic_New_Jerusalem_Church_Calendar_Thumbnails.jpg
ORGANIZER;CN="Bro. Dewon Hall":MAILTO:mensministry@njmbc1906.org
END:VEVENT
END:VCALENDAR