BEGIN:VCALENDAR
VERSION:2.0
PRODID:-//New Jerusalem Missionary Baptist Church | Greenville, Mississippi - - ECPv6.15.20//NONSGML v1.0//EN
CALSCALE:GREGORIAN
METHOD:PUBLISH
X-WR-CALNAME:New Jerusalem Missionary Baptist Church | Greenville, Mississippi -
X-ORIGINAL-URL:https://njmbc1906.org
X-WR-CALDESC:Events for New Jerusalem Missionary Baptist Church | Greenville, Mississippi -
REFRESH-INTERVAL;VALUE=DURATION:PT1H
X-Robots-Tag:noindex
X-PUBLISHED-TTL:PT1H
BEGIN:VTIMEZONE
TZID:America/Chicago
BEGIN:DAYLIGHT
TZOFFSETFROM:-0600
TZOFFSETTO:-0500
TZNAME:CDT
DTSTART:20270314T080000
END:DAYLIGHT
BEGIN:STANDARD
TZOFFSETFROM:-0500
TZOFFSETTO:-0600
TZNAME:CST
DTSTART:20271107T070000
END:STANDARD
BEGIN:DAYLIGHT
TZOFFSETFROM:-0600
TZOFFSETTO:-0500
TZNAME:CDT
DTSTART:20280312T080000
END:DAYLIGHT
BEGIN:STANDARD
TZOFFSETFROM:-0500
TZOFFSETTO:-0600
TZNAME:CST
DTSTART:20281105T070000
END:STANDARD
BEGIN:DAYLIGHT
TZOFFSETFROM:-0600
TZOFFSETTO:-0500
TZNAME:CDT
DTSTART:20290311T080000
END:DAYLIGHT
BEGIN:STANDARD
TZOFFSETFROM:-0500
TZOFFSETTO:-0600
TZNAME:CST
DTSTART:20291104T070000
END:STANDARD
END:VTIMEZONE
BEGIN:VEVENT
DTSTART;TZID=America/Chicago:20280606T180000
DTEND;TZID=America/Chicago:20280606T190000
DTSTAMP:20260420T004506
CREATED:20230220T022907Z
LAST-MODIFIED:20231005T211108Z
UID:10001427-1843927200-1843930800@njmbc1906.org
SUMMARY:Choir Rehearsal
DESCRIPTION:Adult Choir Rehearsal is held every Tuesday of the month. We have a men’s choir rehearsal when there’s a 5th Sunday in the month. Youth Choir rehearsals are typically the 2nd Tuesday and/or Thursday before Youth Sunday. If you’re interested in learning more or joining the choir ministry\, please visit this page – https://njmbc1906.org/choir-music-ministry/. Also\, if you’re a New Jerusalem member\, and haven’t signed up to receive text messages\, you can sign-up at this link – https://njmbc1906.org/contact/#receivetextmessages. This will help keep you in the overall loop of ministry updates / changes\, events and other things going on at NJMBC.
URL:https://njmbc1906.org/event/choir-rehearsal/2028-06-06/
CATEGORIES:Choir Rehearsal
ATTACH;FMTTYPE=image/jpeg:https://njmbc1906.org/wp-content/uploads/2023/02/Choir_Ministry_Graphic_New_Jerusalem_Church_Calendar_Thumbnails-1.jpg
ORGANIZER;CN="Sis. Shequeta Wells Murphy":MAILTO:choirministry@njmbc1906.org
END:VEVENT
BEGIN:VEVENT
DTSTART;TZID=America/Chicago:20280613T180000
DTEND;TZID=America/Chicago:20280613T190000
DTSTAMP:20260420T004506
CREATED:20230220T022907Z
LAST-MODIFIED:20231005T211108Z
UID:10001428-1844532000-1844535600@njmbc1906.org
SUMMARY:Choir Rehearsal
DESCRIPTION:Adult Choir Rehearsal is held every Tuesday of the month. We have a men’s choir rehearsal when there’s a 5th Sunday in the month. Youth Choir rehearsals are typically the 2nd Tuesday and/or Thursday before Youth Sunday. If you’re interested in learning more or joining the choir ministry\, please visit this page – https://njmbc1906.org/choir-music-ministry/. Also\, if you’re a New Jerusalem member\, and haven’t signed up to receive text messages\, you can sign-up at this link – https://njmbc1906.org/contact/#receivetextmessages. This will help keep you in the overall loop of ministry updates / changes\, events and other things going on at NJMBC.
URL:https://njmbc1906.org/event/choir-rehearsal/2028-06-13/
CATEGORIES:Choir Rehearsal
ATTACH;FMTTYPE=image/jpeg:https://njmbc1906.org/wp-content/uploads/2023/02/Choir_Ministry_Graphic_New_Jerusalem_Church_Calendar_Thumbnails-1.jpg
ORGANIZER;CN="Sis. Shequeta Wells Murphy":MAILTO:choirministry@njmbc1906.org
END:VEVENT
BEGIN:VEVENT
DTSTART;TZID=America/Chicago:20280620T180000
DTEND;TZID=America/Chicago:20280620T190000
DTSTAMP:20260420T004506
CREATED:20230220T022907Z
LAST-MODIFIED:20231005T211108Z
UID:10001429-1845136800-1845140400@njmbc1906.org
SUMMARY:Choir Rehearsal
DESCRIPTION:Adult Choir Rehearsal is held every Tuesday of the month. We have a men’s choir rehearsal when there’s a 5th Sunday in the month. Youth Choir rehearsals are typically the 2nd Tuesday and/or Thursday before Youth Sunday. If you’re interested in learning more or joining the choir ministry\, please visit this page – https://njmbc1906.org/choir-music-ministry/. Also\, if you’re a New Jerusalem member\, and haven’t signed up to receive text messages\, you can sign-up at this link – https://njmbc1906.org/contact/#receivetextmessages. This will help keep you in the overall loop of ministry updates / changes\, events and other things going on at NJMBC.
URL:https://njmbc1906.org/event/choir-rehearsal/2028-06-20/
CATEGORIES:Choir Rehearsal
ATTACH;FMTTYPE=image/jpeg:https://njmbc1906.org/wp-content/uploads/2023/02/Choir_Ministry_Graphic_New_Jerusalem_Church_Calendar_Thumbnails-1.jpg
ORGANIZER;CN="Sis. Shequeta Wells Murphy":MAILTO:choirministry@njmbc1906.org
END:VEVENT
BEGIN:VEVENT
DTSTART;TZID=America/Chicago:20280627T180000
DTEND;TZID=America/Chicago:20280627T190000
DTSTAMP:20260420T004506
CREATED:20230220T022907Z
LAST-MODIFIED:20231005T211108Z
UID:10001430-1845741600-1845745200@njmbc1906.org
SUMMARY:Choir Rehearsal
DESCRIPTION:Adult Choir Rehearsal is held every Tuesday of the month. We have a men’s choir rehearsal when there’s a 5th Sunday in the month. Youth Choir rehearsals are typically the 2nd Tuesday and/or Thursday before Youth Sunday. If you’re interested in learning more or joining the choir ministry\, please visit this page – https://njmbc1906.org/choir-music-ministry/. Also\, if you’re a New Jerusalem member\, and haven’t signed up to receive text messages\, you can sign-up at this link – https://njmbc1906.org/contact/#receivetextmessages. This will help keep you in the overall loop of ministry updates / changes\, events and other things going on at NJMBC.
URL:https://njmbc1906.org/event/choir-rehearsal/2028-06-27/
CATEGORIES:Choir Rehearsal
ATTACH;FMTTYPE=image/jpeg:https://njmbc1906.org/wp-content/uploads/2023/02/Choir_Ministry_Graphic_New_Jerusalem_Church_Calendar_Thumbnails-1.jpg
ORGANIZER;CN="Sis. Shequeta Wells Murphy":MAILTO:choirministry@njmbc1906.org
END:VEVENT
BEGIN:VEVENT
DTSTART;TZID=America/Chicago:20280704T180000
DTEND;TZID=America/Chicago:20280704T190000
DTSTAMP:20260420T004506
CREATED:20230220T022907Z
LAST-MODIFIED:20231005T211108Z
UID:10001431-1846346400-1846350000@njmbc1906.org
SUMMARY:Choir Rehearsal
DESCRIPTION:Adult Choir Rehearsal is held every Tuesday of the month. We have a men’s choir rehearsal when there’s a 5th Sunday in the month. Youth Choir rehearsals are typically the 2nd Tuesday and/or Thursday before Youth Sunday. If you’re interested in learning more or joining the choir ministry\, please visit this page – https://njmbc1906.org/choir-music-ministry/. Also\, if you’re a New Jerusalem member\, and haven’t signed up to receive text messages\, you can sign-up at this link – https://njmbc1906.org/contact/#receivetextmessages. This will help keep you in the overall loop of ministry updates / changes\, events and other things going on at NJMBC.
URL:https://njmbc1906.org/event/choir-rehearsal/2028-07-04/
CATEGORIES:Choir Rehearsal
ATTACH;FMTTYPE=image/jpeg:https://njmbc1906.org/wp-content/uploads/2023/02/Choir_Ministry_Graphic_New_Jerusalem_Church_Calendar_Thumbnails-1.jpg
ORGANIZER;CN="Sis. Shequeta Wells Murphy":MAILTO:choirministry@njmbc1906.org
END:VEVENT
BEGIN:VEVENT
DTSTART;TZID=America/Chicago:20280711T180000
DTEND;TZID=America/Chicago:20280711T190000
DTSTAMP:20260420T004506
CREATED:20230220T022907Z
LAST-MODIFIED:20231005T211108Z
UID:10001432-1846951200-1846954800@njmbc1906.org
SUMMARY:Choir Rehearsal
DESCRIPTION:Adult Choir Rehearsal is held every Tuesday of the month. We have a men’s choir rehearsal when there’s a 5th Sunday in the month. Youth Choir rehearsals are typically the 2nd Tuesday and/or Thursday before Youth Sunday. If you’re interested in learning more or joining the choir ministry\, please visit this page – https://njmbc1906.org/choir-music-ministry/. Also\, if you’re a New Jerusalem member\, and haven’t signed up to receive text messages\, you can sign-up at this link – https://njmbc1906.org/contact/#receivetextmessages. This will help keep you in the overall loop of ministry updates / changes\, events and other things going on at NJMBC.
URL:https://njmbc1906.org/event/choir-rehearsal/2028-07-11/
CATEGORIES:Choir Rehearsal
ATTACH;FMTTYPE=image/jpeg:https://njmbc1906.org/wp-content/uploads/2023/02/Choir_Ministry_Graphic_New_Jerusalem_Church_Calendar_Thumbnails-1.jpg
ORGANIZER;CN="Sis. Shequeta Wells Murphy":MAILTO:choirministry@njmbc1906.org
END:VEVENT
BEGIN:VEVENT
DTSTART;TZID=America/Chicago:20280718T180000
DTEND;TZID=America/Chicago:20280718T190000
DTSTAMP:20260420T004506
CREATED:20230220T022907Z
LAST-MODIFIED:20231005T211108Z
UID:10001433-1847556000-1847559600@njmbc1906.org
SUMMARY:Choir Rehearsal
DESCRIPTION:Adult Choir Rehearsal is held every Tuesday of the month. We have a men’s choir rehearsal when there’s a 5th Sunday in the month. Youth Choir rehearsals are typically the 2nd Tuesday and/or Thursday before Youth Sunday. If you’re interested in learning more or joining the choir ministry\, please visit this page – https://njmbc1906.org/choir-music-ministry/. Also\, if you’re a New Jerusalem member\, and haven’t signed up to receive text messages\, you can sign-up at this link – https://njmbc1906.org/contact/#receivetextmessages. This will help keep you in the overall loop of ministry updates / changes\, events and other things going on at NJMBC.
URL:https://njmbc1906.org/event/choir-rehearsal/2028-07-18/
CATEGORIES:Choir Rehearsal
ATTACH;FMTTYPE=image/jpeg:https://njmbc1906.org/wp-content/uploads/2023/02/Choir_Ministry_Graphic_New_Jerusalem_Church_Calendar_Thumbnails-1.jpg
ORGANIZER;CN="Sis. Shequeta Wells Murphy":MAILTO:choirministry@njmbc1906.org
END:VEVENT
BEGIN:VEVENT
DTSTART;TZID=America/Chicago:20280725T180000
DTEND;TZID=America/Chicago:20280725T190000
DTSTAMP:20260420T004506
CREATED:20230220T022907Z
LAST-MODIFIED:20231005T211108Z
UID:10001434-1848160800-1848164400@njmbc1906.org
SUMMARY:Choir Rehearsal
DESCRIPTION:Adult Choir Rehearsal is held every Tuesday of the month. We have a men’s choir rehearsal when there’s a 5th Sunday in the month. Youth Choir rehearsals are typically the 2nd Tuesday and/or Thursday before Youth Sunday. If you’re interested in learning more or joining the choir ministry\, please visit this page – https://njmbc1906.org/choir-music-ministry/. Also\, if you’re a New Jerusalem member\, and haven’t signed up to receive text messages\, you can sign-up at this link – https://njmbc1906.org/contact/#receivetextmessages. This will help keep you in the overall loop of ministry updates / changes\, events and other things going on at NJMBC.
URL:https://njmbc1906.org/event/choir-rehearsal/2028-07-25/
CATEGORIES:Choir Rehearsal
ATTACH;FMTTYPE=image/jpeg:https://njmbc1906.org/wp-content/uploads/2023/02/Choir_Ministry_Graphic_New_Jerusalem_Church_Calendar_Thumbnails-1.jpg
ORGANIZER;CN="Sis. Shequeta Wells Murphy":MAILTO:choirministry@njmbc1906.org
END:VEVENT
BEGIN:VEVENT
DTSTART;TZID=America/Chicago:20280801T180000
DTEND;TZID=America/Chicago:20280801T190000
DTSTAMP:20260420T004506
CREATED:20230220T022907Z
LAST-MODIFIED:20231005T211108Z
UID:10001435-1848765600-1848769200@njmbc1906.org
SUMMARY:Choir Rehearsal
DESCRIPTION:Adult Choir Rehearsal is held every Tuesday of the month. We have a men’s choir rehearsal when there’s a 5th Sunday in the month. Youth Choir rehearsals are typically the 2nd Tuesday and/or Thursday before Youth Sunday. If you’re interested in learning more or joining the choir ministry\, please visit this page – https://njmbc1906.org/choir-music-ministry/. Also\, if you’re a New Jerusalem member\, and haven’t signed up to receive text messages\, you can sign-up at this link – https://njmbc1906.org/contact/#receivetextmessages. This will help keep you in the overall loop of ministry updates / changes\, events and other things going on at NJMBC.
URL:https://njmbc1906.org/event/choir-rehearsal/2028-08-01/
CATEGORIES:Choir Rehearsal
ATTACH;FMTTYPE=image/jpeg:https://njmbc1906.org/wp-content/uploads/2023/02/Choir_Ministry_Graphic_New_Jerusalem_Church_Calendar_Thumbnails-1.jpg
ORGANIZER;CN="Sis. Shequeta Wells Murphy":MAILTO:choirministry@njmbc1906.org
END:VEVENT
BEGIN:VEVENT
DTSTART;TZID=America/Chicago:20280808T180000
DTEND;TZID=America/Chicago:20280808T190000
DTSTAMP:20260420T004506
CREATED:20230220T022907Z
LAST-MODIFIED:20231005T211108Z
UID:10001436-1849370400-1849374000@njmbc1906.org
SUMMARY:Choir Rehearsal
DESCRIPTION:Adult Choir Rehearsal is held every Tuesday of the month. We have a men’s choir rehearsal when there’s a 5th Sunday in the month. Youth Choir rehearsals are typically the 2nd Tuesday and/or Thursday before Youth Sunday. If you’re interested in learning more or joining the choir ministry\, please visit this page – https://njmbc1906.org/choir-music-ministry/. Also\, if you’re a New Jerusalem member\, and haven’t signed up to receive text messages\, you can sign-up at this link – https://njmbc1906.org/contact/#receivetextmessages. This will help keep you in the overall loop of ministry updates / changes\, events and other things going on at NJMBC.
URL:https://njmbc1906.org/event/choir-rehearsal/2028-08-08/
CATEGORIES:Choir Rehearsal
ATTACH;FMTTYPE=image/jpeg:https://njmbc1906.org/wp-content/uploads/2023/02/Choir_Ministry_Graphic_New_Jerusalem_Church_Calendar_Thumbnails-1.jpg
ORGANIZER;CN="Sis. Shequeta Wells Murphy":MAILTO:choirministry@njmbc1906.org
END:VEVENT
BEGIN:VEVENT
DTSTART;TZID=America/Chicago:20280815T180000
DTEND;TZID=America/Chicago:20280815T190000
DTSTAMP:20260420T004506
CREATED:20230220T022907Z
LAST-MODIFIED:20231005T211108Z
UID:10001437-1849975200-1849978800@njmbc1906.org
SUMMARY:Choir Rehearsal
DESCRIPTION:Adult Choir Rehearsal is held every Tuesday of the month. We have a men’s choir rehearsal when there’s a 5th Sunday in the month. Youth Choir rehearsals are typically the 2nd Tuesday and/or Thursday before Youth Sunday. If you’re interested in learning more or joining the choir ministry\, please visit this page – https://njmbc1906.org/choir-music-ministry/. Also\, if you’re a New Jerusalem member\, and haven’t signed up to receive text messages\, you can sign-up at this link – https://njmbc1906.org/contact/#receivetextmessages. This will help keep you in the overall loop of ministry updates / changes\, events and other things going on at NJMBC.
URL:https://njmbc1906.org/event/choir-rehearsal/2028-08-15/
CATEGORIES:Choir Rehearsal
ATTACH;FMTTYPE=image/jpeg:https://njmbc1906.org/wp-content/uploads/2023/02/Choir_Ministry_Graphic_New_Jerusalem_Church_Calendar_Thumbnails-1.jpg
ORGANIZER;CN="Sis. Shequeta Wells Murphy":MAILTO:choirministry@njmbc1906.org
END:VEVENT
BEGIN:VEVENT
DTSTART;TZID=America/Chicago:20280822T180000
DTEND;TZID=America/Chicago:20280822T190000
DTSTAMP:20260420T004506
CREATED:20230220T022907Z
LAST-MODIFIED:20231005T211108Z
UID:10001438-1850580000-1850583600@njmbc1906.org
SUMMARY:Choir Rehearsal
DESCRIPTION:Adult Choir Rehearsal is held every Tuesday of the month. We have a men’s choir rehearsal when there’s a 5th Sunday in the month. Youth Choir rehearsals are typically the 2nd Tuesday and/or Thursday before Youth Sunday. If you’re interested in learning more or joining the choir ministry\, please visit this page – https://njmbc1906.org/choir-music-ministry/. Also\, if you’re a New Jerusalem member\, and haven’t signed up to receive text messages\, you can sign-up at this link – https://njmbc1906.org/contact/#receivetextmessages. This will help keep you in the overall loop of ministry updates / changes\, events and other things going on at NJMBC.
URL:https://njmbc1906.org/event/choir-rehearsal/2028-08-22/
CATEGORIES:Choir Rehearsal
ATTACH;FMTTYPE=image/jpeg:https://njmbc1906.org/wp-content/uploads/2023/02/Choir_Ministry_Graphic_New_Jerusalem_Church_Calendar_Thumbnails-1.jpg
ORGANIZER;CN="Sis. Shequeta Wells Murphy":MAILTO:choirministry@njmbc1906.org
END:VEVENT
BEGIN:VEVENT
DTSTART;TZID=America/Chicago:20280829T180000
DTEND;TZID=America/Chicago:20280829T190000
DTSTAMP:20260420T004506
CREATED:20230220T022907Z
LAST-MODIFIED:20231005T211108Z
UID:10001439-1851184800-1851188400@njmbc1906.org
SUMMARY:Choir Rehearsal
DESCRIPTION:Adult Choir Rehearsal is held every Tuesday of the month. We have a men’s choir rehearsal when there’s a 5th Sunday in the month. Youth Choir rehearsals are typically the 2nd Tuesday and/or Thursday before Youth Sunday. If you’re interested in learning more or joining the choir ministry\, please visit this page – https://njmbc1906.org/choir-music-ministry/. Also\, if you’re a New Jerusalem member\, and haven’t signed up to receive text messages\, you can sign-up at this link – https://njmbc1906.org/contact/#receivetextmessages. This will help keep you in the overall loop of ministry updates / changes\, events and other things going on at NJMBC.
URL:https://njmbc1906.org/event/choir-rehearsal/2028-08-29/
CATEGORIES:Choir Rehearsal
ATTACH;FMTTYPE=image/jpeg:https://njmbc1906.org/wp-content/uploads/2023/02/Choir_Ministry_Graphic_New_Jerusalem_Church_Calendar_Thumbnails-1.jpg
ORGANIZER;CN="Sis. Shequeta Wells Murphy":MAILTO:choirministry@njmbc1906.org
END:VEVENT
BEGIN:VEVENT
DTSTART;TZID=America/Chicago:20280905T180000
DTEND;TZID=America/Chicago:20280905T190000
DTSTAMP:20260420T004506
CREATED:20230220T022907Z
LAST-MODIFIED:20231005T211108Z
UID:10001440-1851789600-1851793200@njmbc1906.org
SUMMARY:Choir Rehearsal
DESCRIPTION:Adult Choir Rehearsal is held every Tuesday of the month. We have a men’s choir rehearsal when there’s a 5th Sunday in the month. Youth Choir rehearsals are typically the 2nd Tuesday and/or Thursday before Youth Sunday. If you’re interested in learning more or joining the choir ministry\, please visit this page – https://njmbc1906.org/choir-music-ministry/. Also\, if you’re a New Jerusalem member\, and haven’t signed up to receive text messages\, you can sign-up at this link – https://njmbc1906.org/contact/#receivetextmessages. This will help keep you in the overall loop of ministry updates / changes\, events and other things going on at NJMBC.
URL:https://njmbc1906.org/event/choir-rehearsal/2028-09-05/
CATEGORIES:Choir Rehearsal
ATTACH;FMTTYPE=image/jpeg:https://njmbc1906.org/wp-content/uploads/2023/02/Choir_Ministry_Graphic_New_Jerusalem_Church_Calendar_Thumbnails-1.jpg
ORGANIZER;CN="Sis. Shequeta Wells Murphy":MAILTO:choirministry@njmbc1906.org
END:VEVENT
BEGIN:VEVENT
DTSTART;TZID=America/Chicago:20280912T180000
DTEND;TZID=America/Chicago:20280912T190000
DTSTAMP:20260420T004506
CREATED:20230220T022907Z
LAST-MODIFIED:20231005T211108Z
UID:10001441-1852394400-1852398000@njmbc1906.org
SUMMARY:Choir Rehearsal
DESCRIPTION:Adult Choir Rehearsal is held every Tuesday of the month. We have a men’s choir rehearsal when there’s a 5th Sunday in the month. Youth Choir rehearsals are typically the 2nd Tuesday and/or Thursday before Youth Sunday. If you’re interested in learning more or joining the choir ministry\, please visit this page – https://njmbc1906.org/choir-music-ministry/. Also\, if you’re a New Jerusalem member\, and haven’t signed up to receive text messages\, you can sign-up at this link – https://njmbc1906.org/contact/#receivetextmessages. This will help keep you in the overall loop of ministry updates / changes\, events and other things going on at NJMBC.
URL:https://njmbc1906.org/event/choir-rehearsal/2028-09-12/
CATEGORIES:Choir Rehearsal
ATTACH;FMTTYPE=image/jpeg:https://njmbc1906.org/wp-content/uploads/2023/02/Choir_Ministry_Graphic_New_Jerusalem_Church_Calendar_Thumbnails-1.jpg
ORGANIZER;CN="Sis. Shequeta Wells Murphy":MAILTO:choirministry@njmbc1906.org
END:VEVENT
BEGIN:VEVENT
DTSTART;TZID=America/Chicago:20280919T180000
DTEND;TZID=America/Chicago:20280919T190000
DTSTAMP:20260420T004506
CREATED:20230220T022907Z
LAST-MODIFIED:20231005T211108Z
UID:10001442-1852999200-1853002800@njmbc1906.org
SUMMARY:Choir Rehearsal
DESCRIPTION:Adult Choir Rehearsal is held every Tuesday of the month. We have a men’s choir rehearsal when there’s a 5th Sunday in the month. Youth Choir rehearsals are typically the 2nd Tuesday and/or Thursday before Youth Sunday. If you’re interested in learning more or joining the choir ministry\, please visit this page – https://njmbc1906.org/choir-music-ministry/. Also\, if you’re a New Jerusalem member\, and haven’t signed up to receive text messages\, you can sign-up at this link – https://njmbc1906.org/contact/#receivetextmessages. This will help keep you in the overall loop of ministry updates / changes\, events and other things going on at NJMBC.
URL:https://njmbc1906.org/event/choir-rehearsal/2028-09-19/
CATEGORIES:Choir Rehearsal
ATTACH;FMTTYPE=image/jpeg:https://njmbc1906.org/wp-content/uploads/2023/02/Choir_Ministry_Graphic_New_Jerusalem_Church_Calendar_Thumbnails-1.jpg
ORGANIZER;CN="Sis. Shequeta Wells Murphy":MAILTO:choirministry@njmbc1906.org
END:VEVENT
BEGIN:VEVENT
DTSTART;TZID=America/Chicago:20280926T180000
DTEND;TZID=America/Chicago:20280926T190000
DTSTAMP:20260420T004506
CREATED:20230220T022907Z
LAST-MODIFIED:20231005T211108Z
UID:10001443-1853604000-1853607600@njmbc1906.org
SUMMARY:Choir Rehearsal
DESCRIPTION:Adult Choir Rehearsal is held every Tuesday of the month. We have a men’s choir rehearsal when there’s a 5th Sunday in the month. Youth Choir rehearsals are typically the 2nd Tuesday and/or Thursday before Youth Sunday. If you’re interested in learning more or joining the choir ministry\, please visit this page – https://njmbc1906.org/choir-music-ministry/. Also\, if you’re a New Jerusalem member\, and haven’t signed up to receive text messages\, you can sign-up at this link – https://njmbc1906.org/contact/#receivetextmessages. This will help keep you in the overall loop of ministry updates / changes\, events and other things going on at NJMBC.
URL:https://njmbc1906.org/event/choir-rehearsal/2028-09-26/
CATEGORIES:Choir Rehearsal
ATTACH;FMTTYPE=image/jpeg:https://njmbc1906.org/wp-content/uploads/2023/02/Choir_Ministry_Graphic_New_Jerusalem_Church_Calendar_Thumbnails-1.jpg
ORGANIZER;CN="Sis. Shequeta Wells Murphy":MAILTO:choirministry@njmbc1906.org
END:VEVENT
BEGIN:VEVENT
DTSTART;TZID=America/Chicago:20281003T180000
DTEND;TZID=America/Chicago:20281003T190000
DTSTAMP:20260420T004506
CREATED:20230220T022907Z
LAST-MODIFIED:20231005T211108Z
UID:10001444-1854208800-1854212400@njmbc1906.org
SUMMARY:Choir Rehearsal
DESCRIPTION:Adult Choir Rehearsal is held every Tuesday of the month. We have a men’s choir rehearsal when there’s a 5th Sunday in the month. Youth Choir rehearsals are typically the 2nd Tuesday and/or Thursday before Youth Sunday. If you’re interested in learning more or joining the choir ministry\, please visit this page – https://njmbc1906.org/choir-music-ministry/. Also\, if you’re a New Jerusalem member\, and haven’t signed up to receive text messages\, you can sign-up at this link – https://njmbc1906.org/contact/#receivetextmessages. This will help keep you in the overall loop of ministry updates / changes\, events and other things going on at NJMBC.
URL:https://njmbc1906.org/event/choir-rehearsal/2028-10-03/
CATEGORIES:Choir Rehearsal
ATTACH;FMTTYPE=image/jpeg:https://njmbc1906.org/wp-content/uploads/2023/02/Choir_Ministry_Graphic_New_Jerusalem_Church_Calendar_Thumbnails-1.jpg
ORGANIZER;CN="Sis. Shequeta Wells Murphy":MAILTO:choirministry@njmbc1906.org
END:VEVENT
END:VCALENDAR